Workbook

Sheet Forma de citar

Sheet datos
A1: EXPERIMENTO MALTA; cuatro dietas
A2: Componentes de la hemolinfa
A3: Nota: Las evaluaciones se realizaron en el espectofotometro por lo cual se hicieron por series
A4: se calcularon los valores conciderando las respectivas D.O de blanco y estandar
A8: Primera vuelta | AK8: Segunda vuelta
A9: DIETA F4 | B9: 36286 | J9: DIETA F3 | K9: 36287 | S9: DIETA F2 | T9: 36288 | AB9: DIETA F1 | AC9: 36292 | AK9: DIETA F4 | AL9: 36293 | AT9: DIETA F3 | AU9: 36294 | BC9: DIETA F2 | BD9: 36297 | BL9: DIETA F1 | BM9: 36299
A10: PROTEINAS | J10: PROTEINAS | S10: PROTEINAS | AB10: PROTEINAS | AK10: PROTEINAS | AT10: PROTEINAS | BC10: PROTEINAS | BL10: PROTEINAS
S11: nm | T11: 595 | AB11: nm | AC11: 595 | AK11: nm | AL11: 595 | AT11: nm | AU11: 595 | BC11: nm | BD11: 595
A12: nm | B12: 595 | J12: nm | K12: 595 | S12: bco(ajustado) | T12: 0.625 | U12: 0.639 | AB12: bco(ajustado) | AC12: 0.584 | AD12: 0.584 | AK12: bco(ajustado) | AL12: 0.732 | AM12: 0.574 | AT12: bco(ajustado) | AU12: 0.556 | AV12: 0.568 | BC12: bco(ajustado) | BD12: 0.571 | BE12: 0.577 | BL12: nm | BM12: 595
A13: bco(ajustado) | B13: 0.674 | C13: 0.623 | J13: bco(ajustado) | K13: 0.694 | L13: 0.627 | S13: std | T13: 1.48 | U13: 1.245 | Y13: (I:500) | AB13: std | AC13: 1.205 | AD13: 1.195 | AH13: (I:500) | AK13: std | AL13: 1.085 | AM13: 1.35 | AQ13: (I:500) | AT13: std | AU13: 1.235 | AV13: 1.355 | AZ13: (I:500) | BC13: std | BD13: 1.29 | BE13: 1.36 | BH13: (I:500) | BL13: bco(ajustado) | BM13: 0.554 | BR13: (I:500)
A14: std | B14: 1.27 | C14: 1.2 | G14: (I:500) | J14: std | K14: 1.028 | L14: 1.2 | P14: (I:500) | U14: D.O. | V14: D.O. | W14: PROM | X14: Dilution fac | Y14: mg/mL | Z14: serie | AD14: D.O. | AE14: D.O. | AF14: PROM | AG14: Dilution fac | AH14: mg/mL | AI14: serie | AM14: D.O. | AN14: D.O. | AO14: PROM | AP14: Dilution fac | AQ14: mg/mL | AR14: serie | AV14: D.O. | AW14: D.O. | AX14: PROM | AY14: Dilution fac | AZ14: mg/mL | BA14: serie | BE14: D.O. | BF14: D.O. | BG14: PROM | BH14: Dilution fac | BI14: mg/mL | BJ14: serie | BL14: std | BM14: 1.24
C15: D.O. | D15: D.O. | E15: PROM | F15: Dilution factor | G15: mg/mL | H15: serie | L15: D.O. | M15: D.O. | N15: PROM | O15: Dilution fac | P15: mg/mL | Q15: serie | S15: Tara | T15: 1 | U15: 0.352 | V15: 0.375 | W15: =+AVERAGE(U15:V15) -> 0.3635 | X15: 3 | Y15: =+(W15/T$13)*0.3*X15*500 -> 110.52365 | Z15: a | AB15: Tara | AC15: 1 | AD15: 0.468 | AE15: 0.473 | AF15: =+AVERAGE(AD15:AE15) -> 0.4705 | AG15: 3 | AH15: =+(AF15/AC$13)*0.3*AG15*500 -> 175.70539 | AI15: a | AK15: Tara | AL15: 1 | AM15: 0.457 | AN15: 0.457 | AO15: =+AVERAGE(AM15:AN15) -> 0.457 | AP15: 3 | AQ15: =+(AO15/AL$13)*0.3*AP15*500 -> 189.53917 | AR15: a | AT15: Tara | AU15: 1 | AV15: 0.51 | AW15: 0.524 | AX15: =+AVERAGE(AV15:AW15) -> 0.517 | AY15: 3 | AZ15: =+(AX15/AU$13)*0.3*AY15*500 -> 188.38057 | BA15: a | BC15: Tara | BD15: 1 | BE15: 0.589 | BF15: 0.573 | BG15: =+AVERAGE(BE15:BF15) -> 0.581 | BH15: 3 | BI15: =+(BG15/BD$13)*0.3*BH15*500 -> 202.67442 | BJ15: a | BN15: D.O. | BO15: D.O. | BP15: PROM | BQ15: Dilution factor | BR15: mg/mL | BS15: serie
A16: Tara | B16: 1 | C16: 0.836 | D16: 0.598 | E16: =+AVERAGE(C16:D16) -> 0.717 | F16: 3 | G16: =+(E16/B$14)*0.3*F16*500 -> 254.05512 | H16: a | J16: Tara | K16: 1 | L16: 0.692 | M16: 0.438 | N16: =+AVERAGE(L16:M16) -> 0.565 | O16: 3 | P16: =+(N16/K$14)*0.3*O16*500 -> 247.3249 | Q16: a | T16: 2 | U16: 0.617 | V16: 0.588 | W16: =+AVERAGE(U16:V16) -> 0.6025 | X16: 3 | Y16: =+(W16/T$13)*0.3*X16*500 -> 183.19257 | Z16: a | AC16: 2 | AD16: 0.492 | AE16: 0.467 | AF16: =+AVERAGE(AD16:AE16) -> 0.4795 | AG16: 3 | AH16: =+(AF16/AC$13)*0.3*AG16*500 -> 179.06639 | AI16: a | AL16: 2 | AM16: 0.498 | AN16: 0.508 | AO16: =+AVERAGE(AM16:AN16) -> 0.503 | AP16: 3 | AQ16: =+(AO16/AL$13)*0.3*AP16*500 -> 208.61751 | AR16: a | AU16: 2 | AV16: 0.374 | AW16: 0.387 | AX16: =+AVERAGE(AV16:AW16) -> 0.3805 | AY16: 3 | AZ16: =+(AX16/AU$13)*0.3*AY16*500 -> 138.64372 | BA16: a | BD16: 2 | BE16: 0.584 | BF16: 0.57 | BG16: =+AVERAGE(BE16:BF16) -> 0.577 | BH16: 3 | BI16: =+(BG16/BD$13)*0.3*BH16*500 -> 201.27907 | BJ16: a | BL16: Camaras | BM16: 1 | BN16: 0.501 | BO16: 0.465 | BP16: =+AVERAGE(BN16:BO16) -> 0.483 | BQ16: 3 | BR16: =+(BP16/BM$14)*0.3*BQ16*500 -> 175.28226 | BS16: a
B17: 2 | C17: 1.135 | D17: 1.022 | E17: =+AVERAGE(C17:D17) -> 1.0785 | F17: 3 | G17: =+(E17/B$14)*0.3*F17*500 -> 382.14567 | H17: a | K17: 2 | L17: 0.544 | M17: 0.318 | N17: =+AVERAGE(L17:M17) -> 0.431 | O17: 3 | P17: =+(N17/K$14)*0.3*O17*500 -> 188.66732 | Q17: a | T17: 3 | U17: 0.454 | V17: 0.502 | W17: =+AVERAGE(U17:V17) -> 0.478 | X17: 3 | Y17: =+(W17/T$13)*0.3*X17*500 -> 145.33784 | Z17: a | AC17: 3 | AD17: 0.403 | AE17: 0.426 | AF17: =+AVERAGE(AD17:AE17) -> 0.4145 | AG17: 3 | AH17: =+(AF17/AC$13)*0.3*AG17*500 -> 154.79253 | AI17: a | AL17: 3 | AM17: 0.439 | AN17: 0.402 | AO17: =+AVERAGE(AM17:AN17) -> 0.4205 | AP17: 3 | AQ17: =+(AO17/AL$13)*0.3*AP17*500 -> 174.40092 | AR17: a | AU17: 3 | AV17: 0.413 | AW17: 0.449 | AX17: =+AVERAGE(AV17:AW17) -> 0.431 | AY17: 3 | AZ17: =+(AX17/AU$13)*0.3*AY17*500 -> 157.04453 | BA17: a | BD17: 3 | BE17: 0.423 | BF17: 0.416 | BG17: =+AVERAGE(BE17:BF17) -> 0.4195 | BH17: 3 | BI17: =+(BG17/BD$13)*0.3*BH17*500 -> 146.33721 | BJ17: a | BM17: 2 | BS17: a
B18: 3 | C18: 1.085 | D18: 0.794 | E18: =+AVERAGE(C18:D18) -> 0.9395 | F18: 3 | G18: =+(E18/B$14)*0.3*F18*500 -> 332.8937 | H18: a | K18: 3 | L18: 0.403 | N18: =+AVERAGE(L18:M18) -> 0.403 | O18: 3 | P18: =+(N18/K$14)*0.3*O18*500 -> 176.41051 | Q18: a | T18: 4 | U18: 0.429 | V18: 0.436 | W18: =+AVERAGE(U18:V18) -> 0.4325 | X18: 3 | Y18: =+(W18/T$13)*0.3*X18*500 -> 131.50338 | Z18: a | AC18: 4 | AD18: 0.608 | AE18: 0.589 | AF18: =+AVERAGE(AD18:AE18) -> 0.5985 | AG18: 3 | AH18: =+(AF18/AC$13)*0.3*AG18*500 -> 223.50622 | AI18: a | AL18: 4 | AM18: 0.494 | AN18: 0.496 | AO18: =+AVERAGE(AM18:AN18) -> 0.495 | AP18: 3 | AQ18: =+(AO18/AL$13)*0.3*AP18*500 -> 205.29954 | AR18: a | AU18: 4 | AV18: 0.532 | AW18: 0.523 | AX18: =+AVERAGE(AV18:AW18) -> 0.5275 | AY18: 3 | AZ18: =+(AX18/AU$13)*0.3*AY18*500 -> 192.20648 | BA18: a | BD18: 4 | BE18: 0.438 | BF18: 0.428 | BG18: =+AVERAGE(BE18:BF18) -> 0.433 | BH18: 3 | BI18: =+(BG18/BD$13)*0.3*BH18*500 -> 151.04651 | BJ18: a | BM18: 3 | BN18: 0.565 | BO18: 0.561 | BP18: =+AVERAGE(BN18:BO18) -> 0.563 | BQ18: 3 | BR18: =+(BP18/BM$14)*0.3*BQ18*500 -> 204.31452 | BS18: a
B19: 4 | C19: 1.315 | D19: 1.46 | E19: =+AVERAGE(C19:D19) -> 1.3875 | F19: 3 | G19: =+(E19/B$14)*0.3*F19*500 -> 491.63386 | H19: a | K19: 4 | L19: 0.338 | M19: 0.338 | N19: =+AVERAGE(L19:M19) -> 0.338 | O19: 3 | P19: =+(N19/K$14)*0.3*O19*500 -> 147.9572 | Q19: a | T19: 5 | U19: 0.529 | V19: 0.576 | W19: =+AVERAGE(U19:V19) -> 0.5525 | X19: 3 | Y19: =+(W19/T$13)*0.3*X19*500 -> 167.98986 | Z19: a | AC19: 5 | AD19: 0.434 | AE19: 0.409 | AF19: =+AVERAGE(AD19:AE19) -> 0.4215 | AG19: 3 | AH19: =+(AF19/AC$13)*0.3*AG19*500 -> 157.40664 | AI19: a | AL19: 5 | AM19: 0.356 | AN19: 0.38 | AO19: =+AVERAGE(AM19:AN19) -> 0.368 | AP19: 3 | AQ19: =+(AO19/AL$13)*0.3*AP19*500 -> 152.62673 | AR19: a | AU19: 5 | AV19: 0.505 | AW19: 0.513 | AX19: =+AVERAGE(AV19:AW19) -> 0.509 | AY19: 3 | AZ19: =+(AX19/AU$13)*0.3*AY19*500 -> 185.46559 | BA19: a | BD19: 5 | BE19: 0.388 | BF19: 0.401 | BG19: =+AVERAGE(BE19:BF19) -> 0.3945 | BH19: 3.6 | BI19: =+(BG19/BD$13)*0.3*BH19*500 -> 165.13953 | BJ19: a | BM19: 4 | BN19: 0.393 | BO19: 0.381 | BP19: =+AVERAGE(BN19:BO19) -> 0.387 | BQ19: 3 | BR19: =+(BP19/BM$14)*0.3*BQ19*500 -> 140.44355 | BS19: a
B20: 5 | C20: 0.968 | D20: 0.928 | E20: =+AVERAGE(C20:D20) -> 0.948 | F20: 3 | G20: =+(E20/B$14)*0.3*F20*500 -> 335.90551 | H20: a | K20: 5 | L20: 0.483 | M20: 0.463 | N20: =+AVERAGE(L20:M20) -> 0.473 | O20: 3 | P20: =+(N20/K$14)*0.3*O20*500 -> 207.05253 | Q20: a | S20: Camaras 1 | T20: 6 | U20: 0.5 | V20: 0.496 | W20: =+AVERAGE(U20:V20) -> 0.498 | X20: 3 | Y20: =+(W20/T$13)*0.3*X20*500 -> 151.41892 | Z20: a | AB20: Camaras 1 | AC20: 6 | AD20: 0.538 | AE20: 0.568 | AF20: =+AVERAGE(AD20:AE20) -> 0.553 | AG20: 3 | AH20: =+(AF20/AC$13)*0.3*AG20*500 -> 206.51452 | AI20: a | AK20: Camaras 1 | AL20: 6 | AM20: 0.452 | AN20: 0.426 | AO20: =+AVERAGE(AM20:AN20) -> 0.439 | AP20: 3 | AQ20: =+(AO20/AL$13)*0.3*AP20*500 -> 182.07373 | AR20: a | AT20: Camaras 1 | AU20: 6 | AV20: 0.476 | AW20: 0.462 | AX20: =+AVERAGE(AV20:AW20) -> 0.469 | AY20: 3 | AZ20: =+(AX20/AU$13)*0.3*AY20*500 -> 170.89069 | BA20: a | BC20: Camaras 1 | BD20: 6 | BE20: 0.396 | BF20: 0.376 | BG20: =+AVERAGE(BE20:BF20) -> 0.386 | BH20: 3 | BI20: =+(BG20/BD$13)*0.3*BH20*500 -> 134.65116 | BJ20: a | BM20: 5 | BN20: 0.502 | BO20: 0.503 | BP20: =+AVERAGE(BN20:BO20) -> 0.5025 | BQ20: 3 | BR20: =+(BP20/BM$14)*0.3*BQ20*500 -> 182.35887 | BS20: a
A21: Camaras 1 | B21: 6 | H21: b | J21: Camaras 1 | K21: 6 | Q21: a | S21: 2 | T21: 7 | U21: 0.371 | V21: 0.378 | W21: =+AVERAGE(U21:V21) -> 0.3745 | X21: 3 | Y21: =+(W21/U$13)*0.3*X21*500 -> 135.36145 | Z21: b | AB21: 2 | AC21: 7 | AD21: 0.499 | AE21: 0.491 | AF21: =+AVERAGE(AD21:AE21) -> 0.495 | AG21: 3 | AH21: =+(AF21/AC$13)*0.3*AG21*500 -> 184.85477 | AI21: a | AK21: 2 | AL21: 7 | AM21: 0.428 | AN21: 0.442 | AO21: =+AVERAGE(AM21:AN21) -> 0.435 | AP21: 3 | AQ21: =+(AO21/AL$13)*0.3*AP21*500 -> 180.41475 | AR21: a | AT21: 2 | AU21: 7 | AV21: 0.459 | AW21: 0.453 | AX21: =+AVERAGE(AV21:AW21) -> 0.456 | AY21: 3 | AZ21: =+(AX21/AU$13)*0.3*AY21*500 -> 166.15385 | BA21: a | BC21: 2 | BD21: 7 | BE21: 0.578 | BF21: 0.519 | BG21: =+AVERAGE(BE21:BF21) -> 0.5485 | BH21: 3 | BI21: =+(BG21/BD$13)*0.3*BH21*500 -> 191.33721 | BJ21: a | BM21: 6 | BN21: 0.332 | BO21: 0.327 | BP21: =+AVERAGE(BN21:BO21) -> 0.3295 | BQ21: 3 | BR21: =+(BP21/BM$14)*0.3*BQ21*500 -> 119.57661 | BS21: a
A22: 2 | B22: 7 | C22: 0.706 | D22: 0.712 | E22: =+AVERAGE(C22:D22) -> 0.709 | F22: 3 | G22: =+(E22/C$14)*0.3*F22*500 -> 265.875 | H22: b | J22: 2 | K22: 7 | L22: 0.463 | M22: 0.483 | N22: =+AVERAGE(L22:M22) -> 0.473 | O22: 3 | P22: =+(N22/K$14)*0.3*O22*500 -> 207.05253 | Q22: a | S22: 3 | T22: 8 | U22: 0.692 | V22: 0.764 | W22: =+AVERAGE(U22:V22) -> 0.728 | X22: 3 | Y22: =+(W22/U$13)*0.3*X22*500 -> 263.13253 | Z22: b | AB22: 3 | AC22: 8 | AD22: 0.474 | AE22: 0.457 | AF22: =+AVERAGE(AD22:AE22) -> 0.4655 | AG22: 3 | AH22: =+(AF22/AD$13)*0.3*AG22*500 -> 175.29289 | AI22: b | AK22: 3 | AL22: 8 | AM22: 0.564 | AN22: 0.602 | AO22: =+AVERAGE(AM22:AN22) -> 0.583 | AP22: 3 | AQ22: =+(AO22/AM$13)*0.3*AP22*500 -> 194.33333 | AR22: b | AT22: 3 | AU22: 8 | AV22: 0.299 | AW22: 0.288 | AX22: =+AVERAGE(AV22:AW22) -> 0.2935 | AY22: 3.6 | AZ22: =+(AX22/AU$13)*0.3*AY22*500 -> 128.33198 | BA22: a | BC22: 3 | BD22: 8 | BE22: 0.476 | BF22: 0.412 | BG22: =+AVERAGE(BE22:BF22) -> 0.444 | BH22: 3 | BI22: =+(BG22/BE$13)*0.3*BH22*500 -> 146.91176 | BJ22: b | BM22: 7 | BN22: 0.577 | BO22: 0.53 | BP22: =+AVERAGE(BN22:BO22) -> 0.5535 | BQ22: 3 | BR22: =+(BP22/BM$14)*0.3*BQ22*500 -> 200.86694 | BS22: a
A23: 3 | B23: 8 | F23: 3 | H23: b | J23: 3 | K23: 8 | L23: 0.51 | M23: 0.512 | N23: =+AVERAGE(L23:M23) -> 0.511 | O23: 3 | P23: =+(N23/L$14)*0.3*O23*500 -> 191.625 | Q23: b | S23: 4 | T23: 9 | U23: 0.722 | V23: 0.603 | W23: =+AVERAGE(U23:V23) -> 0.6625 | X23: 3 | Y23: =+(W23/U$13)*0.3*X23*500 -> 239.45783 | Z23: b | AB23: 4 | AC23: 9 | AD23: 0.488 | AE23: 0.485 | AF23: =+AVERAGE(AD23:AE23) -> 0.4865 | AG23: 3 | AH23: =+(AF23/AD$13)*0.3*AG23*500 -> 183.20084 | AI23: b | AK23: 4 | AL23: 9 | AM23: 0.987 | AN23: 1.004 | AO23: =+AVERAGE(AM23:AN23) -> 0.9955 | AP23: 3 | AQ23: =+(AO23/AM$13)*0.3*AP23*500 -> 331.83333 | AR23: b | AT23: 4 | AU23: 9 | AV23: 0.278 | AW23: 0.408 | AX23: =+AVERAGE(AV23:AW23) -> 0.343 | AY23: 3.6 | AZ23: =+(AX23/AV$13)*0.3*AY23*500 -> 136.69373 | BA23: b | BC23: 4 | BD23: 9 | BE23: 0.421 | BF23: 0.416 | BG23: =+AVERAGE(BE23:BF23) -> 0.4185 | BH23: 3 | BI23: =+(BG23/BE$13)*0.3*BH23*500 -> 138.47426 | BJ23: b | BM23: 8 | BN23: 0.72 | BO23: 0.71 | BP23: =+AVERAGE(BN23:BO23) -> 0.715 | BQ23: 3 | BR23: =+(BP23/BM$14)*0.3*BQ23*500 -> 259.47581 | BS23: a
A24: 4 | B24: 9 | C24: 0.726 | D24: 0.648 | E24: =+AVERAGE(C24:D24) -> 0.687 | F24: 3 | G24: =+(E24/C$14)*0.3*F24*500 -> 257.625 | H24: b | J24: 4 | K24: 9 | Q24: b | S24: 5 | T24: 10 | U24: 0.436 | V24: 0.484 | W24: =+AVERAGE(U24:V24) -> 0.46 | X24: 3 | Y24: =+(W24/U$13)*0.3*X24*500 -> 166.26506 | Z24: b | AB24: 5 | AC24: 10 | AD24: 0.398 | AE24: 0.394 | AF24: =+AVERAGE(AD24:AE24) -> 0.396 | AG24: 3 | AH24: =+(AF24/AD$13)*0.3*AG24*500 -> 149.12134 | AI24: b | AK24: 5 | AL24: 10 | AM24: 0.83 | AN24: 0.814 | AO24: =+AVERAGE(AM24:AN24) -> 0.822 | AP24: 3 | AQ24: =+(AO24/AM$13)*0.3*AP24*500 -> 274 | AR24: b | AT24: 5 | AU24: 10 | AV24: 0.465 | AW24: 0.443 | AX24: =+AVERAGE(AV24:AW24) -> 0.454 | AY24: 3 | AZ24: =+(AX24/AV$13)*0.3*AY24*500 -> 150.77491 | BA24: b | BC24: 5 | BD24: 10 | BE24: 0.602 | BF24: 0.55 | BG24: =+AVERAGE(BE24:BF24) -> 0.576 | BH24: 3 | BI24: =+(BG24/BE$13)*0.3*BH24*500 -> 190.58824 | BJ24: b
A25: 5 | B25: 10 | C25: 0.673 | E25: =+AVERAGE(C25:D25) -> 0.673 | F25: 3 | G25: =+(E25/C$14)*0.3*F25*500 -> 252.375 | H25: b | J25: 5 | K25: 10 | L25: 0.379 | M25: 0.4 | N25: =+AVERAGE(L25:M25) -> 0.3895 | O25: 3 | P25: =+(N25/L$14)*0.3*O25*500 -> 146.0625 | Q25: b | S25: 6 | T25: 11 | U25: 0.583 | V25: 0.574 | W25: =+AVERAGE(U25:V25) -> 0.5785 | X25: 3 | Y25: =+(W25/U$13)*0.3*X25*500 -> 209.09639 | Z25: b | AB25: 6 | AC25: 11 | AD25: 0.506 | AE25: 0.469 | AF25: =+AVERAGE(AD25:AE25) -> 0.4875 | AG25: 3 | AH25: =+(AF25/AD$13)*0.3*AG25*500 -> 183.57741 | AI25: b | AK25: 6 | AL25: 11 | AM25: 0.673 | AN25: 0.702 | AO25: =+AVERAGE(AM25:AN25) -> 0.6875 | AP25: 3 | AQ25: =+(AO25/AM$13)*0.3*AP25*500 -> 229.16667 | AR25: b | AT25: 6 | AU25: 11 | AV25: 0.742 | AW25: 0.673 | AX25: =+AVERAGE(AV25:AW25) -> 0.7075 | AY25: 3 | AZ25: =+(AX25/AV$13)*0.3*AY25*500 -> 234.9631 | BA25: b | BC25: 6 | BD25: 11 | BE25: 0.351 | BF25: 0.338 | BG25: =+AVERAGE(BE25:BF25) -> 0.3445 | BH25: 3 | BI25: =+(BG25/BE$13)*0.3*BH25*500 -> 113.98897 | BJ25: b | BL25: no. | BM25: 7 | BQ25: Promedio | BR25: =+AVERAGE(BR18:BR23) -> 184.50605
A26: 6 | B26: 11 | C26: 0.738 | D26: 0.756 | E26: =+AVERAGE(C26:D26) -> 0.747 | F26: 3 | G26: =+(E26/C$14)*0.3*F26*500 -> 280.125 | H26: b | J26: 6 | K26: 11 | L26: 0.322 | M26: 0.349 | N26: =+AVERAGE(L26:M26) -> 0.3355 | O26: 3 | P26: =+(N26/L$14)*0.3*O26*500 -> 125.8125 | Q26: b | S26: 7 | T26: 12 | Z26: b | AB26: 7 | AC26: 12 | AD26: 0.347 | AE26: 0.32 | AF26: =+AVERAGE(AD26:AE26) -> 0.3335 | AG26: 3 | AH26: =+(AF26/AD$13)*0.3*AG26*500 -> 125.58577 | AI26: b | AK26: 7 | AL26: 12 | AR26: b | AT26: 7 | AU26: 12 | AV26: 0.345 | AW26: 0.347 | AX26: =+AVERAGE(AV26:AW26) -> 0.346 | AY26: 3 | AZ26: =+(AX26/AV$13)*0.3*AY26*500 -> 114.90775 | BA26: b | BC26: 7 | BD26: 12 | BE26: 0.387 | BF26: 0.375 | BG26: =+AVERAGE(BE26:BF26) -> 0.381 | BH26: 3 | BI26: =+(BG26/BE$13)*0.3*BH26*500 -> 126.06618 | BJ26: b | BQ26: Des. vest | BR26: =+STDEV(BR16:BR23) -> 45.671634
A27: 7 | B27: 12 | F27: 3 | H27: b | J27: 7 | K27: 12 | L27: 0.382 | M27: 0.335 | N27: =+AVERAGE(L27:M27) -> 0.3585 | O27: 3 | P27: =+(N27/L$14)*0.3*O27*500 -> 134.4375 | Q27: b | S27: 8 | T27: 13 | U27: 0.252 | V27: 0.231 | W27: =+AVERAGE(U27:V27) -> 0.2415 | X27: 3 | Y27: =+(W27/U$13)*0.3*X27*500 -> 87.289157 | Z27: b | AB27: 8 | AC27: 13 | AD27: 0.575 | AE27: 0.592 | AF27: =+AVERAGE(AD27:AE27) -> 0.5835 | AG27: 3 | AH27: =+(AF27/AD$13)*0.3*AG27*500 -> 219.72803 | AI27: b | AK27: 8 | AL27: 13 | AM27: 0.374 | AN27: 0.32 | AO27: =+AVERAGE(AM27:AN27) -> 0.347 | AP27: 3 | AQ27: =+(AO27/AM$13)*0.3*AP27*500 -> 115.66667 | AR27: b | AT27: 8 | AU27: 13 | AV27: 0.409 | AW27: 0.394 | AX27: =+AVERAGE(AV27:AW27) -> 0.4015 | AY27: 3 | AZ27: =+(AX27/AV$13)*0.3*AY27*500 -> 133.33948 | BA27: b | BC27: 8 | BD27: 13 | BE27: 0.285 | BF27: 0.261 | BG27: =+AVERAGE(BE27:BF27) -> 0.273 | BH27: 3.6 | BI27: =+(BG27/BE$13)*0.3*BH27*500 -> 108.39706 | BJ27: b | BQ27: E,S | BR27: =+(BR26/SQRT(BM25)) -> 17.262255
A28: 8 | B28: 13 | C28: 0.645 | D28: 0.64 | E28: =+AVERAGE(C28:D28) -> 0.6425 | F28: 3 | G28: =+(E28/C$14)*0.3*F28*500 -> 240.9375 | H28: b | J28: 8 | K28: 13 | L28: 0.322 | M28: 0.319 | N28: =+AVERAGE(L28:M28) -> 0.3205 | O28: 3 | P28: =+(N28/L$14)*0.3*O28*500 -> 120.1875 | Q28: b | S28: 9 | T28: 14 | U28: 0.497 | V28: 0.477 | W28: =+AVERAGE(U28:V28) -> 0.487 | X28: 3 | Y28: =+(W28/U$13)*0.3*X28*500 -> 176.0241 | Z28: b | AB28: 9 | AC28: 14 | AD28: 0.482 | AE28: 0.473 | AF28: =+AVERAGE(AD28:AE28) -> 0.4775 | AG28: 3 | AH28: =+(AF28/AD$13)*0.3*AG28*500 -> 179.81172 | AI28: b | AK28: 9 | AL28: 14 | AM28: 0.568 | AN28: 0.648 | AO28: =+AVERAGE(AM28:AN28) -> 0.608 | AP28: 3 | AQ28: =+(AO28/AM$13)*0.3*AP28*500 -> 202.66667 | AR28: b | AT28: 9 | AU28: 14 | AV28: 0.476 | AW28: 0.502 | AX28: =+AVERAGE(AV28:AW28) -> 0.489 | AY28: 3 | AZ28: =+(AX28/AV$13)*0.3*AY28*500 -> 162.39852 | BA28: b | BC28: 9 | BD28: 14 | BE28: 0.468 | BF28: 0.472 | BG28: =+AVERAGE(BE28:BF28) -> 0.47 | BH28: 3.6 | BI28: =+(BG28/BE$13)*0.3*BH28*500 -> 186.61765 | BJ28: b | BQ28: % E.S. | BR28: =+(BR27/BR25)*100 -> 9.3559291
A29: 9 | B29: 14 | H29: b | J29: 9 | K29: 14 | Q29: b | AL29: pool | AM29: 0.438 | AN29: 0.422 | AO29: =+AVERAGE(AM29:AN29) -> 0.43 | AP29: 3 | AQ29: =+(AO29/AM$13)*0.3*AP29*500 -> 143.33333 | AR29: b | AU29: pool | AV29: 0.548 | AW29: 0.585 | AX29: =+AVERAGE(AV29:AW29) -> 0.5665 | AY29: 3 | AZ29: =+(AX29/AV$13)*0.3*AY29*500 -> 188.13653 | BA29: b
S30: no. | T30: 13 | X30: Promedio | Y30: =+AVERAGE(Y15:Y28) -> 166.66098 | AB30: no. | AC30: 14 | AG30: Promedio | AH30: =+AVERAGE(AH15:AH28) -> 178.44032 | BC30: no. | BD30: 13 | BH30: Promedio | BI30: =+AVERAGE(BI15:BI28) -> 157.39352
A31: no. | B31: 10 | F31: Promedio | G31: =+AVERAGE(G16:G29) -> 309.35714 | J31: no. | K31: 11 | N31: Promedio | P31: =+AVERAGE(P16:P29) -> 172.05363 | X31: Des. vest | Y31: =+STDEV(Y15:Y28) -> 49.264414 | AG31: Des. vest | AH31: =+STDEV(AH15:AH28) -> 26.730086 | AK31: no. | AL31: 13 | AP31: Promedio | AQ31: =+AVERAGE(AQ15:AQ28) -> 203.12608 | AT31: no. | AU31: 14 | AY31: Promedio | AZ31: =+AVERAGE(AZ15:AZ28) -> 161.44249 | BH31: Des. vest | BI31: =+STDEV(BI15:BI28) -> 32.294286
F32: Des. vest | G32: =+STDEV(G16:G29) -> 79.014564 | N32: Des. vest | P32: =+STDEV(P16:P29) -> 40.364754 | X32: E,S | Y32: =+(Y31/SQRT(T30)) -> 13.66349 | AG32: E,S | AH32: =+(AH31/SQRT(AC30)) -> 7.143916 | AP32: Des. vest | AQ32: =+STDEV(AQ15:AQ28) -> 53.655742 | AY32: Des. vest | AZ32: =+STDEV(AZ15:AZ28) -> 31.724587 | BH32: E,S | BI32: =+(BI31/SQRT(BD30)) -> 8.9568235
F33: E,S | G33: =+(G32/SQRT(B31)) -> 24.986599 | N33: E,S | P33: =+(P32/SQRT(K31)) -> 12.170431 | X33: % E.S. | Y33: =+(Y32/Y30)*100 -> 8.1983739 | AG33: % E.S. | AH33: =+(AH32/AH30)*100 -> 4.0035324 | AP33: E,S | AQ33: =+(AQ32/SQRT(AL31)) -> 14.881425 | AY33: E,S | AZ33: =+(AZ32/SQRT(AU31)) -> 8.4787525 | BH33: % E.S. | BI33: =+(BI32/BI30)*100 -> 5.6907195
F34: % E.S. | G34: =+(G33/G31)*100 -> 8.0769428 | N34: % E.S. | P34: =+(P33/P31)*100 -> 7.0736263 | AP34: % E.S. | AQ34: =+(AQ33/AQ31)*100 -> 7.3262012 | AY34: % E.S. | AZ34: =+(AZ33/AZ31)*100 -> 5.2518717
A37: DIETA F4 | B37: 36286 | J37: DIETA F3 | K37: 36287 | S37: DIETA F2 | T37: 36293 | AB37: DIETA F1 | AC37: 36293 | AK37: DIETA F4 | AL37: 36293 | AT37: DIETA F3 | AU37: 36294 | BC37: DIETA F2 | BD37: 36297 | BL37: DIETA F1 | BM37: 36299
A38: LACTATO | J38: LACTATO | S38: LACTATO | AB38: LACTATO | AK38: LACTATO | AT38: LACTATO | BC38: LACTATO | BL38: LACTATO
S39: nm | T39: 540 | AB39: nm | AC39: 540 | BC39: nm | BD39: 540
A40: nm | B40: 540 | J40: nm | K40: 540 | S40: bco(ajustado) | T40: 0.101 | U40: 0.108 | AB40: bco(ajustado) | AC40: 0.091 | AD40: 0.182 | AK40: nm | AL40: 540 | AT40: nm | AU40: 540 | BC40: bco(ajustado) | BD40: 0.074 | BE40: 0.083 | BL40: nm | BM40: 540
A41: bco(ajustado) | B41: 0.135 | C41: 0.087 | J41: bco(ajustado) | K41: 0.096 | L41: 0.096 | S41: std | T41: 1.075 | U41: 0.874 | AB41: std | AC41: 1.01 | AD41: 0.988 | AK41: bco(ajustado) | AL41: -0.226 | AM41: 0.093 | AT41: bco(ajustado) | AU41: 0.082 | AV41: 0.096 | BC41: std | BD41: 0.916 | BE41: 1.012 | BL41: bco(ajustado) | BM41: 0.077
A42: std | B42: 0.866 | C42: 0.974 | J42: std | K42: 0.876 | L42: 0.836 | U42: D.O. | V42: Dilution fac | W42: mg/mL | X42: serie | AD42: D.O. | AE42: Dilution fac | AF42: mg/mL | AG42: serie | AK42: std | AL42: 0.098 | AM42: 0.907 | AT42: std | AU42: 0.934 | AV42: 1.01 | BE42: D.O. | BF42: Dilution fac | BG42: mg/mL | BH42: serie | BL42: std | BM42: 1.038
C43: D.O. | D43: Dilution factor | E43: mg/mL | F43: serie | L43: D.O. | M43: Dilution factor | N43: mg/mL | O43: serie | S43: Tara | T43: 1 | U43: 0.173 | V43: 3 | W43: =+(U43/T$41)*0.4*V43 -> 0.19311628 | X43: a | AB43: Tara | AC43: 1 | AD43: 0.082 | AE43: 3 | AF43: =+(AD43/AC$41)*0.4*AE43 -> 0.097425743 | AG43: a | AM43: D.O. | AN43: D.O. | AO43: PROM | AP43: Dilution fac | AQ43: mg/mL | AR43: serie | AV43: D.O. | AW43: D.O. | AX43: PROM | AY43: Dilution fac | AZ43: mg/mL | BA43: serie | BC43: Tara | BD43: 1 | BE43: 0.125 | BF43: 3 | BG43: =+(BE43/BD$41)*0.4*BF43 -> 0.16375546 | BH43: a | BN43: D.O. | BO43: Dilution fac | BP43: mg/mL | BQ43: serie
A44: Tara | B44: 1 | C44: 0.211 | D44: 3 | E44: =+(C44/B$42)*0.4*D44 -> 0.29237875 | F44: a | J44: Tara | K44: 1 | L44: 0.151 | M44: 3 | N44: =+(L44/K$42)*0.4*M44 -> 0.20684932 | O44: a | T44: 2 | U44: 0.193 | V44: 3 | W44: =+(U44/T$41)*0.4*V44 -> 0.21544186 | X44: a | AC44: 2 | AD44: 0.332 | AE44: 3 | AF44: =+(AD44/AC$41)*0.4*AE44 -> 0.39445545 | AG44: a | AK44: Tara | AL44: 1 | AP44: 3 | AR44: a | AT44: Tara | AU44: 1 | AV44: 0.096 | AW44: 0.086 | AX44: =+AVERAGE(AV44:AW44) -> 0.091 | AY44: 3 | AZ44: =+(AX44/AU$42)*0.3*AY44 -> 0.087687366 | BA44: a | BD44: 2 | BE44: 0.12 | BF44: 3 | BG44: =+(BE44/BD$41)*0.4*BF44 -> 0.15720524 | BH44: a | BL44: Camaras | BM44: 1 | BN44: 0.065 | BO44: 3 | BP44: =+(BN44/BM$42)*0.4*BO44 -> 0.075144509 | BQ44: a
B45: 2 | C45: 0.099 | D45: 3 | E45: =+(C45/B$42)*0.4*D45 -> 0.13718245 | F45: a | K45: 2 | L45: 0.193 | M45: 3 | N45: =+(L45/K$42)*0.4*M45 -> 0.26438356 | O45: a | T45: 3 | U45: 0.062 | V45: 3 | W45: =+(U45/T$41)*0.4*V45 -> 0.069209302 | X45: a | AC45: 3 | AD45: 0.126 | AE45: 3 | AF45: =+(AD45/AC$41)*0.4*AE45 -> 0.14970297 | AG45: a | AL45: 2 | AP45: 3 | AR45: a | AU45: 2 | AV45: 0.317 | AW45: 0.344 | AX45: =+AVERAGE(AV45:AW45) -> 0.3305 | AY45: 3 | AZ45: =+(AX45/AU$42)*0.3*AY45 -> 0.31846895 | BA45: a | BD45: 3 | BE45: 0.037 | BF45: 3 | BG45: =+(BE45/BD$41)*0.4*BF45 -> 0.048471616 | BH45: a | BM45: 2 | BQ45: a
B46: 3 | C46: 0.156 | D46: 3 | E46: =+(C46/B$42)*0.4*D46 -> 0.21616628 | F46: a | K46: 3 | L46: 0.171 | M46: 3 | N46: =+(L46/K$42)*0.4*M46 -> 0.23424658 | O46: a | T46: 4 | U46: 0.15 | V46: 3 | W46: =+(U46/T$41)*0.4*V46 -> 0.16744186 | X46: a | AC46: 4 | AD46: 0.103 | AE46: 3 | AF46: =+(AD46/AC$41)*0.4*AE46 -> 0.12237624 | AG46: a | AL46: 3 | AP46: 3 | AR46: a | AU46: 3 | AV46: 0.155 | AW46: 0.139 | AX46: =+AVERAGE(AV46:AW46) -> 0.147 | AY46: 3 | AZ46: =+(AX46/AU$42)*0.3*AY46 -> 0.14164882 | BA46: a | BD46: 4 | BE46: 0.035 | BF46: 3 | BG46: =+(BE46/BD$41)*0.4*BF46 -> 0.045851528 | BH46: a | BM46: 3 | BN46: 0.025 | BO46: 3 | BP46: =+(BN46/BM$42)*0.4*BO46 -> 0.028901734 | BQ46: a
B47: 4 | C47: 0.027 | D47: 3 | E47: =+(C47/B$42)*0.4*D47 -> 0.037413395 | F47: a | K47: 4 | L47: 0.2 | M47: 3 | N47: =+(L47/K$42)*0.4*M47 -> 0.2739726 | O47: a | T47: 5 | U47: 0.058 | V47: 3 | W47: =+(U47/T$41)*0.4*V47 -> 0.064744186 | X47: a | AC47: 5 | AD47: 0.091 | AE47: 3 | AF47: =+(AD47/AC$41)*0.4*AE47 -> 0.10811881 | AG47: a | AL47: 4 | AP47: 3 | AR47: a | AU47: 4 | AV47: 0.197 | AW47: 0.201 | AX47: =+AVERAGE(AV47:AW47) -> 0.199 | AY47: 3 | AZ47: =+(AX47/AU$42)*0.3*AY47 -> 0.19175589 | BA47: a | BD47: 5 | BE47: 0.06 | BF47: 3.6 | BG47: =+(BE47/BD$41)*0.4*BF47 -> 0.094323144 | BH47: a | BM47: 4 | BN47: 0.019 | BO47: 3 | BP47: =+(BN47/BM$42)*0.4*BO47 -> 0.021965318 | BQ47: a
B48: 5 | C48: 0.054 | D48: 3 | E48: =+(C48/B$42)*0.4*D48 -> 0.07482679 | F48: a | K48: 5 | L48: 0.242 | M48: 3 | N48: =+(L48/K$42)*0.4*M48 -> 0.33150685 | O48: a | S48: Camaras 1 | T48: 6 | U48: 0.056 | V48: 3 | W48: =+(U48/T$41)*0.4*V48 -> 0.062511628 | X48: a | AB48: Camaras 1 | AC48: 6 | AD48: 0.18 | AE48: 3 | AF48: =+(AD48/AC$41)*0.4*AE48 -> 0.21386139 | AG48: a | AL48: 5 | AP48: 3 | AR48: a | AU48: 5 | AV48: 0.201 | AW48: 0.2199 | AX48: =+AVERAGE(AV48:AW48) -> 0.21045 | AY48: 3 | AZ48: =+(AX48/AU$42)*0.3*AY48 -> 0.20278908 | BA48: a | BC48: Camaras 1 | BD48: 6 | BE48: 0.079 | BF48: 3 | BG48: =+(BE48/BD$41)*0.4*BF48 -> 0.10349345 | BH48: a | BM48: 5 | BN48: 0.058 | BO48: 3 | BP48: =+(BN48/BM$42)*0.4*BO48 -> 0.067052023 | BQ48: a
A49: Camaras 1 | B49: 6 | F49: b | J49: Camaras 1 | K49: 6 | O49: a | S49: 2 | T49: 7 | U49: 0.018 | V49: 3 | W49: =+(U49/T$41)*0.4*V49 -> 0.020093023 | X49: b | AB49: 2 | AC49: 7 | AD49: 0.081 | AE49: 3 | AF49: =+(AD49/AC$41)*0.4*AE49 -> 0.096237624 | AG49: a | AK49: Camaras 1 | AL49: 6 | AP49: 3 | AR49: a | AT49: Camaras 1 | AU49: 6 | AV49: 0.049 | AW49: 0.063 | AX49: =+AVERAGE(AV49:AW49) -> 0.056 | AY49: 3 | AZ49: =+(AX49/AU$42)*0.3*AY49 -> 0.053961456 | BA49: a | BC49: 2 | BD49: 7 | BE49: 0.034 | BF49: 3 | BG49: =+(BE49/BD$41)*0.4*BF49 -> 0.044541485 | BH49: a | BM49: 6 | BN49: 0.058 | BO49: 3 | BP49: =+(BN49/BM$42)*0.4*BO49 -> 0.067052023 | BQ49: a
A50: 2 | B50: 7 | C50: 0.05 | D50: 3 | E50: =+(C50/C$42)*0.4*D50 -> 0.061601643 | F50: b | J50: 2 | K50: 7 | L50: 0.103 | M50: 3 | N50: =+(L50/K$42)*0.4*M50 -> 0.14109589 | O50: a | S50: 3 | T50: 8 | U50: 0.067 | V50: 3 | W50: =+(U50/T$41)*0.4*V50 -> 0.074790698 | X50: b | AB50: 3 | AC50: 8 | AD50: 0.042 | AE50: 3 | AF50: =+(AD50/AC$41)*0.4*AE50 -> 0.04990099 | AG50: b | AK50: 2 | AL50: 7 | AP50: 3 | AR50: a | AT50: 2 | AU50: 7 | AV50: 0.075 | AW50: 0.055 | AX50: =+AVERAGE(AV50:AW50) -> 0.065 | AY50: 3 | AZ50: =+(AX50/AU$42)*0.3*AY50 -> 0.062633833 | BA50: a | BC50: 3 | BD50: 8 | BE50: 0.062 | BF50: 3 | BG50: =+(BE50/BD$41)*0.4*BF50 -> 0.081222707 | BH50: b | BM50: 7 | BN50: 0.079 | BO50: 3 | BP50: =+(BN50/BM$42)*0.4*BO50 -> 0.09132948 | BQ50: a
A51: 3 | B51: 8 | D51: 3 | F51: b | J51: 3 | K51: 8 | L51: 0.283 | M51: 3 | N51: =+(L51/K$42)*0.4*M51 -> 0.38767123 | O51: b | S51: 4 | T51: 9 | U51: 0.02 | V51: 3 | W51: =+(U51/T$41)*0.4*V51 -> 0.022325581 | X51: b | AB51: 4 | AC51: 9 | AD51: 0.004 | AE51: 3 | AF51: =+(AD51/AC$41)*0.4*AE51 -> 0.0047524752 | AG51: b | AK51: 3 | AL51: 8 | AP51: 3 | AR51: b | AT51: 3 | AU51: 8 | AV51: 0.084 | AW51: 0.125 | AX51: =+AVERAGE(AV51:AW51) -> 0.1045 | AY51: 3.6 | AZ51: =+(AX51/AU$42)*0.3*AY51 -> 0.12083512 | BA51: a | BC51: 4 | BD51: 9 | BE51: 0.056 | BF51: 3 | BG51: =+(BE51/BD$41)*0.4*BF51 -> 0.073362445 | BH51: b | BM51: 8 | BN51: 0.056 | BO51: 3 | BP51: =+(BN51/BM$42)*0.4*BO51 -> 0.064739884 | BQ51: a
A52: 4 | B52: 9 | C52: 0.046 | D52: 3 | E52: =+(C52/C$42)*0.4*D52 -> 0.056673511 | F52: b | J52: 4 | K52: 9 | O52: b | S52: 5 | T52: 10 | U52: 0.039 | V52: 3 | W52: =+(U52/T$41)*0.4*V52 -> 0.043534884 | X52: b | AB52: 5 | AC52: 10 | AD52: 0.024 | AE52: 3 | AF52: =+(AD52/AC$41)*0.4*AE52 -> 0.028514851 | AG52: b | AK52: 4 | AL52: 9 | AM52: 0.033 | AN52: 0.052 | AO52: =+AVERAGE(AM53:AN53) -> 0.024 | AP52: 3 | AQ52: =+(AO52/AM$42)*0.3*AP52 -> 0.023814774 | AR52: b | AT52: 4 | AU52: 9 | AV52: 0.043 | AW52: 0.055 | AX52: =+AVERAGE(AV52:AW52) -> 0.049 | AY52: 3.6 | AZ52: =+(AX52/AU$42)*0.3*AY52 -> 0.056659529 | BA52: b | BC52: 5 | BD52: 10 | BE52: 0.041 | BF52: 3 | BG52: =+(BE52/BD$41)*0.4*BF52 -> 0.05371179 | BH52: b
A53: 5 | B53: 10 | C53: 0.088 | D53: 3 | E53: =+(C53/C$42)*0.4*D53 -> 0.10841889 | F53: b | J53: 5 | K53: 10 | L53: 0.057 | M53: 3 | N53: =+(L53/K$42)*0.4*M53 -> 0.078082192 | O53: b | S53: 6 | T53: 11 | U53: 0.032 | V53: 3 | W53: =+(U53/T$41)*0.4*V53 -> 0.03572093 | X53: b | AB53: 6 | AC53: 11 | AG53: b | AK53: 5 | AL53: 10 | AM53: 0.03 | AN53: 0.018 | AO53: =+AVERAGE(AM54:AN54) -> 0.0225 | AP53: 3 | AQ53: =+(AO53/AM$42)*0.3*AP53 -> 0.022326351 | AR53: b | AT53: 5 | AU53: 10 | AV53: 0.043 | AW53: 0.045 | AX53: =+AVERAGE(AV53:AW53) -> 0.044 | AY53: 3 | AZ53: =+(AX53/AU$42)*0.3*AY53 -> 0.042398287 | BA53: b | BC53: 6 | BD53: 11 | BE53: 0.04 | BF53: 3 | BG53: =+(BE53/BD$41)*0.4*BF53 -> 0.052401747 | BH53: b | BL53: no. | BM53: 7 | BO53: Promedio | BP53: =+AVERAGE(BP44:BP51) -> 0.059454996
A54: 6 | B54: 11 | C54: 0.066 | D54: 3 | E54: =+(C54/C$42)*0.4*D54 -> 0.081314168 | F54: b | J54: 6 | K54: 11 | L54: 0.09 | M54: 3 | N54: =+(L54/K$42)*0.4*M54 -> 0.12328767 | O54: b | S54: 7 | T54: 12 | X54: b | AB54: 7 | AC54: 12 | AD54: 0.042 | AE54: 3 | AF54: =+(AD54/AC$41)*0.4*AE54 -> 0.04990099 | AG54: b | AK54: 6 | AL54: 11 | AM54: 0.03 | AN54: 0.015 | AO54: =+AVERAGE(AM54:AN54) -> 0.0225 | AP54: 3 | AQ54: =+(AO54/AM$42)*0.3*AP54 -> 0.022326351 | AR54: b | AT54: 6 | AU54: 11 | AV54: 0.037 | AW54: 0.032 | AX54: =+AVERAGE(AV54:AW54) -> 0.0345 | AY54: 3 | AZ54: =+(AX54/AU$42)*0.3*AY54 -> 0.033244111 | BA54: b | BC54: 7 | BD54: 12 | BE54: 0.02 | BF54: 3 | BG54: =+(BE54/BD$41)*0.4*BF54 -> 0.026200873 | BH54: b | BO54: Des. vest | BP54: =+STDEV(BP44:BP51) -> 0.024981597
A55: 7 | B55: 12 | F55: b | J55: 7 | K55: 12 | L55: 0.027 | M55: 3 | N55: =+(L55/K$42)*0.4*M55 -> 0.036986301 | O55: b | S55: 8 | T55: 13 | U55: 0.017 | V55: 3 | W55: =+(U55/T$41)*0.4*V55 -> 0.018976744 | X55: b | AB55: 8 | AC55: 13 | AD55: 0.025 | AE55: 3 | AF55: =+(AD55/AC$41)*0.4*AE55 -> 0.02970297 | AG55: b | AK55: 7 | AL55: 12 | AP55: 3 | AR55: b | AT55: 7 | AU55: 12 | AV55: 0.035 | AX55: =+AVERAGE(AV55:AW55) -> 0.035 | AY55: 3 | AZ55: =+(AX55/AU$42)*0.3*AY55 -> 0.03372591 | BA55: b | BC55: 8 | BD55: 13 | BE55: 0.019 | BF55: 3.6 | BG55: =+(BE55/BD$41)*0.4*BF55 -> 0.029868996 | BH55: b | BO55: E,S | BP55: =+(BP54/SQRT(BM53)) -> 0.009442156
A56: 8 | B56: 13 | C56: 0.028 | D56: 3 | E56: =+(C56/C$42)*0.4*D56 -> 0.03449692 | F56: b | J56: 8 | K56: 13 | L56: 0.075 | M56: 3 | N56: =+(L56/K$42)*0.4*M56 -> 0.10273973 | O56: b | S56: 9 | T56: 14 | U56: 0.091 | V56: 3 | W56: =+(U56/T$41)*0.4*V56 -> 0.1015814 | X56: b | AB56: 9 | AC56: 14 | AD56: 0.019 | AE56: 3 | AF56: =+(AD56/AC$41)*0.4*AE56 -> 0.022574257 | AG56: b | AK56: 8 | AL56: 13 | AM56: 0.048 | AN56: 0.067 | AO56: =+AVERAGE(AM56:AN56) -> 0.0575 | AP56: 3 | AQ56: =+(AO56/AM$42)*0.3*AP56 -> 0.057056229 | AR56: b | AT56: 8 | AU56: 13 | AV56: 0.099 | AW56: 0.088 | AX56: =+AVERAGE(AV56:AW56) -> 0.0935 | AY56: 3 | AZ56: =+(AX56/AU$42)*0.3*AY56 -> 0.09009636 | BA56: b | BC56: 9 | BD56: 14 | BE56: 0.04 | BF56: 3.6 | BG56: =+(BE56/BD$41)*0.4*BF56 -> 0.062882096 | BH56: b | BO56: % E.S. | BP56: =+(BP55/BP53)*100 -> 15.881182
A57: 9 | B57: 14 | F57: b | J57: 9 | K57: 14 | O57: b | AK57: 9 | AL57: 14 | AM57: 0.059 | AN57: 0.082 | AO57: =+AVERAGE(AM57:AN57) -> 0.0705 | AP57: 3 | AQ57: =+(AO57/AM$42)*0.3*AP57 -> 0.069955899 | AR57: b | AT57: 9 | AU57: 14 | AV57: 0.061 | AW57: 0.028 | AX57: =+AVERAGE(AV57:AW57) -> 0.0445 | AY57: 3 | AZ57: =+(AX57/AU$42)*0.3*AY57 -> 0.042880086 | BA57: b
S58: no. | T58: 13 | V58: Promedio | W58: =+AVERAGE(W43:W56) -> 0.083806798 | AB58: no. | AC58: 13 | AE58: Promedio | AF58: =+AVERAGE(AF43:AF56) -> 0.10519421 | AL58: pool | AM58: 0.298 | AN58: 0.299 | AO58: =+AVERAGE(AM58:AN58) -> 0.2985 | AP58: 3 | AQ58: =+(AO58/AM$42)*0.3*AP58 -> 0.29619625 | AR58: b | AU58: pool | AV58: 0.207 | AW58: 0.227 | AX58: =+AVERAGE(AV58:AW58) -> 0.217 | AY58: 3 | AZ58: =+(AX58/AU$42)*0.3*AY58 -> 0.20910064 | BA58: b | BC58: no. | BD58: 13 | BF58: Promedio | BG58: =+AVERAGE(BG43:BG56) -> 0.074092327
A59: no. | B59: 10 | D59: Promedio | E59: =+AVERAGE(E44:E57) -> 0.11004728 | J59: no. | K59: 11 | M59: Promedio | N59: =+AVERAGE(N44:N57) -> 0.19825654 | V59: Des. vest | W59: =+STDEV(W43:W56) -> 0.066879715 | AE59: Des. vest | AF59: =+STDEV(AF43:AF56) -> 0.10508486 | BF59: Des. vest | BG59: =+STDEV(BG43:BG56) -> 0.042841701
D60: Des. vest | E60: =+STDEV(E44:E57) -> 0.083990958 | M60: Des. vest | N60: =+STDEV(N44:N57) -> 0.11116181 | V60: E,S | W60: =+(W59/SQRT(T58)) -> 0.018549096 | AE60: E,S | AF60: =+(AF59/SQRT(AC58)) -> 0.029145295 | AK60: no. | AL60: 5 | AP60: Promedio | AQ60: =+AVERAGE(AQ44:AQ57) -> 0.039095921 | AT60: no. | AU60: 14 | AY60: Promedio | AZ60: =+AVERAGE(AZ44:AZ57) -> 0.10562749 | BF60: E,S | BG60: =+(BG59/SQRT(BD58)) -> 0.01188215
D61: E,S | E61: =+(E60/SQRT(B59)) -> 0.026560273 | M61: E,S | N61: =+(N60/SQRT(K59)) -> 0.033516548 | V61: % E.S. | W61: =+(W60/W58)*100 -> 22.133163 | AE61: % E.S. | AF61: =+(AF60/AF58)*100 -> 27.706177 | AP61: Des. vest | AQ61: =+STDEV(AQ44:AQ57) -> 0.022753359 | AY61: Des. vest | AZ61: =+STDEV(AZ44:AZ57) -> 0.082979094 | BF61: % E.S. | BG61: =+(BG60/BG58)*100 -> 16.036951
D62: % E.S. | E62: =+(E61/E59)*100 -> 24.135329 | M62: % E.S. | N62: =+(N61/N59)*100 -> 16.905646 | AP62: E,S | AQ62: =+(AQ61/SQRT(AL60)) -> 0.010175611 | AY62: E,S | AZ62: =+(AZ61/SQRT(AU60)) -> 0.022177096
AP63: % E.S. | AQ63: =+(AQ62/AQ60)*100 -> 26.027297 | AY63: % E.S. | AZ63: =+(AZ62/AZ60)*100 -> 20.995573
BC64: DIETA F2 | BD64: 36288
A65: DIETA F4 | B65: 36286 | J65: DIETA F3 | K65: 36287 | S65: DIETA F2 | T65: 36293 | AB65: DIETA F1 | AC65: 36293 | AK65: DIETA F4 | AL65: 36293 | AT65: DIETA F3 | AU65: 36294 | BC65: TRIGLICERIDOS | BL65: DIETA F1 | BM65: 36299
A66: TRIGLICERIDOS | J66: TRIGLICERIDOS | S66: TRIGLICERIDOS | AB66: TRIGLICERIDOS | AK66: TRIGLICERIDOS | AT66: TRIGLICERIDOS | BL66: TRIGLICERIDOS
A67: nm | B67: 0.492 | J67: nm | K67: 0.492 | S67: nm | T67: 0.492 | AB67: nm | AC67: 0.492 | AK67: nm | AL67: 0.492 | AT67: nm | AU67: 0.492 | BC67: nm | BD67: 0.492
A68: bco(ajustado) | B68: 0.159 | C68: 0.139 | J68: bco(ajustado) | K68: 0.133 | L68: 0.137 | S68: bco(ajustado) | T68: 0.137 | U68: 0.138 | AB68: bco(ajustado) | AC68: 0.148 | AD68: 0.086 | AK68: bco(ajustado) | AL68: 0.092 | AM68: 0.089 | AT68: bco(ajustado) | AU68: 0.092 | AV68: 0.091 | BC68: bco(ajustado) | BD68: 0.127 | BE68: 0.093 | BL68: nm | BM68: 0.492
A69: std | B69: 0.322 | C69: 0.305 | J69: std | K69: 0.315 | L69: 0.343 | S69: std | T69: 0.341 | U69: 0.324 | AB69: std | AC69: 0.251 | AD69: 0.316 | AK69: std | AL69: 0.295 | AM69: 0.315 | AT69: std | AU69: 0.335 | AV69: 0.446 | BC69: std | BD69: 0.336 | BE69: 0.339 | BL69: bco(ajustado) | BM69: 0.086
C70: D.O. | D70: Dilution fac | E70: mg/mL | F70: serie | L70: D.O. | M70: Dilution fac | N70: mg/mL | O70: serie | U70: D.O. | V70: Dilution fac | W70: mg/mL | X70: serie | AD70: D.O. | AE70: Dilution fac | AF70: mg/mL | AG70: serie | AM70: D.O. | AN70: Dilution fac | AO70: mg/mL | AP70: serie | AV70: D.O. | AW70: Dilution fac | AX70: mg/mL | AY70: serie | BE70: D.O. | BF70: Dilution fac | BG70: mg/mL | BH70: serie | BL70: std | BM70: 0.334
A71: Tara | B71: 1 | C71: 0.025 | D71: 3 | E71: =+(C71/B$69)*2*D71 -> 0.46583851 | F71: a | J71: Tara | K71: 1 | L71: 0.103 | M71: 3 | N71: =+(L71/K$69)*2*M71 -> 1.9619048 | O71: a | S71: Tara | T71: 1 | U71: 0.108 | V71: 3 | W71: =+(U71/T$69)*2*V71 -> 1.9002933 | X71: a | AB71: Tara | AC71: 1 | AD71: 0.131 | AE71: 3 | AF71: =+(AD71/AC$69)*2*AE71 -> 3.1314741 | AG71: a | AK71: Tara | AL71: 1 | AM71: 0.027 | AN71: 3 | AO71: =+(AM71/AL$69)*2*AN71 -> 0.54915254 | AP71: a | AT71: Tara | AU71: 1 | AV71: 0.097 | AW71: 3 | AX71: =+(AV71/AU$69)*2*AW71 -> 1.7373134 | AY71: a | BC71: Tara | BD71: 1 | BE71: 0.025 | BF71: 3 | BG71: =+(BE71/BD$69)*2*BF71 -> 0.44642857 | BH71: a | BN71: D.O. | BO71: Dilution fac | BP71: mg/mL | BQ71: serie
B72: 2 | F72: a | K72: 2 | L72: 0.194 | M72: 3 | N72: =+(L72/K$69)*2*M72 -> 3.6952381 | O72: a | T72: 2 | U72: 0.132 | V72: 3 | W72: =+(U72/T$69)*2*V72 -> 2.3225806 | X72: a | AC72: 2 | AD72: 0.149 | AE72: 3 | AF72: =+(AD72/AC$69)*2*AE72 -> 3.561753 | AG72: a | AL72: 2 | AM72: 0.026 | AN72: 3 | AO72: =+(AM72/AL$69)*2*AN72 -> 0.52881356 | AP72: a | AU72: 2 | AV72: 0.106 | AW72: 3 | AX72: =+(AV72/AU$69)*2*AW72 -> 1.8985075 | AY72: a | BD72: 2 | BE72: 0.056 | BF72: 3 | BG72: =+(BE72/BD$69)*2*BF72 -> 1 | BH72: a | BL72: Camaras | BM72: 1 | BN72: 0.105 | BO72: 3 | BP72: =+(BN72/BM$70)*2*BO72 -> 1.8862275 | BQ72: a
B73: 3 | C73: 0.028 | D73: 3 | E73: =+(C73/B$69)*2*D73 -> 0.52173913 | F73: a | K73: 3 | L73: 0.102 | M73: 3 | N73: =+(L73/K$69)*2*M73 -> 1.9428571 | O73: a | T73: 3 | U73: 0.119 | V73: 3 | W73: =+(U73/T$69)*2*V73 -> 2.0938416 | X73: a | AC73: 3 | AG73: a | AL73: 3 | AM73: 0.024 | AN73: 3 | AO73: =+(AM73/AL$69)*2*AN73 -> 0.48813559 | AP73: a | AU73: 3 | AV73: 0.163 | AW73: 3 | AX73: =+(AV73/AU$69)*2*AW73 -> 2.919403 | AY73: a | BD73: 3 | BE73: 0.084 | BF73: 3 | BG73: =+(BE73/BD$69)*2*BF73 -> 1.5 | BH73: a | BM73: 2 | BQ73: a
B74: 4 | C74: 0.041 | D74: 3 | E74: =+(C74/B$69)*2*D74 -> 0.76397516 | F74: a | K74: 4 | L74: 0.143 | M74: 3 | N74: =+(L74/K$69)*2*M74 -> 2.7238095 | O74: a | T74: 4 | U74: 0.116 | V74: 3 | W74: =+(U74/T$69)*2*V74 -> 2.0410557 | X74: a | AC74: 4 | AD74: 0.231 | AE74: 3 | AF74: =+(AD74/AC$69)*2*AE74 -> 5.5219124 | AG74: a | AL74: 4 | AM74: 0.02 | AN74: 3 | AO74: =+(AM74/AL$69)*2*AN74 -> 0.40677966 | AP74: a | AU74: 4 | AV74: 0.071 | AW74: 3 | AX74: =+(AV74/AU$69)*2*AW74 -> 1.2716418 | AY74: a | BD74: 4 | BE74: 0.023 | BF74: 3 | BG74: =+(BE74/BD$69)*2*BF74 -> 0.41071429 | BH74: a | BM74: 3 | BN74: 0.08 | BO74: 3 | BP74: =+(BN74/BM$70)*2*BO74 -> 1.4371257 | BQ74: a
B75: 5 | C75: 0.022 | D75: 3 | E75: =+(C75/B$69)*2*D75 -> 0.40993789 | F75: a | K75: 5 | L75: 0.099 | M75: 3 | N75: =+(L75/K$69)*2*M75 -> 1.8857143 | O75: a | T75: 5 | U75: 0.122 | V75: 3 | W75: =+(U75/T$69)*2*V75 -> 2.1466276 | X75: a | AC75: 5 | AD75: 0.069 | AE75: 3 | AF75: =+(AD75/AC$69)*2*AE75 -> 1.6494024 | AG75: a | AL75: 5 | AM75: 0.015 | AN75: 3 | AO75: =+(AM75/AL$69)*2*AN75 -> 0.30508475 | AP75: a | AU75: 5 | AV75: 0.09 | AW75: 3 | AX75: =+(AV75/AU$69)*2*AW75 -> 1.6119403 | AY75: a | BD75: 5 | BE75: 0.097 | BF75: 3.6 | BG75: =+(BE75/BD$69)*2*BF75 -> 2.0785714 | BH75: a | BM75: 4 | BN75: 0.037 | BO75: 3 | BP75: =+(BN75/BM$70)*2*BO75 -> 0.66467066 | BQ75: a
A76: Camaras 1 | B76: 6 | F76: b | J76: Camaras 1 | K76: 6 | O76: a | S76: Camaras 1 | T76: 6 | U76: 0.111 | V76: 3 | W76: =+(U76/T$69)*2*V76 -> 1.9530792 | X76: a | AB76: Camaras 1 | AC76: 6 | AD76: 0.259 | AE76: 3 | AF76: =+(AD76/AC$69)*2*AE76 -> 6.1912351 | AG76: a | AK76: Camaras 1 | AL76: 6 | AM76: 0.015 | AN76: 3 | AO76: =+(AM76/AL$69)*2*AN76 -> 0.30508475 | AP76: a | AT76: Camaras 1 | AU76: 6 | AV76: 0.147 | AW76: 3 | AX76: =+(AV76/AU$69)*2*AW76 -> 2.6328358 | AY76: a | BC76: Camaras 1 | BD76: 6 | BE76: 0.025 | BF76: 3 | BG76: =+(BE76/BD$69)*2*BF76 -> 0.44642857 | BH76: a | BM76: 5 | BN76: 0.15 | BO76: 3 | BP76: =+(BN76/BM$70)*2*BO76 -> 2.6946108 | BQ76: a
A77: 2 | B77: 7 | C77: 0.016 | D77: 3 | E77: =+(C77/C$69)*2*D77 -> 0.3147541 | F77: b | J77: 2 | K77: 7 | L77: 0.232 | M77: 3 | N77: =+(L77/K$69)*2*M77 -> 4.4190476 | O77: a | S77: 2 | T77: 7 | U77: 0.161 | V77: 3 | W77: =+(U77/T$69)*2*V77 -> 2.8328446 | X77: b | AB77: 2 | AC77: 7 | AD77: 0.113 | AE77: 3 | AF77: =+(AD77/AC$69)*2*AE77 -> 2.7011952 | AG77: a | AK77: 2 | AL77: 7 | AM77: 0.024 | AN77: 3 | AO77: =+(AM77/AL$69)*2*AN77 -> 0.48813559 | AP77: a | AT77: 2 | AU77: 7 | AV77: 0.144 | AW77: 3 | AX77: =+(AV77/AU$69)*2*AW77 -> 2.5791045 | AY77: a | BC77: 2 | BD77: 7 | BE77: 0.128 | BF77: 3 | BG77: =+(BE77/BD$69)*2*BF77 -> 2.2857143 | BH77: a | BM77: 6 | BN77: 0.061 | BO77: 3 | BP77: =+(BN77/BM$70)*2*BO77 -> 1.0958084 | BQ77: a
A78: 3 | B78: 8 | F78: b | J78: 3 | K78: 8 | L78: 0.183 | M78: 3 | N78: =+(L78/K$69)*2*M78 -> 3.4857143 | O78: b | S78: 3 | T78: 8 | U78: 0.146 | V78: 3 | W78: =+(U78/T$69)*2*V78 -> 2.568915 | X78: b | AB78: 3 | AC78: 8 | AD78: 0.092 | AE78: 3 | AF78: =+(AD78/AD$69)*2*AE78 -> 1.7468354 | AG78: b | AK78: 3 | AL78: 8 | AM78: 0.028 | AN78: 3 | AO78: =+(AM78/AL$69)*2*AN78 -> 0.56949153 | AP78: b | AT78: 3 | AU78: 8 | AV78: 0.103 | AW78: 3.6 | AX78: =+(AV78/AU$69)*2*AW78 -> 2.2137313 | AY78: a | BC78: 3 | BD78: 8 | BE78: 0.091 | BF78: 3 | BG78: =+(BE78/BE$69)*2*BF78 -> 1.6106195 | BH78: b | BM78: 7 | BN78: 0.126 | BO78: 3 | BP78: =+(BN78/BM$70)*2*BO78 -> 2.2634731 | BQ78: a
A79: 4 | B79: 9 | C79: 0.023 | D79: 3 | E79: =+(C79/C$69)*2*D79 -> 0.45245902 | F79: b | J79: 4 | K79: 9 | O79: b | S79: 4 | T79: 9 | U79: 0.139 | V79: 3 | W79: =+(U79/T$69)*2*V79 -> 2.4457478 | X79: b | AB79: 4 | AC79: 9 | AD79: 0.098 | AE79: 3 | AF79: =+(AD79/AD$69)*2*AE79 -> 1.8607595 | AG79: b | AK79: 4 | AL79: 9 | AM79: 0.043 | AN79: 3 | AO79: =+(AM79/AL$69)*2*AN79 -> 0.87457627 | AP79: b | AT79: 4 | AU79: 9 | AV79: 0.031 | AW79: 3.6 | AX79: =+(AV79/AU$69)*2*AW79 -> 0.66626866 | AY79: b | BC79: 4 | BD79: 9 | BE79: 0.048 | BF79: 3 | BG79: =+(BE79/BE$69)*2*BF79 -> 0.84955752 | BH79: b | BM79: 8 | BN79: 0.163 | BO79: 3 | BP79: =+(BN79/BM$70)*2*BO79 -> 2.9281437 | BQ79: a
A80: 5 | B80: 10 | C80: 0.025 | D80: 3 | E80: =+(C80/C$69)*2*D80 -> 0.49180328 | F80: b | J80: 5 | K80: 10 | L80: 0.1 | M80: 3 | N80: =+(L80/K$69)*2*M80 -> 1.9047619 | O80: b | S80: 5 | T80: 10 | U80: 0.089 | V80: 3 | W80: =+(U80/T$69)*2*V80 -> 1.5659824 | X80: b | AB80: 5 | AC80: 10 | AD80: 0.071 | AE80: 3 | AF80: =+(AD80/AD$69)*2*AE80 -> 1.3481013 | AG80: b | AK80: 5 | AL80: 10 | AM80: 0.039 | AN80: 3 | AO80: =+(AM80/AL$69)*2*AN80 -> 0.79322034 | AP80: b | AT80: 5 | AU80: 10 | AV80: 0.101 | AW80: 3 | AX80: =+(AV80/AU$69)*2*AW80 -> 1.8089552 | AY80: b | BC80: 5 | BD80: 10 | BE80: 0.044 | BF80: 3 | BG80: =+(BE80/BE$69)*2*BF80 -> 0.77876106 | BH80: b
A81: 6 | B81: 11 | F81: b | J81: 6 | K81: 11 | L81: 0.169 | M81: 3 | N81: =+(L81/K$69)*2*M81 -> 3.2190476 | O81: b | S81: 6 | T81: 11 | U81: 0.114 | V81: 3 | W81: =+(U81/T$69)*2*V81 -> 2.0058651 | X81: b | AB81: 6 | AC81: 11 | AD81: 0.14 | AE81: 3 | AF81: =+(AD81/AD$69)*2*AE81 -> 2.6582278 | AG81: b | AK81: 6 | AL81: 11 | AM81: 0.028 | AN81: 3 | AO81: =+(AM81/AL$69)*2*AN81 -> 0.56949153 | AP81: b | AT81: 6 | AU81: 11 | AV81: 0.14 | AW81: 3 | AX81: =+(AV81/AU$69)*2*AW81 -> 2.5074627 | AY81: b | BC81: 6 | BD81: 11 | BE81: 0.088 | BF81: 3 | BG81: =+(BE81/BE$69)*2*BF81 -> 1.5575221 | BH81: b | BL81: no. | BM81: 7 | BO81: Promedio | BP81: =+AVERAGE(BP72:BP79) -> 1.8528657
A82: 7 | B82: 12 | F82: b | J82: 7 | K82: 12 | L82: 0.107 | M82: 3 | N82: =+(L82/K$69)*2*M82 -> 2.0380952 | O82: b | S82: 7 | T82: 12 | X82: b | AB82: 7 | AC82: 12 | AD82: 0.075 | AE82: 3 | AF82: =+(AD82/AD$69)*2*AE82 -> 1.4240506 | AG82: b | AK82: 7 | AL82: 12 | AP82: b | AT82: 7 | AU82: 12 | AV82: 0.128 | AW82: 3 | AX82: =+(AV82/AU$69)*2*AW82 -> 2.2925373 | AY82: b | BC82: 7 | BD82: 12 | BE82: 0.088 | BF82: 3 | BG82: =+(BE82/BE$69)*2*BF82 -> 1.5575221 | BH82: b | BO82: Des. vest | BP82: =+STDEV(BP72:BP79) -> 0.83588794
A83: 8 | B83: 13 | C83: 0.026 | D83: 3 | E83: =+(C83/C$69)*2*D83 -> 0.51147541 | F83: b | J83: 8 | K83: 13 | L83: 0.097 | M83: 3 | N83: =+(L83/K$69)*2*M83 -> 1.847619 | O83: b | S83: 8 | T83: 13 | U83: 0.091 | V83: 3 | W83: =+(U83/T$69)*2*V83 -> 1.601173 | X83: b | AB83: 8 | AC83: 13 | AD83: 0.145 | AE83: 3 | AF83: =+(AD83/AD$69)*2*AE83 -> 2.7531646 | AG83: b | AK83: 8 | AL83: 13 | AM83: 0.019 | AN83: 3 | AO83: =+(AM83/AL$69)*2*AN83 -> 0.38644068 | AP83: b | AT83: 8 | AU83: 13 | AV83: 0.116 | AW83: 3 | AX83: =+(AV83/AU$69)*2*AW83 -> 2.0776119 | AY83: b | BC83: 8 | BD83: 13 | BE83: 0.07 | BF83: 3.6 | BG83: =+(BE83/BE$69)*2*BF83 -> 1.4867257 | BH83: b | BO83: E,S | BP83: =+(BP82/SQRT(BM81)) -> 0.31593595
A84: 9 | B84: 14 | F84: b | J84: 9 | K84: 14 | O84: b | S84: 9 | T84: 14 | U84: 0.082 | V84: 3 | W84: =+(U84/T$69)*2*V84 -> 1.4428152 | X84: b | AB84: 9 | AC84: 14 | AD84: 0.162 | AE84: 3 | AF84: =+(AD84/AD$69)*2*AE84 -> 3.0759494 | AG84: b | AK84: 9 | AL84: 14 | AM84: 0.031 | AN84: 3 | AO84: =+(AM84/AL$69)*2*AN84 -> 0.63050847 | AP84: b | AT84: 9 | AU84: 14 | AV84: 0.053 | AW84: 3 | AX84: =+(AV84/AU$69)*2*AW84 -> 0.94925373 | AY84: b | BC84: 9 | BD84: 14 | BE84: 0.105 | BF84: 3.6 | BG84: =+(BE84/BE$69)*2*BF84 -> 2.2300885 | BH84: b | BO84: % E.S. | BP84: =+(BP83/BP81)*100 -> 17.051206
AL85: pool | AM85: 0.02 | AN85: 3 | AO85: =+(AM85/AL$69)*2*AN85 -> 0.40677966 | AP85: b | AU85: pool | AV85: 0.119 | AW85: 3 | AX85: =+(AV85/AU$69)*2*AW85 -> 2.1313433 | AY85: b
A86: no. | B86: 8 | C86: Promedio | E86: =+AVERAGE(E71:E84) -> 0.49149781 | J86: no. | K86: 11 | M86: Promedio | N86: =+AVERAGE(N71:N84) -> 2.647619 | S86: no. | T86: 13 | V86: Promedio | W86: =+AVERAGE(W71:W84) -> 2.0708324 | AB86: no. | AC86: 13 | AE86: Promedio | AF86: =+AVERAGE(AF71:AF84) -> 2.8941585 | BC86: no. | BD86: 13 | BF86: Promedio | BG86: =+AVERAGE(BG71:BG84) -> 1.302761
C87: Des. vest | E87: =+STDEV(E71:E84) -> 0.12852483 | M87: Des. vest | N87: =+STDEV(N71:N84) -> 0.91547542 | V87: Des. vest | W87: =+STDEV(W71:W84) -> 0.40382315 | AE87: Des. vest | AF87: =+STDEV(AF71:AF84) -> 1.4974651 | AK87: no. | AL87: 13 | AN87: Promedio | AO87: =+AVERAGE(AO71:AO84) -> 0.5303781 | AT87: no. | AU87: 14 | AW87: Promedio | AX87: =+AVERAGE(AX71:AX84) -> 1.9404691 | BF87: Des. vest | BG87: =+STDEV(BG71:BG84) -> 0.65394284
C88: E,S | E88: =+(E87/SQRT(B86)) -> 0.04544039 | M88: E,S | N88: =+(N87/SQRT(K86)) -> 0.27602622 | V88: E,S | W88: =+(W87/SQRT(T86)) -> 0.11200039 | AE88: E,S | AF88: =+(AF87/SQRT(AC86)) -> 0.4153221 | AN88: Des. vest | AO88: =+STDEV(AO71:AO84) -> 0.16883838 | AW88: Des. vest | AX88: =+STDEV(AX71:AX84) -> 0.65668967 | BF88: E,S | BG88: =+(BG87/SQRT(BD86)) -> 0.18137111
C89: % E.S. | E89: =+(E88/E86)*100 -> 9.2452884 | M89: % E.S. | N89: =+(N88/N86)*100 -> 10.425451 | V89: % E.S. | W89: =+(W88/W86)*100 -> 5.408472 | AE89: % E.S. | AF89: =+(AF88/AF86)*100 -> 14.350358 | AN89: E,S | AO89: =+(AO88/SQRT(AL87)) -> 0.04682734 | AW89: E,S | AX89: =+(AX88/SQRT(AU87)) -> 0.1755077 | BF89: % E.S. | BG89: =+(BG88/BG86)*100 -> 13.922056
AN90: % E.S. | AO90: =+(AO89/AO87)*100 -> 8.8290487 | AW90: % E.S. | AX90: =+(AX89/AX87)*100 -> 9.0446016
A93: DIETA F4 | B93: 36286 | J93: DIETA F3 | K93: 36287 | S93: DIETA F2 | T93: 36293 | AB93: DIETA F1 | AC93: 36293 | AK93: DIETA F4 | AL93: 36293 | AT93: DIETA F3 | AU93: 36294 | BC93: DIETA F2 | BD93: 36288 | BL93: DIETA F1 | BM93: 36299
A94: pro FO | J94: pro FO | S94: pro FO | AB94: pro FO | AK94: pro FO | AT94: pro FO | BC94: pro FO | BL94: pro FO
S95: nm | T95: 0.492 | AB95: nm | AC95: 0.492 | AT95: nm | AU95: 0.492
A96: nm | B96: 0.492 | J96: nm | K96: 0.492 | U96: BCO | V96: D.O. | W96: FO | X96: serie | AD96: BCO | AE96: D.O. | AF96: FO | AH96: serie | AK96: nm | AL96: 0.492 | AV96: BCO | AW96: D.O. | AX96: FO | AY96: serie | BC96: nm | BD96: 0.492 | BL96: nm | BM96: 0.492
C97: BCO | D97: D.O. | E97: FO | F97: serie | L97: BCO | M97: D.O. | N97: FO | O97: serie | S97: Tara | T97: 1 | U97: 0.043 | X97: a | AB97: Tara | AC97: 1 | AE97: 0.444 | AH97: a | AM97: BCO | AN97: D.O. | AO97: FO | AP97: serie | AT97: Tara | AU97: 1 | AV97: 0.043 | AW97: 0.201 | AX97: =+AW97-AV$113 -> 0.1575 | AY97: a | BE97: BCO | BF97: D.O. | BG97: FO | BH97: serie | BN97: BCO | BO97: D.O. | BP97: FO | BQ97: serie
A98: Tara | B98: 1 | F98: a | J98: Tara | K98: 1 | M98: 0.434 | N98: =+M98-L$113 -> 0.382 | O98: a | T98: 2 | V98: 0.692 | W98: =+V98-U$112 -> 0.64766667 | X98: a | AC98: 2 | AD98: 0.046 | AE98: 0.192 | AF98: =+AE97-AD$112 -> 0.397 | AH98: a | AK98: Tara | AL98: 1 | AM98: 0.044 | AN98: 0.547 | AO98: =+AN98-AM$113 -> 0.50383333 | AP98: a | AU98: 2 | AW98: 0.247 | AX98: =+AW98-AV$113 -> 0.2035 | AY98: a | BC98: Tara | BD98: 1 | BE98: 0.04 | BF98: 0.194 | BG98: =+BF98-BE$113 -> 0.15307692 | BH98: a | BL98: Camaras | BM98: 1 | BN98: 0.048 | BO98: 0.269 | BP98: =+BO98-BN$107 -> 0.22666667 | BQ98: a
B99: 2 | D99: 0.42 | E99: =+D99-C$113 -> 0.376 | F99: a | K99: 2 | L99: 0.053 | M99: 0.522 | N99: =+M99-L$113 -> 0.47 | O99: a | T99: 3 | V99: 0.25 | W99: =+V99-U$112 -> 0.20566667 | X99: a | AC99: 3 | AD99: 0.048 | AE99: 0.472 | AF99: =+AE98-AD$112 -> 0.145 | AH99: a | AL99: 2 | AM99: 0.043 | AN99: 0.52 | AO99: =+AN99-AM$113 -> 0.47683333 | AP99: a | AU99: 3 | AV99: 0.043 | AW99: 0.128 | AX99: =+AW99-AV$113 -> 0.0845 | AY99: a | BD99: 2 | BE99: 0.04 | BF99: 0.236 | BG99: =+BF99-BE$113 -> 0.19507692 | BH99: a | BM99: 2 | BQ99: a
B100: 3 | C100: 0.046 | D100: 0.086 | E100: =+D100-C$113 -> 0.042 | F100: a | K100: 3 | M100: 0.319 | N100: =+M100-L$113 -> 0.267 | O100: a | T100: 4 | V100: 0.522 | W100: =+V100-U$112 -> 0.47766667 | X100: a | AC100: 4 | AE100: 0.722 | AF100: =+AE99-AD$112 -> 0.425 | AH100: a | AL100: 3 | AM100: 0.044 | AN100: 0.716 | AO100: =+AN100-AM$113 -> 0.67283333 | AP100: a | AU100: 4 | AW100: 0.211 | AX100: =+AW100-AV$113 -> 0.1675 | AY100: a | BD100: 3 | BE100: 0.048 | BF100: 0.44 | BG100: =+BF100-BE$113 -> 0.39907692 | BH100: a | BM100: 3 | BN100: 0.041 | BO100: 0.263 | BP100: =+BO100-BN$107 -> 0.22066667 | BQ100: a
B101: 4 | D101: 0.706 | E101: =+D101-C$113 -> 0.662 | F101: a | K101: 4 | L101: 0.053 | M101: 0.521 | N101: =+M101-L$113 -> 0.469 | O101: a | T101: 5 | U101: 0.04 | V101: 0.417 | W101: =+V101-U$112 -> 0.37266667 | X101: a | AC101: 5 | AE101: 0.389 | AF101: =+AE100-AD$112 -> 0.675 | AH101: a | AL101: 4 | AM101: 0.043 | AN101: 0.615 | AO101: =+AN101-AM$113 -> 0.57183333 | AP101: a | AU101: 5 | AV101: 0.043 | AW101: 0.362 | AX101: =+AW101-AV$113 -> 0.3185 | AY101: a | BD101: 4 | BE101: 0.04 | BF101: 0.164 | BG101: =+BF101-BE$113 -> 0.12307692 | BH101: a | BM101: 4 | BN101: 0.041 | BO101: 0.129 | BP101: =+BO101-BN$107 -> 0.086666667 | BQ101: a
B102: 5 | D102: 0.816 | E102: =+D102-C$113 -> 0.772 | F102: a | K102: 5 | M102: 0.69 | N102: =+M102-L$113 -> 0.638 | O102: a | S102: Camaras 1 | T102: 6 | U102: 0.047 | V102: 0.413 | W102: =+V102-U$112 -> 0.36866667 | X102: a | AB102: Camaras 1 | AC102: 6 | AE102: 0.596 | AF102: =+AE101-AD$112 -> 0.342 | AH102: a | AL102: 5 | AM102: 0.043 | AN102: 0.335 | AO102: =+AN102-AM$113 -> 0.29183333 | AP102: a | AT102: Camaras 1 | AU102: 6 | AV102: 0.044 | AW102: 0.439 | AX102: =+AW102-AV$113 -> 0.3955 | AY102: a | BD102: 5 | BE102: 0.04 | BF102: 0.235 | BG102: =+BF102-BE$113 -> 0.19407692 | BH102: a | BM102: 5 | BN102: 0.043 | BO102: 0.203 | BP102: =+BO102-BN$107 -> 0.16066667 | BQ102: a
A103: Camaras 1 | B103: 6 | F103: b | J103: Camaras 1 | K103: 6 | O103: a | S103: 2 | T103: 7 | U103: 0.047 | V103: 0.126 | W103: =+V103-U$112 -> 0.081666667 | X103: b | AB103: 2 | AC103: 7 | AE103: 0.527 | AF103: =+AE102-AD$112 -> 0.549 | AH103: a | AK103: Camaras 1 | AL103: 6 | AM103: 0.044 | AN103: 0.543 | AO103: =+AN103-AM$113 -> 0.49983333 | AP103: a | AT103: 2 | AU103: 7 | AW103: 0.363 | AX103: =+AW103-AV$113 -> 0.3195 | AY103: a | BC103: Camaras 1 | BD103: 6 | BE103: 0.04 | BF103: 0.128 | BG103: =+BF103-BE$113 -> 0.087076923 | BH103: a | BM103: 6 | BN103: 0.04 | BO103: 0.115 | BP103: =+BO103-BN$107 -> 0.072666667 | BQ103: a
A104: 2 | B104: 7 | C104: 0.042 | D104: 0.184 | E104: =+D104-C$113 -> 0.14 | F104: b | J104: 2 | K104: 7 | M104: 0.255 | N104: =+M104-L$113 -> 0.203 | O104: a | S104: 3 | T104: 8 | U104: 0.044 | V104: 0.183 | W104: =+V104-U$112 -> 0.13866667 | X104: b | AB104: 3 | AC104: 8 | AE104: error sin trypsin | AH104: b | AK104: 2 | AL104: 7 | AM104: 0.044 | AN104: 0.681 | AO104: =+AN104-AM$113 -> 0.63783333 | AP104: a | AT104: 3 | AU104: 8 | AW104: 0.182 | AX104: =+AW104-AV$113 -> 0.1385 | AY104: a | BC104: 2 | BD104: 7 | BF104: 0.366 | BG104: =+BF104-BE$113 -> 0.32507692 | BH104: a | BM104: 7 | BO104: 0.242 | BP104: =+BO104-BN$107 -> 0.19966667 | BQ104: a
A105: 3 | B105: 8 | F105: b | J105: 3 | K105: 8 | L105: 0.053 | M105: 0.233 | N105: =+M105-L$113 -> 0.181 | O105: b | S105: 4 | T105: 9 | V105: 0.301 | W105: =+V105-U$112 -> 0.25666667 | X105: b | AB105: 4 | AC105: 9 | AH105: b | AK105: 3 | AL105: 8 | AM105: 0.042 | AN105: 0.205 | AO105: =+AN105-AM$113 -> 0.16183333 | AP105: b | AT105: 4 | AU105: 9 | AW105: 0.363 | AX105: =+AW105-AV$113 -> 0.3195 | AY105: b | BC105: 3 | BD105: 8 | BE105: 0.041 | BF105: 0.128 | BG105: =+BF105-BE$113 -> 0.087076923 | BH105: b | BM105: 8 | BN105: 0.041 | BO105: 0.212 | BP105: =+BO105-BN$107 -> 0.16966667 | BQ105: a
A106: 4 | B106: 9 | C106: 0.042 | D106: 0.273 | E106: =+D106-C$113 -> 0.229 | F106: b | J106: 4 | K106: 9 | O106: b | S106: 5 | T106: 10 | V106: 0.162 | W106: =+V106-U$112 -> 0.11766667 | X106: b | AB106: 5 | AC106: 10 | AH106: b | AK106: 4 | AL106: 9 | AM106: 0.042 | AN106: 0.165 | AO106: =+AN106-AM$113 -> 0.12183333 | AP106: b | AT106: 5 | AU106: 10 | AV106: 0.046 | AY106: b | BC106: 4 | BD106: 9 | BE106: 0.04 | BF106: 0.133 | BG106: =+BF106-BE$113 -> 0.092076923 | BH106: b
A107: 5 | B107: 10 | C107: 0.043 | D107: 0.298 | E107: =+D107-C$113 -> 0.254 | F107: b | J107: 5 | K107: 10 | M107: 0.375 | N107: =+M107-L$113 -> 0.323 | O107: b | S107: 6 | T107: 11 | V107: 0.133 | W107: =+V107-U$112 -> 0.088666667 | X107: b | AB107: 6 | AC107: 11 | AH107: b | AK107: 5 | AL107: 10 | AM107: 0.044 | AN107: 0.363 | AO107: =+AN107-AM$113 -> 0.31983333 | AP107: b | AT107: 6 | AU107: 11 | AV107: 0.043 | AW107: 0.16 | AX107: =+AW107-AV$113 -> 0.1165 | AY107: b | BC107: 5 | BD107: 10 | BE107: 0.041 | BF107: 0.305 | BG107: =+BF107-BE$113 -> 0.26407692 | BH107: b | BL107: no. | BM107: 7 | BN107: =+AVERAGE(BN92:BN105) -> 0.042333333 | BO107: Promedio | BP107: =+AVERAGE(BP98:BP105) -> 0.16238095
...

Sheet tabla
A1: vuelta= repeticion en el tiempo de fisiologia de las cuatro dietas
A2: serie= tandas de mediciones colorimetricas en el espectro
A3: dispositivo:1= tara, 2=camara respirometrica
A5: vuelta | B5: serie lectura | C5: dieta | D5: dispositivo | E5: no. | F5: prote (mg/ml) | G5: lacta (mg/ml) | H5: triacyl (mg/ml) | I5: pro FO (DO) | J5: P.O hipo | K5: Peso (gr) | L5: glucogeno(mg/g) | N5: Presion osm. | O5: P. O. medio | P5: dietas | Q5: prom po hipo | R5: prom po
A6: 1 | B6: a | C6: 4 | D6: 1 | E6: 1 | F6: 254.05512 | G6: 0.29237875 | H6: 0.46583851 | J6: =+N6-O6 -> -392 | K6: 3.96 | N6: 766 | O6: 1158 | P6: 4 | Q6: =+AVERAGE(J6:J19) -> -388 | R6: =+AVERAGE(N6:N19) -> 790.92308
A7: 1 | B7: a | C7: 4 | D7: 1 | E7: 2 | F7: 382.14567 | G7: 0.13718245 | I7: 0.376 | J7: =+N7-O7 -> -379 | K7: 3.11 | N7: 779 | O7: 1158 | P7: 3 | Q7: =+AVERAGE(J20:J33) -> -359 | R7: =+AVERAGE(N20:N33) -> 832.3
A8: 1 | B8: a | C8: 4 | D8: 1 | E8: 3 | F8: 332.8937 | G8: 0.21616628 | H8: 0.52173913 | I8: 0.042 | J8: =+N8-O8 -> -350 | K8: 3.02 | N8: 808 | O8: 1158 | P8: 2 | Q8: =+AVERAGE(J34:J47) -> -351.25 | R8: =+AVERAGE(N34:N47) -> 824.58333
A9: 1 | B9: a | C9: 4 | D9: 1 | E9: 4 | F9: 491.63386 | G9: 0.037413395 | H9: 0.76397516 | I9: 0.662 | J9: =+N9-O9 -> -337 | K9: 3.13 | N9: 821 | O9: 1158 | P9: 1 | Q9: =+AVERAGE(J48:J61) -> -342.66667 | R9: =+AVERAGE(N48:N61) -> 801.41667
A10: 1 | B10: a | C10: 4 | D10: 1 | E10: 5 | F10: 335.90551 | G10: 0.07482679 | H10: 0.40993789 | I10: 0.772 | J10: =+N10-O10 -> -399 | K10: 3.43 | N10: 759 | O10: 1158 | P10: 4 | Q10: =+AVERAGE(J62:J75) -> -342.30769 | R10: =+AVERAGE(N62:N75) -> 802.15385
A11: 1 | B11: b | C11: 4 | D11: 2 | E11: 6 | K11: 1.7913 | P11: 3 | Q11: =+AVERAGE(J76:J89) -> -346.83333 | R11: =+AVERAGE(N76:N89) -> 800.66667
A12: 1 | B12: b | C12: 4 | D12: 2 | E12: 7 | F12: 265.875 | G12: 0.061601643 | H12: 0.3147541 | I12: 0.14 | J12: =+N12-O12 -> -417 | K12: 3.1352 | N12: 775 | O12: 1192 | P12: 2 | Q12: =+AVERAGE(J90:J103) -> -319.27273 | R12: =+AVERAGE(N90:N103) -> 830.09091
A13: 1 | B13: b | C13: 4 | D13: 2 | E13: 8 | J13: =+N13-O13 -> -320 | K13: 2.4501 | N13: 872 | O13: 1192 | P13: 1 | Q13: =+AVERAGE(J104:J111) -> -360 | R13: =+AVERAGE(N104:N111) -> 796
A14: 1 | B14: b | C14: 4 | D14: 2 | E14: 9 | F14: 257.625 | G14: 0.056673511 | H14: 0.45245902 | I14: 0.229 | J14: =+N14-O14 -> -452 | K14: 2.4941 | N14: 740 | O14: 1192
A15: 1 | B15: b | C15: 4 | D15: 2 | E15: 10 | F15: 252.375 | G15: 0.10841889 | H15: 0.49180328 | I15: 0.254 | J15: =+N15-O15 -> -341 | K15: 2.3539 | N15: 851 | O15: 1192
A16: 1 | B16: b | C16: 4 | D16: 2 | E16: 11 | F16: 280.125 | G16: 0.081314168 | I16: 0.105 | J16: =+N16-O16 -> -467 | K16: 1.8922 | N16: 725 | O16: 1192
A17: 1 | B17: b | C17: 4 | D17: 2 | E17: 12 | J17: =+N17-O17 -> -360 | K17: 1.3513 | N17: 832 | O17: 1192
A18: 1 | B18: b | C18: 4 | D18: 2 | E18: 13 | F18: 240.9375 | G18: 0.03449692 | H18: 0.51147541 | I18: 0.099 | J18: =+N18-O18 -> -421 | K18: 1.923 | N18: 771 | O18: 1192
A19: 1 | B19: b | C19: 4 | D19: 2 | E19: 14 | J19: =+N19-O19 -> -409 | K19: 1.0994 | N19: 783 | O19: 1192
A20: 1 | B20: a | C20: 3 | D20: 1 | E20: 1 | F20: 247.3249 | G20: 0.20684932 | H20: 1.9619048 | I20: 0.382 | J20: =+N20-O20 -> -337.5 | K20: 1.7179 | N20: 831 | O20: 1168.5
A21: 1 | B21: a | C21: 3 | D21: 1 | E21: 2 | F21: 188.66732 | G21: 0.26438356 | H21: 3.6952381 | I21: 0.47 | J21: =+N21-O21 -> -398.5 | K21: 2.1048 | N21: 770 | O21: 1168.5
A22: 1 | B22: a | C22: 3 | D22: 1 | E22: 3 | F22: 176.41051 | G22: 0.23424658 | H22: 1.9428571 | I22: 0.267 | J22: =+N22-O22 -> -266.5 | K22: 0.08859 | N22: 902 | O22: 1168.5
A23: 1 | B23: a | C23: 3 | D23: 1 | E23: 4 | F23: 147.9572 | G23: 0.2739726 | H23: 2.7238095 | I23: 0.469 | K23: 0.9832
A24: 1 | B24: a | C24: 3 | D24: 1 | E24: 5 | F24: 207.05253 | G24: 0.33150685 | H24: 1.8857143 | I24: 0.638 | J24: =+N24-O24 -> -354.5 | K24: 1.2555 | N24: 814 | O24: 1168.5
A25: 1 | B25: a | C25: 3 | D25: 2 | E25: 6 | K25: 2.669
A26: 1 | B26: a | C26: 3 | D26: 2 | E26: 7 | F26: 207.05253 | G26: 0.14109589 | H26: 4.4190476 | I26: 0.203 | J26: =+N26-O26 -> -413.5 | K26: 2.3358 | N26: 793 | O26: 1206.5
A27: 1 | B27: b | C27: 3 | D27: 2 | E27: 8 | F27: 191.625 | G27: 0.38767123 | H27: 3.4857143 | I27: 0.181 | J27: =+N27-O27 -> -446.5 | K27: 2.2204 | N27: 760 | O27: 1206.5
A28: 1 | B28: b | C28: 3 | D28: 2 | E28: 9 | J28: =+N28-O28 -> -372.5 | K28: 1.8981 | N28: 834 | O28: 1206.5
A29: 1 | B29: b | C29: 3 | D29: 2 | E29: 10 | F29: 146.0625 | G29: 0.078082192 | H29: 1.9047619 | I29: 0.323 | J29: =+N29-O29 -> -468.5 | K29: 1.3309 | N29: 738 | O29: 1206.5
A30: 1 | B30: b | C30: 3 | D30: 2 | E30: 11 | F30: 125.8125 | G30: 0.12328767 | H30: 3.2190476 | I30: 0.354 | K30: 1.5397
A31: 1 | B31: b | C31: 3 | D31: 2 | E31: 12 | F31: 134.4375 | G31: 0.036986301 | H31: 2.0380952 | I31: 0.121 | J31: =+N31-O31 -> -215.5 | K31: 1.1229 | N31: 991 | O31: 1206.5
A32: 1 | B32: b | C32: 3 | D32: 2 | E32: 13 | F32: 120.1875 | G32: 0.10273973 | H32: 1.847619 | I32: 0.388 | K32: 1.1741
A33: 1 | B33: b | C33: 3 | D33: 2 | E33: 14 | J33: =+N33-O33 -> -316.5 | K33: 0.7522 | N33: 890 | O33: 1206.5
A34: 1 | B34: a | C34: 2 | D34: 1 | E34: 1 | F34: 110.52365 | G34: 0.19311628 | H34: 1.9002933 | J34: =+N34-O34 -> -386.5 | K34: 1.4582 | N34: 774 | O34: 1160.5
A35: 1 | B35: a | C35: 2 | D35: 1 | E35: 2 | F35: 110.52365 | G35: 0.21544186 | H35: 2.3225806 | I35: 0.64766667 | J35: =+N35-O35 -> -297.5 | K35: 1.6748 | N35: 863 | O35: 1160.5
A36: 1 | B36: a | C36: 2 | D36: 1 | E36: 3 | F36: 183.19257 | G36: 0.069209302 | H36: 2.0938416 | I36: 0.20566667 | J36: =+N36-O36 -> -344.5 | K36: 1.6597 | N36: 816 | O36: 1160.5
A37: 1 | B37: a | C37: 2 | D37: 1 | E37: 4 | F37: 145.33784 | G37: 0.16744186 | H37: 2.0410557 | I37: 0.47766667 | J37: =+N37-O37 -> -230.5 | K37: 1.6606 | N37: 930 | O37: 1160.5
A38: 1 | B38: a | C38: 2 | D38: 1 | E38: 5 | F38: 131.50338 | G38: 0.064744186 | H38: 2.1466276 | I38: 0.37266667 | K38: 1.2493
A39: 1 | B39: a | C39: 2 | D39: 2 | E39: 6 | F39: 167.98986 | G39: 0.062511628 | H39: 1.9530792 | I39: 0.36866667 | J39: =+N39-O39 -> -252.5 | K39: 1.9087 | N39: 931 | O39: 1183.5
A40: 1 | B40: b | C40: 2 | D40: 2 | E40: 7 | F40: 151.41892 | G40: 0.020093023 | H40: 2.8328446 | I40: 0.081666667 | J40: =+N40-O40 -> -439.5 | K40: 1.9709 | N40: 744 | O40: 1183.5
A41: 1 | B41: b | C41: 2 | D41: 2 | E41: 8 | F41: 135.36145 | G41: 0.074790698 | H41: 2.568915 | I41: 0.13866667 | J41: =+N41-O41 -> -391.5 | K41: 1.5604 | N41: 792 | O41: 1183.5
A42: 1 | B42: b | C42: 2 | D42: 2 | E42: 9 | F42: 263.13253 | G42: 0.022325581 | H42: 2.4457478 | I42: 0.25666667 | J42: =+N42-O42 -> -334.5 | K42: 1.7931 | N42: 849 | O42: 1183.5
A43: 1 | B43: b | C43: 2 | D43: 2 | E43: 10 | F43: 239.45783 | G43: 0.043534884 | H43: 1.5659824 | I43: 0.11766667 | J43: =+N43-O43 -> -464.5 | K43: 1.3858 | N43: 719 | O43: 1183.5
A44: 1 | B44: b | C44: 2 | D44: 2 | E44: 11 | F44: 166.26506 | G44: 0.03572093 | H44: 2.0058651 | I44: 0.088666667 | K44: 1.427
A45: 1 | B45: b | C45: 2 | D45: 2 | E45: 12 | F45: 209.09639 | J45: =+N45-O45 -> -274.5 | K45: 1.3559 | N45: 909 | O45: 1183.5
A46: 1 | B46: b | C46: 2 | D46: 2 | E46: 13 | G46: 0.018976744 | H46: 1.601173 | I46: 0.13566667 | J46: =+N46-O46 -> -453.5 | K46: 1.248 | N46: 730 | O46: 1183.5
A47: 1 | B47: b | C47: 2 | D47: 2 | E47: 14 | F47: 87.289157 | G47: 0.1015814 | H47: 1.4428152 | I47: 0.13566667 | J47: =+N47-O47 -> -345.5 | K47: 1.3237 | N47: 838 | O47: 1183.5
A48: 1 | B48: a | C48: 1 | D48: 1 | E48: 1 | F48: 175.70539 | G48: 0.097425743 | H48: 3.1314741 | J48: =+N48-O48 -> -307.5 | K48: 2.0625 | N48: 836 | O48: 1143.5
A49: 1 | B49: a | C49: 1 | D49: 1 | E49: 2 | F49: 179.06639 | G49: 0.39445545 | H49: 3.561753 | I49: 0.397 | J49: =+N49-O49 -> -331.5 | K49: 2.217 | N49: 812 | O49: 1143.5
A50: 1 | B50: a | C50: 1 | D50: 1 | E50: 3 | F50: 154.79253 | G50: 0.14970297 | I50: 0.145 | J50: =+N50-O50 -> -322.5 | K50: 2.126 | N50: 821 | O50: 1143.5
A51: 1 | B51: a | C51: 1 | D51: 1 | E51: 4 | F51: 223.50622 | G51: 0.12237624 | H51: 5.5219124 | I51: 0.425 | J51: =+N51-O51 -> -311.5 | K51: 1.7343 | N51: 832 | O51: 1143.5
A52: 1 | B52: a | C52: 1 | D52: 1 | E52: 5 | F52: 157.40664 | G52: 0.10811881 | H52: 1.6494024 | I52: 0.675 | J52: =+N52-O52 -> -386.5 | K52: 2.1818 | N52: 757 | O52: 1143.5
A53: 1 | B53: a | C53: 1 | D53: 2 | E53: 6 | F53: 206.51452 | G53: 0.21386139 | H53: 6.1912351 | I53: 0.342 | J53: =+N53-O53 -> -265.5 | K53: 2.7301 | N53: 879 | O53: 1144.5
A54: 1 | B54: a | C54: 1 | D54: 2 | E54: 7 | F54: 184.85477 | G54: 0.096237624 | H54: 2.7011952 | I54: 0.549 | J54: =+N54-O54 -> -324.5 | K54: 2.3686 | N54: 820 | O54: 1144.5
A55: 1 | B55: b | C55: 1 | D55: 2 | E55: 8 | F55: 175.29289 | G55: 0.04990099 | H55: 1.7468354 | K55: 2.1183
A56: 1 | B56: b | C56: 1 | D56: 2 | E56: 9 | F56: 183.20084 | G56: 0.0047524752 | H56: 1.8607595 | J56: =+N56-O56 -> -403.5 | K56: 1.894 | N56: 741 | O56: 1144.5
A57: 1 | B57: b | C57: 1 | D57: 2 | E57: 10 | F57: 149.12134 | G57: 0.028514851 | H57: 1.3481013 | K57: 2.2522
A58: 1 | B58: b | C58: 1 | D58: 2 | E58: 11 | F58: 183.57741 | H58: 2.6582278 | J58: =+N58-O58 -> -380.5 | K58: 1.4201 | N58: 764 | O58: 1144.5
A59: 1 | B59: b | C59: 1 | D59: 2 | E59: 12 | F59: 125.58577 | G59: 0.04990099 | H59: 1.4240506 | J59: =+N59-O59 -> -442.5 | K59: 1.3738 | N59: 702 | O59: 1144.5
A60: 1 | B60: b | C60: 1 | D60: 2 | E60: 13 | F60: 219.72803 | G60: 0.02970297 | H60: 2.7531646 | J60: =+N60-O60 -> -309.5 | K60: 1.3158 | N60: 835 | O60: 1144.5
A61: 1 | B61: b | C61: 1 | D61: 2 | E61: 14 | F61: 179.81172 | G61: 0.022574257 | H61: 3.0759494 | J61: =+N61-O61 -> -326.5 | K61: 1.1677 | N61: 818 | O61: 1144.5
A62: 2 | B62: a | C62: 4 | D62: 1 | E62: 1 | F62: 189.53917 | H62: 0.54915254 | I62: 0.50383333 | J62: =+N62-O62 -> -352 | K62: 3.0985 | L62: 14.940724 | N62: 782 | O62: 1134
A63: 2 | B63: a | C63: 4 | D63: 1 | E63: 2 | F63: 208.61751 | H63: 0.52881356 | I63: 0.47683333 | J63: =+N63-O63 -> -371 | K63: 3.1153 | L63: 2.5177322 | N63: 763 | O63: 1134
A64: 2 | B64: a | C64: 4 | D64: 1 | E64: 3 | F64: 174.40092 | H64: 0.48813559 | I64: 0.67283333 | J64: =+N64-O64 -> -347 | K64: 2.8412 | L64: 29.216136 | N64: 787 | O64: 1134
A65: 2 | B65: a | C65: 4 | D65: 1 | E65: 4 | F65: 205.29954 | H65: 0.40677966 | I65: 0.57183333 | J65: =+N65-O65 -> -384 | K65: 2.6652 | L65: 4.547177 | N65: 750 | O65: 1134
A66: 2 | B66: a | C66: 4 | D66: 1 | E66: 5 | F66: 152.62673 | H66: 0.30508475 | I66: 0.29183333 | J66: =+N66-O66 -> -392 | K66: 3.1168 | L66: 16.012301 | N66: 742 | O66: 1134
A67: 2 | B67: a | C67: 4 | D67: 2 | E67: 6 | F67: 182.07373 | H67: 0.30508475 | I67: 0.49983333 | J67: =+N67-O67 -> -190 | K67: 3.2592 | L67: 70.935961 | N67: 961 | O67: 1151
A68: 2 | B68: a | C68: 4 | D68: 2 | E68: 7 | F68: 180.41475 | H68: 0.48813559 | I68: 0.63783333 | J68: =+N68-O68 -> -399 | K68: 2.6669 | L68: 25.650278 | N68: 752 | O68: 1151
A69: 2 | B69: b | C69: 4 | D69: 2 | E69: 8 | F69: 194.33333 | H69: 0.56949153 | I69: 0.16183333 | J69: =+N69-O69 -> -406 | K69: 3.1203 | L69: 8.1782964 | N69: 745 | O69: 1151
A70: 2 | B70: b | C70: 4 | D70: 2 | E70: 9 | F70: 331.83333 | G70: 0.023814774 | H70: 0.87457627 | I70: 0.12183333 | J70: =+N70-O70 -> -316 | K70: 2.6825 | L70: 82.226961 | N70: 835 | O70: 1151
A71: 2 | B71: b | C71: 4 | D71: 2 | E71: 10 | F71: 274 | G71: 0.022326351 | H71: 0.79322034 | I71: 0.31983333 | J71: =+N71-O71 -> -280 | K71: 2.3277 | L71: 24.431908 | N71: 871 | O71: 1151
A72: 2 | B72: b | C72: 4 | D72: 2 | E72: 11 | F72: 229.16667 | G72: 0.022326351 | H72: 0.56949153 | I72: 0.45283333 | J72: =+N72-O72 -> -315 | K72: 2.4982 | L72: 125.81038 | N72: 836 | O72: 1151
A73: 2 | B73: b | C73: 4 | D73: 2 | E73: 12 | J73: =+N73-O73 -> -375 | K73: 2.3505 | L73: 20.297941 | N73: 776 | O73: 1151
A74: 2 | B74: b | C74: 4 | D74: 2 | E74: 13 | F74: 115.66667 | G74: 0.057056229 | H74: 0.38644068 | I74: 0.10483333 | J74: =+N74-O74 -> -323 | K74: 1.7843 | L74: 62.10586 | N74: 828 | O74: 1151
A75: 2 | B75: b | C75: 4 | D75: 2 | E75: 14 | F75: 202.66667 | G75: 0.069955899 | H75: 0.63050847 | I75: 0.47083333 | K75: 2.2749 | L75: 35.608408
A76: 2 | B76: a | C76: 3 | D76: 1 | E76: 1 | F76: 188.38057 | G76: 0.087687366 | H76: 1.7373134 | I76: 0.1575 | J76: =+N76-O76 -> -248.5 | K76: 1.1602 | L76: 51.472113 | N76: 888 | O76: 1136.5
A77: 2 | B77: a | C77: 3 | D77: 1 | E77: 2 | F77: 138.64372 | G77: 0.31846895 | H77: 1.8985075 | I77: 0.2035 | J77: =+N77-O77 -> -288.5 | K77: 2.2113 | L77: 13.268745 | N77: 848 | O77: 1136.5
A78: 2 | B78: a | C78: 3 | D78: 1 | E78: 3 | F78: 157.04453 | G78: 0.14164882 | H78: 2.919403 | I78: 0.0845 | J78: =+N78-O78 -> -315.5 | K78: 1.804 | L78: 36.880229 | N78: 821 | O78: 1136.5
A79: 2 | B79: a | C79: 3 | D79: 1 | E79: 4 | F79: 192.20648 | G79: 0.19175589 | H79: 1.2716418 | I79: 0.1675 | J79: =+N79-O79 -> -314.5 | K79: 1.7684 | L79: 35.567276 | N79: 822 | O79: 1136.5
A80: 2 | B80: a | C80: 3 | D80: 1 | E80: 5 | F80: 185.46559 | G80: 0.20278908 | H80: 1.6119403 | I80: 0.3185 | K80: 3.2419 | L80: 31.458094
A81: 2 | B81: a | C81: 3 | D81: 2 | E81: 6 | F81: 170.89069 | G81: 0.053961456 | H81: 2.6328358 | I81: 0.3955 | J81: =+N81-O81 -> -388 | K81: 2.4963 | L81: 32.234794 | N81: 765 | O81: 1153
A82: 2 | B82: a | C82: 3 | D82: 2 | E82: 7 | F82: 166.15385 | G82: 0.062633833 | H82: 2.5791045 | I82: 0.3195 | J82: =+N82-O82 -> -436 | K82: 2.6313 | L82: 13.96665 | N82: 717 | O82: 1153
A83: 2 | B83: a | C83: 3 | D83: 2 | E83: 8 | F83: 128.33198 | G83: 0.12083512 | H83: 2.2137313 | I83: 0.1385 | J83: =+N83-O83 -> -346 | K83: 1.7725 | L83: 24.929705 | N83: 807 | O83: 1153
A84: 2 | B84: b | C84: 3 | D84: 2 | E84: 9 | F84: 136.69373 | G84: 0.056659529 | H84: 0.66626866 | I84: 0.3195 | K84: 1.2858 | L84: 14.009413
A85: 2 | B85: b | C85: 3 | D85: 2 | E85: 10 | F85: 150.77491 | G85: 0.042398287 | H85: 1.8089552 | J85: =+N85-O85 -> -409 | K85: 2.0326 | L85: 12.991544 | N85: 744 | O85: 1153
A86: 2 | B86: b | C86: 3 | D86: 2 | E86: 11 | F86: 234.9631 | G86: 0.033244111 | H86: 2.5074627 | I86: 0.1165 | J86: =+N86-O86 -> -177 | K86: 1.4696 | L86: 45.457001 | N86: 976 | O86: 1153
A87: 2 | B87: b | C87: 3 | D87: 2 | E87: 12 | F87: 114.90775 | G87: 0.03372591 | H87: 2.2925373 | I87: 0.3625 | J87: =+N87-O87 -> -420 | K87: 1.5 | L87: 17.03476 | N87: 733 | O87: 1153
A88: 2 | B88: b | C88: 3 | D88: 2 | E88: 13 | F88: 133.33948 | G88: 0.09009636 | H88: 2.0776119 | I88: 0.7185 | J88: =+N88-O88 -> -396 | K88: 1.6703 | L88: 18.959913 | N88: 757 | O88: 1153
A89: 2 | B89: b | C89: 3 | D89: 2 | E89: 14 | F89: 162.39852 | G89: 0.042880086 | H89: 0.94925373 | I89: 0.1365 | J89: =+N89-O89 -> -423 | K89: 1.6458 | L89: 11.151265 | N89: 730 | O89: 1153
A90: 2 | B90: a | C90: 2 | D90: 1 | E90: 1 | F90: 202.67442 | G90: 0.16375546 | H90: 0.44642857 | I90: 0.15307692 | J90: =+N90-O90 -> -353.5 | K90: 1.5032 | N90: 793 | O90: 1146.5
A91: 2 | B91: a | C91: 2 | D91: 1 | E91: 2 | F91: 201.27907 | G91: 0.15720524 | H91: 1 | I91: 0.19507692 | J91: =+N91-O91 -> -335.5 | K91: 1.2717 | L91: 129.0296 | N91: 811 | O91: 1146.5
A92: 2 | B92: a | C92: 2 | D92: 1 | E92: 3 | F92: 146.33721 | G92: 0.048471616 | H92: 1.5 | I92: 0.39907692 | J92: =+N92-O92 -> -254.5 | K92: 0.9821 | L92: 104.64421 | N92: 892 | O92: 1146.5
A93: 2 | B93: a | C93: 2 | D93: 1 | E93: 4 | F93: 151.04651 | G93: 0.045851528 | H93: 0.41071429 | I93: 0.12307692 | K93: 1.1554 | L93: 117.79194
A94: 2 | B94: a | C94: 2 | D94: 1 | E94: 5 | F94: 165.13953 | G94: 0.094323144 | H94: 2.0785714 | I94: 0.19407692 | J94: =+N94-O94 -> -319.5 | K94: 0.8752 | L94: 126.74349 | N94: 827 | O94: 1146.5
A95: 2 | B95: a | C95: 2 | D95: 2 | E95: 6 | F95: 134.65116 | G95: 0.10349345 | H95: 0.44642857 | I95: 0.087076923 | J95: =+N95-O95 -> -162 | K95: 1.8441 | L95: 70.015614 | N95: 989 | O95: 1151
A96: 2 | B96: a | C96: 2 | D96: 2 | E96: 7 | F96: 191.33721 | G96: 0.044541485 | H96: 2.2857143 | I96: 0.32507692 | J96: =+N96-O96 -> -395 | K96: 1.5165 | L96: 100.54106 | N96: 756 | O96: 1151
A97: 2 | B97: b | C97: 2 | D97: 2 | E97: 8 | F97: 146.91176 | G97: 0.081222707 | H97: 1.6106195 | I97: 0.087076923 | J97: =+N97-O97 -> -353 | K97: 1.3622 | L97: 73.285957 | N97: 798 | O97: 1151
A98: 2 | B98: b | C98: 2 | D98: 2 | E98: 9 | F98: 138.47426 | G98: 0.073362445 | H98: 0.84955752 | I98: 0.092076923 | J98: =+N98-O98 -> -418 | K98: 1.4953 | L98: 56.268937 | N98: 733 | O98: 1151
A99: 2 | B99: b | C99: 2 | D99: 2 | E99: 10 | F99: 190.58824 | G99: 0.05371179 | H99: 0.77876106 | I99: 0.26407692 | J99: =+N99-O99 -> -271 | K99: 1.645 | L99: 65.283832 | N99: 880 | O99: 1151
A100: 2 | B100: b | C100: 2 | D100: 2 | E100: 11 | F100: 113.98897 | G100: 0.052401747 | H100: 1.5575221 | I100: 0.35407692 | K100: 1.6078 | L100: 82.31061
A101: 2 | B101: b | C101: 2 | D101: 2 | E101: 12 | F101: 126.06618 | G101: 0.026200873 | H101: 1.5575221 | I101: 0.37507692 | J101: =+N101-O101 -> -295 | K101: 1.5648 | L101: 85.298858 | N101: 856 | O101: 1151
...

Sheet prom
Q1: vuelta b
B2: PROTEINAS | D2: LACTATO | F2: TRIGLICERIDOS | H2: pro FO | J2: Glucogeno | L2: P.O. Hipo | O2: P.O | Q2: diatas | R2: Proteinas | S2: P.O. | T2: Glucogeno | U2: Lactato | V2: Trigliceridos | Z2: dietas | AA2: prom po hipo | AB2: prom po
A3: DIETAS | B3: A | C3: B | D3: A | E3: B | F3: A | G3: B | H3: A | I3: B | J3: A | K3: B | L3: A | M3: B | N3: PROM | O3: A | P3: B | Q3: 4 | R3: =datos!$AQ$31 -> 203.12608 | S3: 802.15385 | T3: =datos!$AP$141 -> 32.914044 | U3: =datos!$AQ$60 -> 0.039095921 | V3: =datos!$AO$87 -> 0.5303781 | Z3: 4 | AA3: -388 | AB3: 790.92308
A4: 4 | B4: =datos!$G$31 -> 309.35714 | C4: =datos!$AQ$31 -> 203.12608 | D4: =datos!$E$59 -> 0.11004728 | E4: =datos!$AQ$60 -> 0.039095921 | F4: =datos!$E$86 -> 0.49149781 | G4: =datos!$AO$87 -> 0.5303781 | H4: =datos!$E$113 -> 0.29766667 | I4: =datos!$AO$113 -> 0.40133333 | K4: =datos!$AP$141 -> 32.914044 | L4: -388 | M4: -342.30769 | N4: =+AVERAGE(L4:M4) -> -365.15385 | O4: 790.92308 | P4: 802.15385 | Q4: 3 | R4: =datos!$AZ$31 -> 161.44249 | S4: 800.66667 | T4: =datos!$AY$141 -> 25.670107 | U4: =datos!$AZ$60 -> 0.10562749 | V4: =datos!$AX$87 -> 1.9404691 | Z4: 3 | AA4: -359 | AB4: 832.3
A5: 3 | B5: =datos!$P$31 -> 172.05363 | C5: =datos!$AZ$31 -> 161.44249 | D5: =datos!$N$59 -> 0.19825654 | E5: =datos!$AZ$60 -> 0.10562749 | F5: =datos!$N$86 -> 2.647619 | G5: =datos!$AX$87 -> 1.9404691 | H5: =datos!$N$113 -> 0.34509091 | I5: =datos!$AY$113 -> 0.2645 | K5: =datos!$AY$141 -> 25.670107 | L5: -359 | M5: -346.83333 | N5: =+AVERAGE(L5:M5) -> -352.91667 | O5: 832.3 | P5: 800.66667 | Q5: 2 | R5: =datos!$BI$30 -> 157.39352 | S5: 830.09091 | T5: =datos!$BH$141 -> 86.556737 | U5: =datos!$BG$58 -> 0.074092327 | V5: =datos!$BG$86 -> 1.302761 | Z5: 2 | AA5: -351.25 | AB5: 824.58333
A6: 2 | B6: =datos!$Y$30 -> 166.66098 | C6: =datos!$BI$30 -> 157.39352 | D6: =datos!$W$58 -> 0.083806798 | E6: =datos!$BG$58 -> 0.074092327 | F6: =datos!$W$86 -> 2.0708324 | G6: =datos!$BG$86 -> 1.302761 | H6: =datos!$X$112 -> 0.25225 | I6: =datos!$BG$113 -> 0.20857692 | K6: =datos!$BH$141 -> 86.556737 | L6: -351.25 | M6: -319.27273 | N6: =+AVERAGE(L6:M6) -> -335.26136 | O6: 824.58333 | P6: 830.09091 | Q6: 1 | R6: =datos!$BR$25 -> 184.50605 | S6: 796 | T6: =datos!$BQ$135 -> 60.535519 | U6: =datos!$BP$53 -> 0.059454996 | V6: =datos!$BP$81 -> 1.8528657 | Z6: 1 | AA6: -342.66667 | AB6: 801.41667
A7: 1 | B7: =datos!$AH$30 -> 178.44032 | C7: =datos!$BR$25 -> 184.50605 | D7: =datos!$AF$58 -> 0.10519421 | E7: =datos!$BP$53 -> 0.059454996 | F7: =datos!$AF$86 -> 2.8941585 | G7: =datos!$BP$81 -> 1.8528657 | H7: =datos!$AF$112 -> 0.42216667 | I7: =datos!$BP$107 -> 0.16238095 | K7: =datos!$BQ$135 -> 60.535519 | L7: -342.66667 | M7: -360 | N7: =+AVERAGE(L7:M7) -> -351.33333 | O7: 801.41667 | P7: 796 | Z7: 4 | AA7: -342.30769 | AB7: 802.15385
Z8: 3 | AA8: -346.83333 | AB8: 800.66667
Z9: 2 | AA9: -319.27273 | AB9: 830.09091
Z10: 1 | AA10: -360 | AB10: 796
C25: Valid N | D25: Mean | E25: Minimum | F25: Maximum | G25: Std.Dev. | H25: ES | I25: %ES
B26: PESO | C26: 106 | D26: 1.9015924 | E26: 0.08859 | F26: 3.96 | G26: 0.68678874 | H26: =+G26/SQRT(C26) -> 0.06670682 | I26: =+H26/D26*100 -> 3.5079453
B27: PROTEINAS | C27: 96 | D27: 187.20916 | E27: 87.289157 | F27: 491.63386 | G27: 62.727117 | H27: =+G27/SQRT(C27) -> 6.4020596 | I27: =+H27/D27*100 -> 3.4197362
B28: P.O. HIPO | C28: 90 | D28: -351.16667 | E28: -468.5 | F28: -162 | G28: 65.663938 | H28: =+G28/SQRT(C28) -> 6.9215869 | I28: =+H28/D28*100 -> -1.9710262
B29: TRIACIL | C29: 93 | D29: 1.7512997 | E29: 0.30508475 | F29: 6.1912351 | G29: 1.1212928 | H29: =+G29/SQRT(C29) -> 0.11627265 | I29: =+H29/D29*100 -> 6.6392207
B30: LACTATE | C30: 87 | D30: 0.10190862 | E30: 0.0047524752 | F30: 0.39445545 | G30: 0.086466832 | H30: =+G30/SQRT(C30) -> 0.0092702175 | I30: =+H30/D30*100 -> 9.0965982
B31: FO | C31: 85 | D31: 0.29196561 | E31: 0.042 | F31: 0.772 | G31: 0.18258328 | H31: =+G31/SQRT(C31) -> 0.019803937 | I31: =+H31/D31*100 -> 6.782969
B32: GLYCOGEN | C32: 48 | D32: 51.735813 | E32: 2.5177322 | F32: 129.0296 | G32: 37.847973 | H32: =+G32/SQRT(C32) -> 5.4628844 | I32: =+H32/D32*100 -> 10.559193

Sheet sta
B1: Efecto vuelta y dieta | M1: Efecto dieta y dispositivo | X1: Efecto dieta y serie | AG1: Efecto dieta SOLAMENTE
A3: * | B3: PESO | L3: * | M3: PESO | W3: * | X3: PESO | AF3: * | AG3: PESO
B4: Summary of all Effects; design: (smalta.sta) | M4: Summary of all Effects; design: (smalta.sta) | X4: Summary of all Effects; design: (smalta.sta) | AG4: Summary of all Effects; design: (smalta.sta)
B5: 1-DIETA, 2-VUELTA | M5: 1-DIETA, 2-DISPOSI | X5: 1-DIETA, 2-SERIE | AG5: 1-DIETA
C6: df | D6: MS | E6: df | F6: MS | N6: df | O6: MS | P6: df | Q6: MS | Y6: df | Z6: MS | AA6: df | AB6: MS | AH6: df | AI6: MS | AJ6: df | AK6: MS
C7: Effect | D7: Effect | E7: Error | F7: Error | G7: F | H7: p-level | N7: Effect | O7: Effect | P7: Error | Q7: Error | R7: F | S7: p-level | Y7: Effect | Z7: Effect | AA7: Error | AB7: Error | AC7: F | AD7: p-level | AH7: Effect | AI7: Effect | AJ7: Error | AK7: Error | AL7: F | AM7: p-level
B8: 1 | C8: 3 | D8: 6.9110756 | E8: 98 | F8: 0.27471977 | G8: 25.156818 | H8: 3.747073e-12 | M8: 1 | N8: 3 | O8: 8.0225468 | P8: 98 | Q8: 0.24167471 | R8: 33.195641 | S8: 6.8267764e-15 | X8: 1 | Y8: 3 | Z8: 40879.379 | AA8: 88 | AB8: 2781.6445 | AC8: 14.696119 | AD8: 7.7288732e-08 | AG8: 1 | AH8: 3 | AI8: 6.8562574 | AJ8: 102 | AK8: 0.28389704 | AL8: 24.150507 | AM8: 6.8795573e-12
B9: 2 | C9: 1 | D9: 0.014934581 | E9: 98 | F9: 0.27471977 | G9: 0.054362964 | H9: 0.8161245 | M9: 2 | N9: 1 | O9: 1.0681086 | P9: 98 | Q9: 0.24167471 | R9: 4.4196124 | S9: 0.038091425 | X9: 2 | Y9: 1 | Z9: 3634.6487 | AA9: 88 | AB9: 2781.6445 | AC9: 1.3066547 | AD9: 0.25610152
B10: 12 | C10: 3 | D10: 0.65810764 | E10: 98 | F10: 0.27471977 | G10: 2.3955598 | H10: 0.072847009 | M10: 12 | N10: 3 | O10: 1.4216303 | P10: 98 | Q10: 0.24167471 | R10: 5.8824124 | S10: 0.00098053156 | X10: 12 | Y10: 3 | Z10: 1242.3726 | AA10: 88 | AB10: 2781.6445 | AC10: 0.44663239 | AD10: 0.72029322 | AG10: Duncan test; PESO (smalta.sta)
AG11: Probabilities for Post Hoc Tests
AG12: MAIN EFFECT: DIETA
AH13: {1} | AI13: {2} | AJ13: {3} | AK13: {4}
AH14: 1.815105 | AI14: 1.457550 | AJ14: 1.710110 | AK14: 2.605072
AG15: 1 {1} | AI15: 0.022356708 | AJ15: 0.47735918 | AK15: 0.00010937452
AG16: 2 {2} | AH16: 0.022356708 | AJ16: 0.089311302 | AK16: 4.6195735e-05
AG17: 3 {3} | AH17: 0.47735918 | AI17: 0.089311302 | AK17: 5.2185227e-05
AG18: 4 {4} | AH18: 0.00010937452 | AI18: 4.6195735e-05 | AJ18: 5.2185227e-05
B25: Duncan test; PESO (smalta.sta) | M25: Duncan test; PESO (smalta.sta)
B26: Probabilities for Post Hoc Tests | M26: Probabilities for Post Hoc Tests
B27: INTERACTION: 1 x 2 | M27: INTERACTION: 1 x 2
C28: {1} | D28: {2} | E28: {3} | F28: {4} | G28: {5} | H28: {6} | I28: {7} | J28: {8} | N28: {1} | O28: {2} | P28: {3} | Q28: {4} | R28: {5} | S28: {6} | T28: {7} | U28: {8}
C29: 1.925871 | D29: 1.621263 | E29: 1.548293 | F29: 1.366807 | G29: 1.513792 | H29: 1.906429 | I29: 2.510036 | J29: 2.700107 | N29: 2.064320 | O29: 1.741806 | P29: 1.349020 | Q29: 1.517844 | R29: 1.633579 | S29: 1.752628 | T29: 3.148700 | U29: 2.303056
B30: 1 1 {1} | D30: 0.16918924 | E30: 0.099240609 | F30: 0.017569395 | G30: 0.078571029 | H30: 0.92552161 | I30: 0.0059398413 | J30: 0.00050369668 | M30: 1 3 {1} | O30: 0.1495557 | P30: 0.0023474013 | Q30: 0.019668544 | R30: 0.061958998 | S30: 0.13986248 | T30: 5.334758e-05 | U30: 0.25702733
B31: 1 2 {2} | C31: 0.16918924 | E31: 0.72557485 | F31: 0.26979107 | G31: 0.62913632 | H31: 0.17193466 | I31: 0.00012097233 | J31: 3.0891537e-05 | M31: 1 4 {2} | N31: 0.1495557 | P31: 0.089467354 | Q31: 0.31820032 | R31: 0.60647881 | S31: 0.95897084 | T31: 2.8954213e-05 | U31: 0.014286007
B32: 2 1 {3} | C32: 0.099240609 | D32: 0.72557485 | F32: 0.41413066 | G32: 0.86818343 | H32: 0.10546768 | I32: 5.2128336e-05 | J32: 2.4534476e-05 | M32: 2 3 {3} | N32: 0.0023474013 | O32: 0.089467354 | Q32: 0.42212278 | R32: 0.20401669 | S32: 0.088527687 | T32: 1.7056316e-05 | U32: 6.7523593e-05
B33: 2 2 {4} | C33: 0.017569395 | D33: 0.26979107 | E33: 0.41413066 | G33: 0.47985762 | H33: 0.019945934 | I33: 2.0594465e-05 | J33: 1.7064833e-05 | M33: 2 4 {4} | N33: 0.019668544 | O33: 0.31820032 | P33: 0.42212278 | R33: 0.58178145 | S33: 0.31410834 | T33: 1.9889072e-05 | U33: 0.00080831681 | AG33: Means (smalta.sta) | AJ33: Means (smalta.sta)
B34: 3 1 {5} | C34: 0.078571029 | D34: 0.62913632 | E34: 0.86818343 | F34: 0.47985762 | H34: 0.086192489 | I34: 3.9413699e-05 | J34: 2.013745e-05 | M34: 3 3 {5} | N34: 0.061958998 | O34: 0.60647881 | P34: 0.20401669 | Q34: 0.58178145 | S34: 0.59647769 | T34: 2.4081437e-05 | U34: 0.0039619198 | AG34: 1 Dependent Variable | AJ34: 1 Dependent Variable
B35: 3 2 {6} | C35: 0.92552161 | D35: 0.17193466 | E35: 0.10546768 | F35: 0.019945934 | G35: 0.086192489 | I35: 0.006168826 | J35: 0.00045707848 | M35: 3 4 {6} | N35: 0.13986248 | O35: 0.95897084 | P35: 0.088527687 | Q35: 0.31410834 | R35: 0.59647769 | T35: 4.6235473e-05 | U35: 0.013460148
B36: 4 1 {7} | C36: 0.0059398413 | D36: 0.00012097233 | E36: 5.2128336e-05 | F36: 2.0594465e-05 | G36: 3.9413699e-05 | H36: 0.006168826 | J36: 0.36130434 | M36: 4 3 {7} | N36: 5.334758e-05 | O36: 2.8954213e-05 | P36: 1.7056316e-05 | Q36: 1.9889072e-05 | R36: 2.4081437e-05 | S36: 4.6235473e-05 | U36: 0.00021004677 | AH36: PESO | AI36: Valid N | AK36: PESO | AL36: Valid N | AM36: ES | AN36: dieta | AO36: MAXIMO | AP36: MINIMO | AQ36: PROMEDIO
B37: 4 2 {8} | C37: 0.00050369668 | D37: 3.0891537e-05 | E37: 2.4534476e-05 | F37: 1.7064833e-05 | G37: 2.013745e-05 | H37: 0.00045707848 | I37: 0.36130434 | M37: 4 4 {8} | N37: 0.25702733 | O37: 0.014286007 | P37: 6.7523593e-05 | Q37: 0.00080831681 | R37: 0.0039619198 | S37: 0.013460148 | T37: 0.00021004677 | AG37: G_1:1 | AH37: 1.8151046 | AI37: 22 | AJ37: G_1:1 | AK37: 1.8151046 | AL37: 22 | AM37: =+AK37/SQRT(AL37) -> 0.3869816 | AN37: F1 | AO37: =+AQ37+AM37 -> 2.2020862 | AP37: =+AQ37-AM37 -> 1.428123 | AQ37: 1.8151046
AG38: G_2:2 | AH38: 1.45755 | AI38: 28 | AJ38: G_2:2 | AK38: 1.45755 | AL38: 28 | AM38: =+AK38/SQRT(AL38) -> 0.27545107 | AN38: F2 | AO38: =+AQ38+AM38 -> 1.7330011 | AP38: =+AQ38-AM38 -> 1.182099 | AQ38: 1.45755
B39: Means (smalta.sta) | F39: Standard Deviations (smalta.sta) | M39: Means (smalta.sta) | Q39: Standard Deviations (smalta.sta) | AG39: G_3:3 | AH39: 1.7101103 | AI39: 28 | AJ39: G_3:3 | AK39: 1.7101103 | AL39: 28 | AM39: =+AK39/SQRT(AL39) -> 0.32318047 | AN39: F3 | AO39: =+AQ39+AM39 -> 2.0332908 | AP39: =+AQ39-AM39 -> 1.3869298 | AQ39: 1.7101103
B40: 1 Dependent Variable | F40: 1 Dependent Variable | M40: 1 Dependent Variable | Q40: 1 Dependent Variable | AG40: G_4:4 | AH40: 2.6050715 | AI40: 28 | AJ40: G_4:4 | AK40: 2.6050715 | AL40: 28 | AM40: =+AK40/SQRT(AL40) -> 0.49231225 | AN40: F4 | AO40: =+AQ40+AM40 -> 3.0973838 | AP40: =+AQ40-AM40 -> 2.1127593 | AQ40: 2.6050715
AG41: All Groups | AH41: 1.9015924 | AI41: 106 | AJ41: All Groups | AK41: 1.9015924 | AL41: 106
C42: PESO | D42: Valid N | G42: PESO | H42: Valid N | I42: ES | J42: % ES | N42: PESO | O42: Valid N | R42: PESO | S42: Valid N | T42: ES | U42: % ES
B43: G_1:1 G_1:1 | C43: 1.9258714 | D43: 14 | F43: G_1:1 G_1:1 | G43: 0.45914632 | H43: 14 | I43: =+G43/SQRT(H43) -> 0.12271202 | J43: =+I43*100/C43 -> 6.3717659 | M43: G_1:1 G_1:3 | N43: 2.0643201 | O43: 5 | Q43: G_1:1 G_1:3 | R43: 0.19354177 | S43: 5 | T43: =+R43/SQRT(S43) -> 0.086554509 | U43: =+T43*100/O43 -> 1.7310902 | AF43: * | AG43: PROTEINAS
B44: G_1:1 G_2:2 | C44: 1.6212626 | D44: 8 | F44: G_1:1 G_2:2 | G44: 0.29821116 | H44: 8 | I44: =+G44/SQRT(H44) -> 0.10543357 | J44: =+I44*100/C44 -> 6.5031765 | M44: G_1:1 G_2:4 | N44: 1.7418059 | O44: 17 | Q44: G_1:1 G_2:4 | R44: 0.4530291 | S44: 17 | T44: =+R44/SQRT(S44) -> 0.10987569 | U44: =+T44*100/O44 -> 0.64632762 | AG44: Summary of all Effects; design: (smalta.sta)
B45: G_2:2 G_1:1 | C45: 1.5482929 | D45: 14 | F45: G_2:2 G_1:1 | G45: 0.23629476 | H45: 14 | I45: =+G45/SQRT(H45) -> 0.063152431 | J45: =+I45*100/C45 -> 4.0788427 | M45: G_2:2 G_1:3 | N45: 1.34902 | O45: 10 | Q45: G_2:2 G_1:3 | R45: 0.28828523 | S45: 10 | T45: =+R45/SQRT(S45) -> 0.091163793 | U45: =+T45*100/O45 -> 0.91163793 | AG45: 1-DIETA
B46: G_2:2 G_2:2 | C46: 1.3668071 | D46: 14 | F46: G_2:2 G_2:2 | G46: 0.27783173 | H46: 14 | I46: =+G46/SQRT(H46) -> 0.074253654 | J46: =+I46*100/C46 -> 5.432636 | M46: G_2:2 G_2:4 | N46: 1.5178444 | O46: 18 | Q46: G_2:2 G_2:4 | R46: 0.24599053 | S46: 18 | T46: =+R46/SQRT(S46) -> 0.057980524 | U46: =+T46*100/O46 -> 0.32211402 | AH46: df | AI46: MS | AJ46: df | AK46: MS
B47: G_3:3 G_1:1 | C47: 1.5137922 | D47: 14 | F47: G_3:3 G_1:1 | G47: 0.6966908 | H47: 14 | I47: =+G47/SQRT(H47) -> 0.18619845 | J47: =+I47*100/C47 -> 12.300133 | M47: G_3:3 G_1:3 | N47: 1.633579 | O47: 10 | Q47: G_3:3 G_1:3 | R47: 0.84154963 | S47: 10 | T47: =+R47/SQRT(S47) -> 0.26612136 | U47: =+T47*100/O47 -> 2.6612136 | AH47: Effect | AI47: Effect | AJ47: Error | AK47: Error | AL47: F | AM47: p-level
B48: G_3:3 G_2:2 | C48: 1.9064286 | D48: 14 | F48: G_3:3 G_2:2 | G48: 0.57075799 | H48: 14 | I48: =+G48/SQRT(H48) -> 0.15254149 | J48: =+I48*100/C48 -> 8.0014269 | M48: G_3:3 G_2:4 | N48: 1.7526277 | O48: 18 | Q48: G_3:3 G_2:4 | R48: 0.55088365 | S48: 18 | T48: =+R48/SQRT(S48) -> 0.12984452 | U48: =+T48*100/O48 -> 0.72135845 | AG48: 1 | AH48: 3 | AI48: 40586.016 | AJ48: 92 | AK48: 2739.5393 | AL48: 14.814904 | AM48: 6.0156381e-08
B49: G_4:4 G_1:1 | C49: 2.5100358 | D49: 14 | F49: G_4:4 G_1:1 | G49: 0.82962626 | H49: 14 | I49: =+G49/SQRT(H49) -> 0.22172695 | J49: =+I49*100/C49 -> 8.833617 | M49: G_4:4 G_1:3 | N49: 3.1487 | O49: 10 | Q49: G_4:4 G_1:3 | R49: 0.34780744 | S49: 10 | T49: =+R49/SQRT(S49) -> 0.10998637 | U49: =+T49*100/O49 -> 1.0998637
B50: G_4:4 G_2:2 | C50: 2.7001071 | D50: 14 | F50: G_4:4 G_2:2 | G50: 0.4240467 | H50: 14 | I50: =+G50/SQRT(H50) -> 0.11333125 | J50: =+I50*100/C50 -> 4.1972871 | M50: G_4:4 G_2:4 | N50: 2.3030555 | O50: 18 | Q50: G_4:4 G_2:4 | R50: 0.58672744 | S50: 18 | T50: =+R50/SQRT(S50) -> 0.13829298 | U50: =+T50*100/O50 -> 0.76829436 | AG50: Duncan test; PROT (smalta.sta)
B51: All Groups | C51: 1.9015924 | D51: 106 | F51: All Groups | G51: 0.68678874 | H51: 106 | I51: =+G51/SQRT(H51) -> 0.066706819 | J51: =+I51*100/C51 -> 3.5079452 | M51: All Groups | N51: 1.9015924 | O51: 106 | Q51: All Groups | R51: 0.68678874 | S51: 106 | T51: =+R51/SQRT(S51) -> 0.066706819 | U51: =+T51*100/O51 -> 0.062930961 | AG51: Probabilities for Post Hoc Tests
AG52: MAIN EFFECT: DIETA
L53: * | M53: PROTEINAS | W53: * | X53: PROTEINAS | AH53: {1} | AI53: {2} | AJ53: {3} | AK53: {4}
A54: * | B54: PROTEINAS | M54: Summary of all Effects; design: (smalta.sta) | X54: Summary of all Effects; design: (smalta.sta) | AH54: 180.0230 | AI54: 159.4297 | AJ54: 166.1114 | AK54: 249.3135
B55: Summary of all Effects; design: (smalta.sta) | M55: 1-DIETA, 2-DISPOSI | X55: 1-DIETA, 2-SERIE | AG55: 1 {1} | AI55: 0.20490146 | AJ55: 0.36182225 | AK55: 0.0001257658
B56: 1-DIETA, 2-VUELTA | N56: df | O56: MS | P56: df | Q56: MS | Y56: df | Z56: MS | AA56: df | AB56: MS | AG56: 2 {2} | AH56: 0.20490146 | AJ56: 0.6608882 | AK56: 4.7904559e-05
C57: df | D57: MS | E57: df | F57: MS | N57: Effect | O57: Effect | P57: Error | Q57: Error | R57: F | S57: p-level | Y57: Effect | Z57: Effect | AA57: Error | AB57: Error | AC57: F | AD57: p-level | AG57: 3 {3} | AH57: 0.36182225 | AI57: 0.6608882 | AK57: 5.310915e-05
C58: Effect | D58: Effect | E58: Error | F58: Error | G58: F | H58: p-level | M58: 1 | N58: 3 | O58: 41447.598 | P58: 88 | Q58: 2696.2944 | R58: 15.37206 | S58: 4.0090566e-08 | X58: 1 | Y58: 3 | Z58: 40879.379 | AA58: 88 | AB58: 2781.6445 | AC58: 14.696119 | AD58: 7.7288732e-08 | AG58: 4 {4} | AH58: 0.0001257658 | AI58: 4.7904559e-05 | AJ58: 5.310915e-05
B59: 1 | C59: 3 | D59: 46373.516 | E59: 88 | F59: 2128.7874 | G59: 21.784008 | H59: 1.2187047e-10 | M59: 2 | N59: 1 | O59: 4620.5786 | P59: 88 | Q59: 2696.2944 | R59: 1.7136774 | S59: 0.19391701 | X59: 2 | Y59: 1 | Z59: 3634.6487 | AA59: 88 | AB59: 2781.6445 | AC59: 1.3066547 | AD59: 0.25610152
B60: 2 | C60: 1 | D60: 19277.824 | E60: 88 | F60: 2128.7874 | G60: 9.0557775 | H60: 0.0034154463 | M60: 12 | N60: 3 | O60: 3090.9441 | P60: 88 | Q60: 2696.2944 | R60: 1.1463674 | S60: 0.33495849 | X60: 12 | Y60: 3 | Z60: 1242.3726 | AA60: 88 | AB60: 2781.6445 | AC60: 0.44663239 | AD60: 0.72029322
B61: 12 | C61: 3 | D61: 15082.419 | E61: 88 | F61: 2128.7874 | G61: 7.0849819 | H61: 0.00025524676
AG73: Means (smalta.sta) | AK73: Standard Deviations (smalta.sta)
AG74: 1 Dependent Variable | AK74: 1 Dependent Variable
M75: Duncan test; PROT (smalta.sta)
B76: Duncan test; PROT (smalta.sta) | M76: Probabilities for Post Hoc Tests | W76: * | X76: TRIACILGLICERIDOS | AH76: PROT | AI76: Valid N | AL76: PROT | AM76: Valid N | AN76: ES | AO76: dieta | AP76: MAXIMO | AQ76: MINIMO | AR76: PROMEDIO
B77: Probabilities for Post Hoc Tests | M77: INTERACTION: 1 x 2 | X77: Summary of all Effects; design: (smalta.sta) | AG77: G_1:1 | AH77: 180.02299 | AI77: 21 | AK77: G_1:1 | AL77: 33.09763 | AM77: 21 | AN77: =+AL77/SQRT(AM77) -> 7.2224949 | AO77: F1 | AP77: =+AR77+AN77 -> 40.320124 | AQ77: =+AR77-AN77 -> 25.875135 | AR77: 33.09763
B78: INTERACTION: 1 x 2 | N78: {1} | O78: {2} | P78: {3} | Q78: {4} | R78: {5} | S78: {6} | T78: {7} | U78: {8} | X78: 1-DIETA, 2-SERIE | AG78: G_2:2 | AH78: 159.42969 | AI78: 27 | AK78: G_2:2 | AL78: 41.849556 | AM78: 27 | AN78: =+AL78/SQRT(AM78) -> 8.0539508 | AO78: F2 | AP78: =+AR78+AN78 -> 49.903507 | AQ78: =+AR78-AN78 -> 33.795605 | AR78: 41.849556
C79: {1} | D79: {2} | E79: {3} | F79: {4} | G79: {5} | H79: {6} | I79: {7} | J79: {8} | N79: 178.0954 | O79: 180.6254 | P79: 154.7558 | Q79: 162.1790 | R79: 182.9153 | S79: 154.9088 | T79: 272.7118 | U79: 231.3148 | Y79: df | Z79: MS | AA79: df | AB79: MS | AG79: G_3:3 | AH79: 166.11139 | AI79: 25 | AK79: G_3:3 | AL79: 35.396896 | AM79: 25 | AN79: =+AL79/SQRT(AM79) -> 7.0793793 | AO79: F3 | AP79: =+AR79+AN79 -> 42.476276 | AQ79: =+AR79-AN79 -> 28.317517 | AR79: 35.396896
C80: 178.4403 | D80: 183.1884 | E80: 161.6225 | F80: 157.3935 | G80: 172.0536 | H80: 161.4425 | I80: 309.3571 | J80: 203.1261 | M80: 1 3 {1} | O80: 0.91163707 | P80: 0.35662863 | Q80: 0.48530978 | R80: 0.84363407 | S80: 0.34096029 | T80: 0.00019500892 | U80: 0.033122078 | Y80: Effect | Z80: Effect | AA80: Error | AB80: Error | AC80: F | AD80: p-level | AG80: G_4:4 | AH80: 249.31349 | AI80: 23 | AK80: G_4:4 | AL80: 83.807671 | AM80: 23 | AN80: =+AL80/SQRT(AM80) -> 17.475107 | AO80: F4 | AP80: =+AR80+AN80 -> 101.28278 | AQ80: =+AR80-AN80 -> 66.332563 | AR80: 83.807671
B81: 1 1 {1} | D81: 0.80661809 | E81: 0.41735983 | F81: 0.34137473 | G81: 0.74197924 | H81: 0.4307493 | I81: 4.8500664e-05 | J81: 0.23307425 | M81: 1 4 {2} | N81: 0.91163707 | P81: 0.31930706 | Q81: 0.44906369 | R81: 0.91999269 | S81: 0.30936557 | T81: 0.0002438027 | U81: 0.036367241 | X81: 1 | Y81: 3 | Z81: 15.385237 | AA81: 85 | AB81: 0.73451596 | AC81: 20.946091 | AD81: 2.9897582e-10 | AG81: All Groups | AH81: 187.20917 | AI81: 96 | AK81: All Groups | AL81: 62.727116 | AM81: 96 | AN81: =+AL81/SQRT(AM81) -> 6.4020594 | AO81: =+AN81*100/AI81 -> 6.6688119
B82: 1 2 {2} | C82: 0.80661809 | E82: 0.31662831 | F82: 0.25150517 | G82: 0.59167773 | H82: 0.32541654 | I82: 5.3735032e-05 | J82: 0.30519199 | M82: 2 3 {3} | N82: 0.35662863 | O82: 0.31930706 | Q82: 0.76110756 | R82: 0.28714979 | S82: 0.99474162 | T82: 2.114396e-05 | U82: 0.0031132707 | X82: 2 | Y82: 1 | Z82: 0.66889501 | AA82: 85 | AB82: 0.73451596 | AC82: 0.91066098 | AD82: 0.34264514
B83: 2 1 {3} | C83: 0.41735983 | D83: 0.31662831 | F83: 0.83886814 | G83: 0.59087753 | H83: 0.99267751 | I83: 2.478484e-05 | J83: 0.057172962 | M83: 2 4 {4} | N83: 0.48530978 | O83: 0.44906369 | P83: 0.76110756 | R83: 0.41317341 | S83: 0.74972081 | T83: 3.7243757e-05 | U83: 0.0063125854 | X83: 12 | Y83: 3 | Z83: 0.71978122 | AA83: 85 | AB83: 0.73451596 | AC83: 0.97993958 | AD83: 0.40618849 | AF83: * | AG83: ACYLGLYCEROL
B84: 2 2 {4} | C84: 0.34137473 | D84: 0.25150517 | E84: 0.83886814 | G84: 0.4971379 | H84: 0.834656 | I84: 1.6979673e-05 | J84: 0.041712355 | M84: 3 3 {5} | N84: 0.84363407 | O84: 0.91999269 | P84: 0.28714979 | Q84: 0.41317341 | S84: 0.28050712 | T84: 0.0002706417 | U84: 0.035926282 | AG84: Summary of all Effects; design: (smalta.sta)
B85: 3 1 {5} | C85: 0.74197924 | D85: 0.59167773 | E85: 0.59087753 | F85: 0.4971379 | H85: 0.60925037 | I85: 2.9907973e-05 | J85: 0.14716829 | M85: 3 4 {6} | N85: 0.34096029 | O85: 0.30936557 | P85: 0.99474162 | Q85: 0.74972081 | R85: 0.28050712 | T85: 2.4210885e-05 | U85: 0.0028403483 | AG85: 1-DIETA
B86: 3 2 {6} | C86: 0.4307493 | D86: 0.32541654 | E86: 0.99267751 | F86: 0.834656 | G86: 0.60925037 | I86: 2.0445439e-05 | J86: 0.060680732 | M86: 4 3 {7} | N86: 0.00019500892 | O86: 0.0002438027 | P86: 2.114396e-05 | Q86: 3.7243757e-05 | R86: 0.0002706417 | S86: 2.4210885e-05 | U86: 0.071788073 | AH86: df | AI86: MS | AJ86: df | AK86: MS
B87: 4 1 {7} | C87: 4.8500664e-05 | D87: 5.3735032e-05 | E87: 2.478484e-05 | F87: 1.6979673e-05 | G87: 2.9907973e-05 | H87: 2.0445439e-05 | J87: 0.00011473894 | M87: 4 4 {8} | N87: 0.033122078 | O87: 0.036367241 | P87: 0.0031132707 | Q87: 0.0063125854 | R87: 0.035926282 | S87: 0.0028403483 | T87: 0.071788073 | AH87: Effect | AI87: Effect | AJ87: Error | AK87: Error | AL87: F | AM87: p-level
B88: 4 2 {8} | C88: 0.23307425 | D88: 0.30519199 | E88: 0.057172962 | F88: 0.041712355 | G88: 0.14716829 | H88: 0.060680732 | I88: 0.00011473894 | AG88: 1 | AH88: 3 | AI88: 16.870441 | AJ88: 89 | AK88: 0.73101193 | AL88: 23.078201 | AM88: 3.8523899e-11
M89: Means (smalta.sta) | P89: Standard Deviations (smalta.sta)
M90: 1 Dependent Variable | P90: 1 Dependent Variable
B91: Means (smalta.sta) | F91: Standard Deviations (smalta.sta)
B92: 1 Dependent Variable | F92: 1 Dependent Variable | N92: PROT | O92: Valid N | Q92: PROT | R92: Valid N
M93: G_1:1 G_1:3 | N93: 178.09543 | O93: 5 | P93: G_1:1 G_1:3 | Q93: 27.567402 | R93: 5
C94: PROT | D94: Valid N | G94: PROT | H94: Valid N | M94: G_1:1 G_2:4 | N94: 180.62537 | O94: 16 | P94: G_1:1 G_2:4 | Q94: 35.444633 | R94: 16
B95: G_1:1 G_1:1 | C95: 178.44032 | D95: 14 | F95: G_1:1 G_1:1 | G95: 26.730085 | H95: 14 | M95: G_2:2 G_1:3 | N95: 154.75578 | O95: 10 | P95: G_2:2 G_1:3 | Q95: 33.340084 | R95: 10
B96: G_1:1 G_2:2 | C96: 183.18837 | D96: 7 | F96: G_1:1 G_2:2 | G96: 45.671635 | H96: 7 | M96: G_2:2 G_2:4 | N96: 162.17905 | O96: 17 | P96: G_2:2 G_2:4 | Q96: 46.894173 | R96: 17
B97: G_2:2 G_1:1 | C97: 161.62248 | D97: 13 | F97: G_2:2 G_1:1 | G97: 51.52467 | H97: 13 | M97: G_3:3 G_1:3 | N97: 182.91533 | O97: 10 | P97: G_3:3 G_1:3 | Q97: 31.23502 | R97: 10
B98: G_2:2 G_2:2 | C98: 157.39352 | D98: 14 | F98: G_2:2 G_2:2 | G98: 32.294285 | H98: 14 | M98: G_3:3 G_2:4 | N98: 154.90877 | O98: 15 | P98: G_3:3 G_2:4 | Q98: 34.41732 | R98: 15
B99: G_3:3 G_1:1 | C99: 172.05363 | D99: 11 | F99: G_3:3 G_1:1 | G99: 40.364754 | H99: 11 | M99: G_4:4 G_1:3 | N99: 272.71176 | O99: 10 | P99: G_4:4 G_1:3 | Q99: 109.30164 | R99: 10 | W99: * | X99: LACTATE
B100: G_3:3 G_2:2 | C100: 161.44249 | D100: 14 | F100: G_3:3 G_2:2 | G100: 31.724586 | H100: 14 | M100: G_4:4 G_2:4 | N100: 231.31482 | O100: 13 | P100: G_4:4 G_2:4 | Q100: 55.763 | R100: 13 | X100: Summary of all Effects; design: (smalta.sta)
B101: G_4:4 G_1:1 | C101: 309.35715 | D101: 10 | F101: G_4:4 G_1:1 | G101: 79.014565 | H101: 10 | M101: All Groups | N101: 187.20917 | O101: 96 | P101: All Groups | Q101: 62.727116 | R101: 96 | X101: 1-DIETA, 2-SERIE
B102: G_4:4 G_2:2 | C102: 203.12608 | D102: 13 | F102: G_4:4 G_2:2 | G102: 53.655743 | H102: 13 | Y102: df | Z102: MS | AA102: df | AB102: MS
B103: All Groups | C103: 187.20917 | D103: 96 | F103: All Groups | G103: 62.727116 | H103: 96 | Y103: Effect | Z103: Effect | AA103: Error | AB103: Error | AC103: F | AD103: p-level | AG103: Means (smalta.sta) | AJ103: Standard Deviations (smalta.sta)
L104: * | M104: TRIACILGLICERIDOS | X104: 1 | Y104: 3 | Z104: 0.021502094 | AA104: 79 | AB104: 0.00546428 | AC104: 3.9350276 | AD104: 0.011350249 | AG104: 1 Dependent Variable | AJ104: 1 Dependent Variable
M105: Summary of all Effects; design: (smalta.sta) | X105: 2 | Y105: 1 | Z105: 0.13290854 | AA105: 79 | AB105: 0.00546428 | AC105: 24.323154 | AD105: 4.4190688e-06
A106: * | B106: TRIACILGLICERIDOS | M106: 1-DIETA, 2-DISPOSI | X106: 12 | Y106: 3 | Z106: 0.0016643873 | AA106: 79 | AB106: 0.00546428 | AC106: 0.30459407 | AD106: 0.82198709 | AH106: TRIACIL | AI106: Valid N | AK106: TRIACIL | AL106: Valid N | AM106: ES | AN106: dieta | AO106: MAXIMO | AP106: MINIMO | AQ106: PROMEDIO
B107: Summary of all Effects; design: (smalta.sta) | N107: df | O107: MS | P107: df | Q107: MS | AG107: G_1:1 | AH107: 2.529706 | AI107: 20 | AJ107: G_1:1 | AK107: 1.3771557 | AL107: 20 | AM107: =+AK107/SQRT(AL107) -> 0.30794137 | AN107: F1 | AO107: =+AQ107+AM107 -> 2.8376474 | AP107: =+AQ107-AM107 -> 2.2217646 | AQ107: 2.529706
B108: 1-VUELTA, 2-DIETA | N108: Effect | O108: Effect | P108: Error | Q108: Error | R108: F | S108: p-level | AG108: G_2:2 | AH108: 1.6725731 | AI108: 27 | AJ108: G_2:2 | AK108: 0.66485405 | AL108: 27 | AM108: =+AK108/SQRT(AL108) -> 0.12795122 | AN108: F2 | AO108: =+AQ108+AM108 -> 1.8005243 | AP108: =+AQ108-AM108 -> 1.5446219 | AQ108: 1.6725731
C109: df | D109: MS | E109: df | F109: MS | M109: 1 | N109: 3 | O109: 17.91399 | P109: 85 | Q109: 0.71110809 | R109: 25.191654 | S109: 9.3607197e-12 | AG109: G_3:3 | AH109: 2.251615 | AI109: 25 | AJ109: G_3:3 | AK109: 0.84329379 | AL109: 25 | AM109: =+AK109/SQRT(AL109) -> 0.16865876 | AN109: F3 | AO109: =+AQ109+AM109 -> 2.4202738 | AP109: =+AQ109-AM109 -> 2.0829563 | AQ109: 2.251615
C110: Effect | D110: Effect | E110: Error | F110: Error | G110: F | H110: p-level | M110: 2 | N110: 1 | O110: 0.89284641 | P110: 85 | Q110: 0.71110809 | R110: 1.2555707 | S110: 0.26564714 | AG110: G_4:4 | AH110: 0.51556659 | AI110: 21 | AJ110: G_4:4 | AK110: 0.15251124 | AL110: 21 | AM110: =+AK110/SQRT(AL110) -> 0.033280681 | AN110: F4 | AO110: =+AQ110+AM110 -> 0.54884727 | AP110: =+AQ110-AM110 -> 0.48228591 | AQ110: 0.51556659
B111: 1 | C111: 1 | D111: 8.3816652 | E111: 85 | F111: 0.62425983 | G111: 13.426566 | H111: 0.00043075252 | M111: 12 | N111: 3 | O111: 1.4808328 | P111: 85 | Q111: 0.71110809 | R111: 2.0824301 | S111: 0.10856362 | AG111: All Groups | AH111: 1.7512996 | AI111: 93 | AJ111: All Groups | AK111: 1.1212928 | AL111: 93
B112: 2 | C112: 3 | D112: 14.9548 | E112: 85 | F112: 0.62425983 | G112: 23.956051 | H112: 2.4935515e-11
B113: 12 | C113: 3 | D113: 1.0501662 | E113: 85 | F113: 0.62425983 | G113: 1.6822582 | H113: 0.17690569 | AF113: * | AG113: LACTATE
AG114: Summary of all Effects; design: (smalta.sta)
AG115: 1-DIETA
AH116: df | AI116: MS | AJ116: df | AK116: MS
AH117: Effect | AI117: Effect | AJ117: Error | AK117: Error | AL117: F | AM117: p-level
AG118: 1 | AH118: 3 | AI118: 0.023584995 | AJ118: 83 | AK118: 0.0068942788 | AL118: 3.4209518 | AM118: 0.020971026
...

Sheet corre
A2: * | B2: Regression Summary for Dependent Variable: PROT
B3: R= .48557708 R¦= .23578510 Adjusted R¦= .22765516
B4: F(1,94)=29.002 p<.00000 Std.Error of estimate: 55.127
D5: St. Err. | F5: St. Err.
C6: BETA | D6: of BETA | E6: B | F6: of B | G6: t(94) | H6: p-level
B7: Intercpt | E7: 103.07583 | F7: 16.60487 | G7: 6.2075661 | H7: 1.4443935e-08
B8: PESO | C8: 0.48557708 | D8: 0.090166212 | E8: 43.92939 | F8: 8.1571944 | G8: 5.3853553 | H8: 5.3146886e-07
A23: * | B23: Regression Summary for Dependent Variable: GLYCOGEN
B24: R= .43955070 R¦= .19320482 Adjusted R¦= .17566579
B25: F(1,46)=11.016 p<.00177 Std.Error of estimate: 34.363
D26: St. Err. | F26: St. Err.
C27: BETA | D27: of BETA | E27: B | F27: of B | G27: t(46) | H27: p-level
B28: Intercpt | E28: 99.971829 | F28: 15.356381 | G28: 6.5101167 | H28: 4.9608872e-08
B29: PESO | C29: -0.4395507 | D29: 0.13243499 | E29: -24.724743 | F29: 7.4494728 | G29: -3.3189923 | H29: 0.0017731531
A44: * | B44: Regression Summary for Dependent Variable: LACTATE
B45: R= .28846901 R¦= .08321437 Adjusted R¦= .07203406
B46: F(1,82)=7.4429 p<.00779 Std.Error of estimate: .08452
D47: St. Err. | F47: St. Err.
C48: BETA | D48: of BETA | E48: B | F48: of B | G48: t(82) | H48: p-level
B49: Intercpt | E49: 0.058240499 | F49: 0.018237274 | G49: 3.193487 | H49: 0.0019946711
B50: TRIACIL | C50: 0.28846901 | D50: 0.105737 | E50: 0.023028697 | F50: 0.0084410635 | G50: 2.7281748 | H50: 0.0077892533

Sheet STD DIETAS
N1: PROMEDIO | O1: g/día
N2: prote | O2: creci
M3: F2 | N3: 159.42969 | O3: =+(N3-K2)/30 -> 5.3143229
A4: PROTEINAS VS DIETAS | M4: F3 | N4: 166.11139 | O4: =+(N4-K3)/30 -> 5.5370463
A5: Summary of all Effects; design: (smalta.sta) | M5: F1 | N5: 180.02299 | O5: =+(N5-K4)/30 -> 6.0007665
A6: 1-DIETA | M6: F4 | N6: 249.31349 | O6: =+(N6-K5)/30 -> 8.3104497
B7: df | C7: MS | D7: df | E7: MS
B8: Effect | C8: Effect | D8: Error | E8: Error | F8: F | G8: p-level
A9: 1 | B9: 3 | C9: 40586.016 | D9: 92 | E9: 2739.5393 | F9: 14.814904 | G9: 6.0156381e-08
A11: Means (smalta.sta) | D11: Standard Deviations (smalta.sta)
A12: 1 Dependent Variable | D12: 1 Dependent Variable
G13: ES | K13: prote | L13: creci
B14: PROT | C14: Valid N | E14: PROT | F14: Valid N | H14: DIETA | I14: MINIMO | J14: MAXIMO | K14: PROMEDIO | L14: g/día
A15: G_1:1 | B15: 180.02299 | C15: 21 | D15: G_1:1 | E15: 33.09763 | F15: 21 | G15: =+E15/SQRT(F15) -> 7.2224949 | H15: 1 | I15: =+K15-G15 -> 172.8005 | J15: =+K15+G15 -> 187.24549 | K15: 180.02299 | L15: =+(K15-H15)/30 -> 5.9674332
A16: G_2:2 | B16: 159.42969 | C16: 27 | D16: G_2:2 | E16: 41.849556 | F16: 27 | G16: =+E16/SQRT(F16) -> 8.0539508 | H16: 2 | I16: =+K16-G16 -> 151.37574 | J16: =+K16+G16 -> 167.48364 | K16: 159.42969 | L16: =+(K16-H16)/30 -> 5.2476563
A17: G_3:3 | B17: 166.11139 | C17: 25 | D17: G_3:3 | E17: 35.396896 | F17: 25 | G17: =+E17/SQRT(F17) -> 7.0793793 | H17: 3 | I17: =+K17-G17 -> 159.03201 | J17: =+K17+G17 -> 173.19077 | K17: 166.11139 | L17: =+(K17-H17)/30 -> 5.4370463
A18: G_4:4 | B18: 249.31349 | C18: 23 | D18: G_4:4 | E18: 83.807671 | F18: 23 | G18: =+E18/SQRT(F18) -> 17.475107 | H18: 4 | I18: =+K18-G18 -> 231.83838 | J18: =+K18+G18 -> 266.7886 | K18: 249.31349 | L18: =+(K18-H18)/30 -> 8.1771164
A19: All Groups | B19: 187.20917 | C19: 96 | D19: All Groups | E19: 62.727116 | F19: 96
A41: Duncan test; PROT (smalta.sta)
A42: Probabilities for Post Hoc Tests
A43: MAIN EFFECT: DIETA
B44: {1} | C44: {2} | D44: {3} | E44: {4}
B45: 180.0230 | C45: 159.4297 | D45: 166.1114 | E45: 249.3135
A46: 1 {1} | C46: 0.20490146 | D46: 0.36182225 | E46: 0.0001257658
A47: 2 {2} | B47: 0.20490146 | D47: 0.6608882 | E47: 4.7904559e-05
A48: 3 {3} | B48: 0.36182225 | C48: 0.6608882 | E48: 5.310915e-05
A49: 4 {4} | B49: 0.0001257658 | C49: 4.7904559e-05 | D49: 5.310915e-05
