Workbook

Sheet Forma de citar

Sheet datos
A1: EXPERIMENTO MALTA; cuatro dietas
A2: Componentes de la hemolinfa
A3: Nota: Las evaluaciones se realizaron en el espectofotometro por lo cual se hicieron por series
A4: se calcularon los valores conciderando las respectivas D.O de blanco y estandar
A8: Primera vuelta | AK8: Segunda vuelta
A9: DIETA F4 | B9: 36286 | J9: DIETA F3 | K9: 36287 | S9: DIETA F2 | T9: 36288 | AB9: DIETA F1 | AC9: 36292 | AK9: DIETA F4 | AL9: 36293 | AT9: DIETA F3 | AU9: 36294 | BC9: DIETA F2 | BD9: 36297 | BL9: DIETA F1 | BM9: 36299
A10: PROTEINAS | J10: PROTEINAS | S10: PROTEINAS | AB10: PROTEINAS | AK10: PROTEINAS | AT10: PROTEINAS | BC10: PROTEINAS | BL10: PROTEINAS
S11: nm | T11: 595 | AB11: nm | AC11: 595 | AK11: nm | AL11: 595 | AT11: nm | AU11: 595 | BC11: nm | BD11: 595
A12: nm | B12: 595 | J12: nm | K12: 595 | S12: bco(ajustado) | T12: 0.625 | U12: 0.639 | AB12: bco(ajustado) | AC12: 0.584 | AD12: 0.584 | AK12: bco(ajustado) | AL12: 0.732 | AM12: 0.574 | AT12: bco(ajustado) | AU12: 0.556 | AV12: 0.568 | BC12: bco(ajustado) | BD12: 0.571 | BE12: 0.577 | BL12: nm | BM12: 595
A13: bco(ajustado) | B13: 0.674 | C13: 0.623 | J13: bco(ajustado) | K13: 0.694 | L13: 0.627 | S13: std | T13: 1.48 | U13: 1.245 | Y13: (I:500) | AB13: std | AC13: 1.205 | AD13: 1.195 | AH13: (I:500) | AK13: std | AL13: 1.085 | AM13: 1.35 | AQ13: (I:500) | AT13: std | AU13: 1.235 | AV13: 1.355 | AZ13: (I:500) | BC13: std | BD13: 1.29 | BE13: 1.36 | BH13: (I:500) | BL13: bco(ajustado) | BM13: 0.554 | BR13: (I:500)
A14: std | B14: 1.27 | C14: 1.2 | G14: (I:500) | J14: std | K14: 1.028 | L14: 1.2 | P14: (I:500) | U14: D.O. | V14: D.O. | W14: PROM | X14: Dilution fac | Y14: mg/mL | Z14: serie | AD14: D.O. | AE14: D.O. | AF14: PROM | AG14: Dilution fac | AH14: mg/mL | AI14: serie | AM14: D.O. | AN14: D.O. | AO14: PROM | AP14: Dilution fac | AQ14: mg/mL | AR14: serie | AV14: D.O. | AW14: D.O. | AX14: PROM | AY14: Dilution fac | AZ14: mg/mL | BA14: serie | BE14: D.O. | BF14: D.O. | BG14: PROM | BH14: Dilution fac | BI14: mg/mL | BJ14: serie | BL14: std | BM14: 1.24
C15: D.O. | D15: D.O. | E15: PROM | F15: Dilution factor | G15: mg/mL | H15: serie | L15: D.O. | M15: D.O. | N15: PROM | O15: Dilution fac | P15: mg/mL | Q15: serie | S15: Tara | T15: 1 | U15: 0.352 | V15: 0.375 | W15: =+AVERAGE(U15:V15) -> 0.3635 | X15: 3 | Y15: =+(W15/T$13)*0.3*X15*500 -> 110.52365 | Z15: a | AB15: Tara | AC15: 1 | AD15: 0.468 | AE15: 0.473 | AF15: =+AVERAGE(AD15:AE15) -> 0.4705 | AG15: 3 | AH15: =+(AF15/AC$13)*0.3*AG15*500 -> 175.70539 | AI15: a | AK15: Tara | AL15: 1 | AM15: 0.457 | AN15: 0.457 | AO15: =+AVERAGE(AM15:AN15) -> 0.457 | AP15: 3 | AQ15: =+(AO15/AL$13)*0.3*AP15*500 -> 189.53917 | AR15: a | AT15: Tara | AU15: 1 | AV15: 0.51 | AW15: 0.524 | AX15: =+AVERAGE(AV15:AW15) -> 0.517 | AY15: 3 | AZ15: =+(AX15/AU$13)*0.3*AY15*500 -> 188.38057 | BA15: a | BC15: Tara | BD15: 1 | BE15: 0.589 | BF15: 0.573 | BG15: =+AVERAGE(BE15:BF15) -> 0.581 | BH15: 3 | BI15: =+(BG15/BD$13)*0.3*BH15*500 -> 202.67442 | BJ15: a | BN15: D.O. | BO15: D.O. | BP15: PROM | BQ15: Dilution factor | BR15: mg/mL | BS15: serie
A16: Tara | B16: 1 | C16: 0.836 | D16: 0.598 | E16: =+AVERAGE(C16:D16) -> 0.717 | F16: 3 | G16: =+(E16/B$14)*0.3*F16*500 -> 254.05512 | H16: a | J16: Tara | K16: 1 | L16: 0.692 | M16: 0.438 | N16: =+AVERAGE(L16:M16) -> 0.565 | O16: 3 | P16: =+(N16/K$14)*0.3*O16*500 -> 247.3249 | Q16: a | T16: 2 | U16: 0.617 | V16: 0.588 | W16: =+AVERAGE(U16:V16) -> 0.6025 | X16: 3 | Y16: =+(W16/T$13)*0.3*X16*500 -> 183.19257 | Z16: a | AC16: 2 | AD16: 0.492 | AE16: 0.467 | AF16: =+AVERAGE(AD16:AE16) -> 0.4795 | AG16: 3 | AH16: =+(AF16/AC$13)*0.3*AG16*500 -> 179.06639 | AI16: a | AL16: 2 | AM16: 0.498 | AN16: 0.508 | AO16: =+AVERAGE(AM16:AN16) -> 0.503 | AP16: 3 | AQ16: =+(AO16/AL$13)*0.3*AP16*500 -> 208.61751 | AR16: a | AU16: 2 | AV16: 0.374 | AW16: 0.387 | AX16: =+AVERAGE(AV16:AW16) -> 0.3805 | AY16: 3 | AZ16: =+(AX16/AU$13)*0.3*AY16*500 -> 138.64372 | BA16: a | BD16: 2 | BE16: 0.584 | BF16: 0.57 | BG16: =+AVERAGE(BE16:BF16) -> 0.577 | BH16: 3 | BI16: =+(BG16/BD$13)*0.3*BH16*500 -> 201.27907 | BJ16: a | BL16: Camaras | BM16: 1 | BN16: 0.501 | BO16: 0.465 | BP16: =+AVERAGE(BN16:BO16) -> 0.483 | BQ16: 3 | BR16: =+(BP16/BM$14)*0.3*BQ16*500 -> 175.28226 | BS16: a
B17: 2 | C17: 1.135 | D17: 1.022 | E17: =+AVERAGE(C17:D17) -> 1.0785 | F17: 3 | G17: =+(E17/B$14)*0.3*F17*500 -> 382.14567 | H17: a | K17: 2 | L17: 0.544 | M17: 0.318 | N17: =+AVERAGE(L17:M17) -> 0.431 | O17: 3 | P17: =+(N17/K$14)*0.3*O17*500 -> 188.66732 | Q17: a | T17: 3 | U17: 0.454 | V17: 0.502 | W17: =+AVERAGE(U17:V17) -> 0.478 | X17: 3 | Y17: =+(W17/T$13)*0.3*X17*500 -> 145.33784 | Z17: a | AC17: 3 | AD17: 0.403 | AE17: 0.426 | AF17: =+AVERAGE(AD17:AE17) -> 0.4145 | AG17: 3 | AH17: =+(AF17/AC$13)*0.3*AG17*500 -> 154.79253 | AI17: a | AL17: 3 | AM17: 0.439 | AN17: 0.402 | AO17: =+AVERAGE(AM17:AN17) -> 0.4205 | AP17: 3 | AQ17: =+(AO17/AL$13)*0.3*AP17*500 -> 174.40092 | AR17: a | AU17: 3 | AV17: 0.413 | AW17: 0.449 | AX17: =+AVERAGE(AV17:AW17) -> 0.431 | AY17: 3 | AZ17: =+(AX17/AU$13)*0.3*AY17*500 -> 157.04453 | BA17: a | BD17: 3 | BE17: 0.423 | BF17: 0.416 | BG17: =+AVERAGE(BE17:BF17) -> 0.4195 | BH17: 3 | BI17: =+(BG17/BD$13)*0.3*BH17*500 -> 146.33721 | BJ17: a | BM17: 2 | BS17: a
B18: 3 | C18: 1.085 | D18: 0.794 | E18: =+AVERAGE(C18:D18) -> 0.9395 | F18: 3 | G18: =+(E18/B$14)*0.3*F18*500 -> 332.8937 | H18: a | K18: 3 | L18: 0.403 | N18: =+AVERAGE(L18:M18) -> 0.403 | O18: 3 | P18: =+(N18/K$14)*0.3*O18*500 -> 176.41051 | Q18: a | T18: 4 | U18: 0.429 | V18: 0.436 | W18: =+AVERAGE(U18:V18) -> 0.4325 | X18: 3 | Y18: =+(W18/T$13)*0.3*X18*500 -> 131.50338 | Z18: a | AC18: 4 | AD18: 0.608 | AE18: 0.589 | AF18: =+AVERAGE(AD18:AE18) -> 0.5985 | AG18: 3 | AH18: =+(AF18/AC$13)*0.3*AG18*500 -> 223.50622 | AI18: a | AL18: 4 | AM18: 0.494 | AN18: 0.496 | AO18: =+AVERAGE(AM18:AN18) -> 0.495 | AP18: 3 | AQ18: =+(AO18/AL$13)*0.3*AP18*500 -> 205.29954 | AR18: a | AU18: 4 | AV18: 0.532 | AW18: 0.523 | AX18: =+AVERAGE(AV18:AW18) -> 0.5275 | AY18: 3 | AZ18: =+(AX18/AU$13)*0.3*AY18*500 -> 192.20648 | BA18: a | BD18: 4 | BE18: 0.438 | BF18: 0.428 | BG18: =+AVERAGE(BE18:BF18) -> 0.433 | BH18: 3 | BI18: =+(BG18/BD$13)*0.3*BH18*500 -> 151.04651 | BJ18: a | BM18: 3 | BN18: 0.565 | BO18: 0.561 | BP18: =+AVERAGE(BN18:BO18) -> 0.563 | BQ18: 3 | BR18: =+(BP18/BM$14)*0.3*BQ18*500 -> 204.31452 | BS18: a
B19: 4 | C19: 1.315 | D19: 1.46 | E19: =+AVERAGE(C19:D19) -> 1.3875 | F19: 3 | G19: =+(E19/B$14)*0.3*F19*500 -> 491.63386 | H19: a | K19: 4 | L19: 0.338 | M19: 0.338 | N19: =+AVERAGE(L19:M19) -> 0.338 | O19: 3 | P19: =+(N19/K$14)*0.3*O19*500 -> 147.9572 | Q19: a | T19: 5 | U19: 0.529 | V19: 0.576 | W19: =+AVERAGE(U19:V19) -> 0.5525 | X19: 3 | Y19: =+(W19/T$13)*0.3*X19*500 -> 167.98986 | Z19: a | AC19: 5 | AD19: 0.434 | AE19: 0.409 | AF19: =+AVERAGE(AD19:AE19) -> 0.4215 | AG19: 3 | AH19: =+(AF19/AC$13)*0.3*AG19*500 -> 157.40664 | AI19: a | AL19: 5 | AM19: 0.356 | AN19: 0.38 | AO19: =+AVERAGE(AM19:AN19) -> 0.368 | AP19: 3 | AQ19: =+(AO19/AL$13)*0.3*AP19*500 -> 152.62673 | AR19: a | AU19: 5 | AV19: 0.505 | AW19: 0.513 | AX19: =+AVERAGE(AV19:AW19) -> 0.509 | AY19: 3 | AZ19: =+(AX19/AU$13)*0.3*AY19*500 -> 185.46559 | BA19: a | BD19: 5 | BE19: 0.388 | BF19: 0.401 | BG19: =+AVERAGE(BE19:BF19) -> 0.3945 | BH19: 3.6 | BI19: =+(BG19/BD$13)*0.3*BH19*500 -> 165.13953 | BJ19: a | BM19: 4 | BN19: 0.393 | BO19: 0.381 | BP19: =+AVERAGE(BN19:BO19) -> 0.387 | BQ19: 3 | BR19: =+(BP19/BM$14)*0.3*BQ19*500 -> 140.44355 | BS19: a
B20: 5 | C20: 0.968 | D20: 0.928 | E20: =+AVERAGE(C20:D20) -> 0.948 | F20: 3 | G20: =+(E20/B$14)*0.3*F20*500 -> 335.90551 | H20: a | K20: 5 | L20: 0.483 | M20: 0.463 | N20: =+AVERAGE(L20:M20) -> 0.473 | O20: 3 | P20: =+(N20/K$14)*0.3*O20*500 -> 207.05253 | Q20: a | S20: Camaras 1 | T20: 6 | U20: 0.5 | V20: 0.496 | W20: =+AVERAGE(U20:V20) -> 0.498 | X20: 3 | Y20: =+(W20/T$13)*0.3*X20*500 -> 151.41892 | Z20: a | AB20: Camaras 1 | AC20: 6 | AD20: 0.538 | AE20: 0.568 | AF20: =+AVERAGE(AD20:AE20) -> 0.553 | AG20: 3 | AH20: =+(AF20/AC$13)*0.3*AG20*500 -> 206.51452 | AI20: a | AK20: Camaras 1 | AL20: 6 | AM20: 0.452 | AN20: 0.426 | AO20: =+AVERAGE(AM20:AN20) -> 0.439 | AP20: 3 | AQ20: =+(AO20/AL$13)*0.3*AP20*500 -> 182.07373 | AR20: a | AT20: Camaras 1 | AU20: 6 | AV20: 0.476 | AW20: 0.462 | AX20: =+AVERAGE(AV20:AW20) -> 0.469 | AY20: 3 | AZ20: =+(AX20/AU$13)*0.3*AY20*500 -> 170.89069 | BA20: a | BC20: Camaras 1 | BD20: 6 | BE20: 0.396 | BF20: 0.376 | BG20: =+AVERAGE(BE20:BF20) -> 0.386 | BH20: 3 | BI20: =+(BG20/BD$13)*0.3*BH20*500 -> 134.65116 | BJ20: a | BM20: 5 | BN20: 0.502 | BO20: 0.503 | BP20: =+AVERAGE(BN20:BO20) -> 0.5025 | BQ20: 3 | BR20: =+(BP20/BM$14)*0.3*BQ20*500 -> 182.35887 | BS20: a
A21: Camaras 1 | B21: 6 | H21: b | J21: Camaras 1 | K21: 6 | Q21: a | S21: 2 | T21: 7 | U21: 0.371 | V21: 0.378 | W21: =+AVERAGE(U21:V21) -> 0.3745 | X21: 3 | Y21: =+(W21/U$13)*0.3*X21*500 -> 135.36145 | Z21: b | AB21: 2 | AC21: 7 | AD21: 0.499 | AE21: 0.491 | AF21: =+AVERAGE(AD21:AE21) -> 0.495 | AG21: 3 | AH21: =+(AF21/AC$13)*0.3*AG21*500 -> 184.85477 | AI21: a | AK21: 2 | AL21: 7 | AM21: 0.428 | AN21: 0.442 | AO21: =+AVERAGE(AM21:AN21) -> 0.435 | AP21: 3 | AQ21: =+(AO21/AL$13)*0.3*AP21*500 -> 180.41475 | AR21: a | AT21: 2 | AU21: 7 | AV21: 0.459 | AW21: 0.453 | AX21: =+AVERAGE(AV21:AW21) -> 0.456 | AY21: 3 | AZ21: =+(AX21/AU$13)*0.3*AY21*500 -> 166.15385 | BA21: a | BC21: 2 | BD21: 7 | BE21: 0.578 | BF21: 0.519 | BG21: =+AVERAGE(BE21:BF21) -> 0.5485 | BH21: 3 | BI21: =+(BG21/BD$13)*0.3*BH21*500 -> 191.33721 | BJ21: a | BM21: 6 | BN21: 0.332 | BO21: 0.327 | BP21: =+AVERAGE(BN21:BO21) -> 0.3295 | BQ21: 3 | BR21: =+(BP21/BM$14)*0.3*BQ21*500 -> 119.57661 | BS21: a
A22: 2 | B22: 7 | C22: 0.706 | D22: 0.712 | E22: =+AVERAGE(C22:D22) -> 0.709 | F22: 3 | G22: =+(E22/C$14)*0.3*F22*500 -> 265.875 | H22: b | J22: 2 | K22: 7 | L22: 0.463 | M22: 0.483 | N22: =+AVERAGE(L22:M22) -> 0.473 | O22: 3 | P22: =+(N22/K$14)*0.3*O22*500 -> 207.05253 | Q22: a | S22: 3 | T22: 8 | U22: 0.692 | V22: 0.764 | W22: =+AVERAGE(U22:V22) -> 0.728 | X22: 3 | Y22: =+(W22/U$13)*0.3*X22*500 -> 263.13253 | Z22: b | AB22: 3 | AC22: 8 | AD22: 0.474 | AE22: 0.457 | AF22: =+AVERAGE(AD22:AE22) -> 0.4655 | AG22: 3 | AH22: =+(AF22/AD$13)*0.3*AG22*500 -> 175.29289 | AI22: b | AK22: 3 | AL22: 8 | AM22: 0.564 | AN22: 0.602 | AO22: =+AVERAGE(AM22:AN22) -> 0.583 | AP22: 3 | AQ22: =+(AO22/AM$13)*0.3*AP22*500 -> 194.33333 | AR22: b | AT22: 3 | AU22: 8 | AV22: 0.299 | AW22: 0.288 | AX22: =+AVERAGE(AV22:AW22) -> 0.2935 | AY22: 3.6 | AZ22: =+(AX22/AU$13)*0.3*AY22*500 -> 128.33198 | BA22: a | BC22: 3 | BD22: 8 | BE22: 0.476 | BF22: 0.412 | BG22: =+AVERAGE(BE22:BF22) -> 0.444 | BH22: 3 | BI22: =+(BG22/BE$13)*0.3*BH22*500 -> 146.91176 | BJ22: b | BM22: 7 | BN22: 0.577 | BO22: 0.53 | BP22: =+AVERAGE(BN22:BO22) -> 0.5535 | BQ22: 3 | BR22: =+(BP22/BM$14)*0.3*BQ22*500 -> 200.86694 | BS22: a
A23: 3 | B23: 8 | F23: 3 | H23: b | J23: 3 | K23: 8 | L23: 0.51 | M23: 0.512 | N23: =+AVERAGE(L23:M23) -> 0.511 | O23: 3 | P23: =+(N23/L$14)*0.3*O23*500 -> 191.625 | Q23: b | S23: 4 | T23: 9 | U23: 0.722 | V23: 0.603 | W23: =+AVERAGE(U23:V23) -> 0.6625 | X23: 3 | Y23: =+(W23/U$13)*0.3*X23*500 -> 239.45783 | Z23: b | AB23: 4 | AC23: 9 | AD23: 0.488 | AE23: 0.485 | AF23: =+AVERAGE(AD23:AE23) -> 0.4865 | AG23: 3 | AH23: =+(AF23/AD$13)*0.3*AG23*500 -> 183.20084 | AI23: b | AK23: 4 | AL23: 9 | AM23: 0.987 | AN23: 1.004 | AO23: =+AVERAGE(AM23:AN23) -> 0.9955 | AP23: 3 | AQ23: =+(AO23/AM$13)*0.3*AP23*500 -> 331.83333 | AR23: b | AT23: 4 | AU23: 9 | AV23: 0.278 | AW23: 0.408 | AX23: =+AVERAGE(AV23:AW23) -> 0.343 | AY23: 3.6 | AZ23: =+(AX23/AV$13)*0.3*AY23*500 -> 136.69373 | BA23: b | BC23: 4 | BD23: 9 | BE23: 0.421 | BF23: 0.416 | BG23: =+AVERAGE(BE23:BF23) -> 0.4185 | BH23: 3 | BI23: =+(BG23/BE$13)*0.3*BH23*500 -> 138.47426 | BJ23: b | BM23: 8 | BN23: 0.72 | BO23: 0.71 | BP23: =+AVERAGE(BN23:BO23) -> 0.715 | BQ23: 3 | BR23: =+(BP23/BM$14)*0.3*BQ23*500 -> 259.47581 | BS23: a
A24: 4 | B24: 9 | C24: 0.726 | D24: 0.648 | E24: =+AVERAGE(C24:D24) -> 0.687 | F24: 3 | G24: =+(E24/C$14)*0.3*F24*500 -> 257.625 | H24: b | J24: 4 | K24: 9 | Q24: b | S24: 5 | T24: 10 | U24: 0.436 | V24: 0.484 | W24: =+AVERAGE(U24:V24) -> 0.46 | X24: 3 | Y24: =+(W24/U$13)*0.3*X24*500 -> 166.26506 | Z24: b | AB24: 5 | AC24: 10 | AD24: 0.398 | AE24: 0.394 | AF24: =+AVERAGE(AD24:AE24) -> 0.396 | AG24: 3 | AH24: =+(AF24/AD$13)*0.3*AG24*500 -> 149.12134 | AI24: b | AK24: 5 | AL24: 10 | AM24: 0.83 | AN24: 0.814 | AO24: =+AVERAGE(AM24:AN24) -> 0.822 | AP24: 3 | AQ24: =+(AO24/AM$13)*0.3*AP24*500 -> 274 | AR24: b | AT24: 5 | AU24: 10 | AV24: 0.465 | AW24: 0.443 | AX24: =+AVERAGE(AV24:AW24) -> 0.454 | AY24: 3 | AZ24: =+(AX24/AV$13)*0.3*AY24*500 -> 150.77491 | BA24: b | BC24: 5 | BD24: 10 | BE24: 0.602 | BF24: 0.55 | BG24: =+AVERAGE(BE24:BF24) -> 0.576 | BH24: 3 | BI24: =+(BG24/BE$13)*0.3*BH24*500 -> 190.58824 | BJ24: b
A25: 5 | B25: 10 | C25: 0.673 | E25: =+AVERAGE(C25:D25) -> 0.673 | F25: 3 | G25: =+(E25/C$14)*0.3*F25*500 -> 252.375 | H25: b | J25: 5 | K25: 10 | L25: 0.379 | M25: 0.4 | N25: =+AVERAGE(L25:M25) -> 0.3895 | O25: 3 | P25: =+(N25/L$14)*0.3*O25*500 -> 146.0625 | Q25: b | S25: 6 | T25: 11 | U25: 0.583 | V25: 0.574 | W25: =+AVERAGE(U25:V25) -> 0.5785 | X25: 3 | Y25: =+(W25/U$13)*0.3*X25*500 -> 209.09639 | Z25: b | AB25: 6 | AC25: 11 | AD25: 0.506 | AE25: 0.469 | AF25: =+AVERAGE(AD25:AE25) -> 0.4875 | AG25: 3 | AH25: =+(AF25/AD$13)*0.3*AG25*500 -> 183.57741 | AI25: b | AK25: 6 | AL25: 11 | AM25: 0.673 | AN25: 0.702 | AO25: =+AVERAGE(AM25:AN25) -> 0.6875 | AP25: 3 | AQ25: =+(AO25/AM$13)*0.3*AP25*500 -> 229.16667 | AR25: b | AT25: 6 | AU25: 11 | AV25: 0.742 | AW25: 0.673 | AX25: =+AVERAGE(AV25:AW25) -> 0.7075 | AY25: 3 | AZ25: =+(AX25/AV$13)*0.3*AY25*500 -> 234.9631 | BA25: b | BC25: 6 | BD25: 11 | BE25: 0.351 | BF25: 0.338 | BG25: =+AVERAGE(BE25:BF25) -> 0.3445 | BH25: 3 | BI25: =+(BG25/BE$13)*0.3*BH25*500 -> 113.98897 | BJ25: b | BL25: no. | BM25: 7 | BQ25: Promedio | BR25: =+AVERAGE(BR18:BR23) -> 184.50605
A26: 6 | B26: 11 | C26: 0.738 | D26: 0.756 | E26: =+AVERAGE(C26:D26) -> 0.747 | F26: 3 | G26: =+(E26/C$14)*0.3*F26*500 -> 280.125 | H26: b | J26: 6 | K26: 11 | L26: 0.322 | M26: 0.349 | N26: =+AVERAGE(L26:M26) -> 0.3355 | O26: 3 | P26: =+(N26/L$14)*0.3*O26*500 -> 125.8125 | Q26: b | S26: 7 | T26: 12 | Z26: b | AB26: 7 | AC26: 12 | AD26: 0.347 | AE26: 0.32 | AF26: =+AVERAGE(AD26:AE26) -> 0.3335 | AG26: 3 | AH26: =+(AF26/AD$13)*0.3*AG26*500 -> 125.58577 | AI26: b | AK26: 7 | AL26: 12 | AR26: b | AT26: 7 | AU26: 12 | AV26: 0.345 | AW26: 0.347 | AX26: =+AVERAGE(AV26:AW26) -> 0.346 | AY26: 3 | AZ26: =+(AX26/AV$13)*0.3*AY26*500 -> 114.90775 | BA26: b | BC26: 7 | BD26: 12 | BE26: 0.387 | BF26: 0.375 | BG26: =+AVERAGE(BE26:BF26) -> 0.381 | BH26: 3 | BI26: =+(BG26/BE$13)*0.3*BH26*500 -> 126.06618 | BJ26: b | BQ26: Des. vest | BR26: =+STDEV(BR16:BR23) -> 45.671634
A27: 7 | B27: 12 | F27: 3 | H27: b | J27: 7 | K27: 12 | L27: 0.382 | M27: 0.335 | N27: =+AVERAGE(L27:M27) -> 0.3585 | O27: 3 | P27: =+(N27/L$14)*0.3*O27*500 -> 134.4375 | Q27: b | S27: 8 | T27: 13 | U27: 0.252 | V27: 0.231 | W27: =+AVERAGE(U27:V27) -> 0.2415 | X27: 3 | Y27: =+(W27/U$13)*0.3*X27*500 -> 87.289157 | Z27: b | AB27: 8 | AC27: 13 | AD27: 0.575 | AE27: 0.592 | AF27: =+AVERAGE(AD27:AE27) -> 0.5835 | AG27: 3 | AH27: =+(AF27/AD$13)*0.3*AG27*500 -> 219.72803 | AI27: b | AK27: 8 | AL27: 13 | AM27: 0.374 | AN27: 0.32 | AO27: =+AVERAGE(AM27:AN27) -> 0.347 | AP27: 3 | AQ27: =+(AO27/AM$13)*0.3*AP27*500 -> 115.66667 | AR27: b | AT27: 8 | AU27: 13 | AV27: 0.409 | AW27: 0.394 | AX27: =+AVERAGE(AV27:AW27) -> 0.4015 | AY27: 3 | AZ27: =+(AX27/AV$13)*0.3*AY27*500 -> 133.33948 | BA27: b | BC27: 8 | BD27: 13 | BE27: 0.285 | BF27: 0.261 | BG27: =+AVERAGE(BE27:BF27) -> 0.273 | BH27: 3.6 | BI27: =+(BG27/BE$13)*0.3*BH27*500 -> 108.39706 | BJ27: b | BQ27: E,S | BR27: =+(BR26/SQRT(BM25)) -> 17.262255
A28: 8 | B28: 13 | C28: 0.645 | D28: 0.64 | E28: =+AVERAGE(C28:D28) -> 0.6425 | F28: 3 | G28: =+(E28/C$14)*0.3*F28*500 -> 240.9375 | H28: b | J28: 8 | K28: 13 | L28: 0.322 | M28: 0.319 | N28: =+AVERAGE(L28:M28) -> 0.3205 | O28: 3 | P28: =+(N28/L$14)*0.3*O28*500 -> 120.1875 | Q28: b | S28: 9 | T28: 14 | U28: 0.497 | V28: 0.477 | W28: =+AVERAGE(U28:V28) -> 0.487 | X28: 3 | Y28: =+(W28/U$13)*0.3*X28*500 -> 176.0241 | Z28: b | AB28: 9 | AC28: 14 | AD28: 0.482 | AE28: 0.473 | AF28: =+AVERAGE(AD28:AE28) -> 0.4775 | AG28: 3 | AH28: =+(AF28/AD$13)*0.3*AG28*500 -> 179.81172 | AI28: b | AK28: 9 | AL28: 14 | AM28: 0.568 | AN28: 0.648 | AO28: =+AVERAGE(AM28:AN28) -> 0.608 | AP28: 3 | AQ28: =+(AO28/AM$13)*0.3*AP28*500 -> 202.66667 | AR28: b | AT28: 9 | AU28: 14 | AV28: 0.476 | AW28: 0.502 | AX28: =+AVERAGE(AV28:AW28) -> 0.489 | AY28: 3 | AZ28: =+(AX28/AV$13)*0.3*AY28*500 -> 162.39852 | BA28: b | BC28: 9 | BD28: 14 | BE28: 0.468 | BF28: 0.472 | BG28: =+AVERAGE(BE28:BF28) -> 0.47 | BH28: 3.6 | BI28: =+(BG28/BE$13)*0.3*BH28*500 -> 186.61765 | BJ28: b | BQ28: % E.S. | BR28: =+(BR27/BR25)*100 -> 9.3559291
A29: 9 | B29: 14 | H29: b | J29: 9 | K29: 14 | Q29: b | AL29: pool | AM29: 0.438 | AN29: 0.422 | AO29: =+AVERAGE(AM29:AN29) -> 0.43 | AP29: 3 | AQ29: =+(AO29/AM$13)*0.3*AP29*500 -> 143.33333 | AR29: b | AU29: pool | AV29: 0.548 | AW29: 0.585 | AX29: =+AVERAGE(AV29:AW29) -> 0.5665 | AY29: 3 | AZ29: =+(AX29/AV$13)*0.3*AY29*500 -> 188.13653 | BA29: b
S30: no. | T30: 13 | X30: Promedio | Y30: =+AVERAGE(Y15:Y28) -> 166.66098 | AB30: no. | AC30: 14 | AG30: Promedio | AH30: =+AVERAGE(AH15:AH28) -> 178.44032 | BC30: no. | BD30: 13 | BH30: Promedio | BI30: =+AVERAGE(BI15:BI28) -> 157.39352
A31: no. | B31: 10 | F31: Promedio | G31: =+AVERAGE(G16:G29) -> 309.35714 | J31: no. | K31: 11 | N31: Promedio | P31: =+AVERAGE(P16:P29) -> 172.05363 | X31: Des. vest | Y31: =+STDEV(Y15:Y28) -> 49.264414 | AG31: Des. vest | AH31: =+STDEV(AH15:AH28) -> 26.730086 | AK31: no. | AL31: 13 | AP31: Promedio | AQ31: =+AVERAGE(AQ15:AQ28) -> 203.12608 | AT31: no. | AU31: 14 | AY31: Promedio | AZ31: =+AVERAGE(AZ15:AZ28) -> 161.44249 | BH31: Des. vest | BI31: =+STDEV(BI15:BI28) -> 32.294286
F32: Des. vest | G32: =+STDEV(G16:G29) -> 79.014564 | N32: Des. vest | P32: =+STDEV(P16:P29) -> 40.364754 | X32: E,S | Y32: =+(Y31/SQRT(T30)) -> 13.66349 | AG32: E,S | AH32: =+(AH31/SQRT(AC30)) -> 7.143916 | AP32: Des. vest | AQ32: =+STDEV(AQ15:AQ28) -> 53.655742 | AY32: Des. vest | AZ32: =+STDEV(AZ15:AZ28) -> 31.724587 | BH32: E,S | BI32: =+(BI31/SQRT(BD30)) -> 8.9568235
F33: E,S | G33: =+(G32/SQRT(B31)) -> 24.986599 | N33: E,S | P33: =+(P32/SQRT(K31)) -> 12.170431 | X33: % E.S. | Y33: =+(Y32/Y30)*100 -> 8.1983739 | AG33: % E.S. | AH33: =+(AH32/AH30)*100 -> 4.0035324 | AP33: E,S | AQ33: =+(AQ32/SQRT(AL31)) -> 14.881425 | AY33: E,S | AZ33: =+(AZ32/SQRT(AU31)) -> 8.4787525 | BH33: % E.S. | BI33: =+(BI32/BI30)*100 -> 5.6907195
F34: % E.S. | G34: =+(G33/G31)*100 -> 8.0769428 | N34: % E.S. | P34: =+(P33/P31)*100 -> 7.0736263 | AP34: % E.S. | AQ34: =+(AQ33/AQ31)*100 -> 7.3262012 | AY34: % E.S. | AZ34: =+(AZ33/AZ31)*100 -> 5.2518717
A37: DIETA F4 | B37: 36286 | J37: DIETA F3 | K37: 36287 | S37: DIETA F2 | T37: 36293 | AB37: DIETA F1 | AC37: 36293 | AK37: DIETA F4 | AL37: 36293 | AT37: DIETA F3 | AU37: 36294 | BC37: DIETA F2 | BD37: 36297 | BL37: DIETA F1 | BM37: 36299
A38: LACTATO | J38: LACTATO | S38: LACTATO | AB38: LACTATO | AK38: LACTATO | AT38: LACTATO | BC38: LACTATO | BL38: LACTATO
S39: nm | T39: 540 | AB39: nm | AC39: 540 | BC39: nm | BD39: 540
A40: nm | B40: 540 | J40: nm | K40: 540 | S40: bco(ajustado) | T40: 0.101 | U40: 0.108 | AB40: bco(ajustado) | AC40: 0.091 | AD40: 0.182 | AK40: nm | AL40: 540 | AT40: nm | AU40: 540 | BC40: bco(ajustado) | BD40: 0.074 | BE40: 0.083 | BL40: nm | BM40: 540
A41: bco(ajustado) | B41: 0.135 | C41: 0.087 | J41: bco(ajustado) | K41: 0.096 | L41: 0.096 | S41: std | T41: 1.075 | U41: 0.874 | AB41: std | AC41: 1.01 | AD41: 0.988 | AK41: bco(ajustado) | AL41: -0.226 | AM41: 0.093 | AT41: bco(ajustado) | AU41: 0.082 | AV41: 0.096 | BC41: std | BD41: 0.916 | BE41: 1.012 | BL41: bco(ajustado) | BM41: 0.077
A42: std | B42: 0.866 | C42: 0.974 | J42: std | K42: 0.876 | L42: 0.836 | U42: D.O. | V42: Dilution fac | W42: mg/mL | X42: serie | AD42: D.O. | AE42: Dilution fac | AF42: mg/mL | AG42: serie | AK42: std | AL42: 0.098 | AM42: 0.907 | AT42: std | AU42: 0.934 | AV42: 1.01 | BE42: D.O. | BF42: Dilution fac | BG42: mg/mL | BH42: serie | BL42: std | BM42: 1.038
C43: D.O. | D43: Dilution factor | E43: mg/mL | F43: serie | L43: D.O. | M43: Dilution factor | N43: mg/mL | O43: serie | S43: Tara | T43: 1 | U43: 0.173 | V43: 3 | W43: =+(U43/T$41)*0.4*V43 -> 0.19311628 | X43: a | AB43: Tara | AC43: 1 | AD43: 0.082 | AE43: 3 | AF43: =+(AD43/AC$41)*0.4*AE43 -> 0.097425743 | AG43: a | AM43: D.O. | AN43: D.O. | AO43: PROM | AP43: Dilution fac | AQ43: mg/mL | AR43: serie | AV43: D.O. | AW43: D.O. | AX43: PROM | AY43: Dilution fac | AZ43: mg/mL | BA43: serie | BC43: Tara | BD43: 1 | BE43: 0.125 | BF43: 3 | BG43: =+(BE43/BD$41)*0.4*BF43 -> 0.16375546 | BH43: a | BN43: D.O. | BO43: Dilution fac | BP43: mg/mL | BQ43: serie
A44: Tara | B44: 1 | C44: 0.211 | D44: 3 | E44: =+(C44/B$42)*0.4*D44 -> 0.29237875 | F44: a | J44: Tara | K44: 1 | L44: 0.151 | M44: 3 | N44: =+(L44/K$42)*0.4*M44 -> 0.20684932 | O44: a | T44: 2 | U44: 0.193 | V44: 3 | W44: =+(U44/T$41)*0.4*V44 -> 0.21544186 | X44: a | AC44: 2 | AD44: 0.332 | AE44: 3 | AF44: =+(AD44/AC$41)*0.4*AE44 -> 0.39445545 | AG44: a | AK44: Tara | AL44: 1 | AP44: 3 | AR44: a | AT44: Tara | AU44: 1 | AV44: 0.096 | AW44: 0.086 | AX44: =+AVERAGE(AV44:AW44) -> 0.091 | AY44: 3 | AZ44: =+(AX44/AU$42)*0.3*AY44 -> 0.087687366 | BA44: a | BD44: 2 | BE44: 0.12 | BF44: 3 | BG44: =+(BE44/BD$41)*0.4*BF44 -> 0.15720524 | BH44: a | BL44: Camaras | BM44: 1 | BN44: 0.065 | BO44: 3 | BP44: =+(BN44/BM$42)*0.4*BO44 -> 0.075144509 | BQ44: a
B45: 2 | C45: 0.099 | D45: 3 | E45: =+(C45/B$42)*0.4*D45 -> 0.13718245 | F45: a | K45: 2 | L45: 0.193 | M45: 3 | N45: =+(L45/K$42)*0.4*M45 -> 0.26438356 | O45: a | T45: 3 | U45: 0.062 | V45: 3 | W45: =+(U45/T$41)*0.4*V45 -> 0.069209302 | X45: a | AC45: 3 | AD45: 0.126 | AE45: 3 | AF45: =+(AD45/AC$41)*0.4*AE45 -> 0.14970297 | AG45: a | AL45: 2 | AP45: 3 | AR45: a | AU45: 2 | AV45: 0.317 | AW45: 0.344 | AX45: =+AVERAGE(AV45:AW45) -> 0.3305 | AY45: 3 | AZ45: =+(AX45/AU$42)*0.3*AY45 -> 0.31846895 | BA45: a | BD45: 3 | BE45: 0.037 | BF45: 3 | BG45: =+(BE45/BD$41)*0.4*BF45 -> 0.048471616 | BH45: a | BM45: 2 | BQ45: a
...

Sheet tabla
A1: vuelta= repeticion en el tiempo de fisiologia de las cuatro dietas
A2: serie= tandas de mediciones colorimetricas en el espectro
A3: dispositivo:1= tara, 2=camara respirometrica
A5: vuelta | B5: serie lectura | C5: dieta | D5: dispositivo | E5: no. | F5: prote (mg/ml) | G5: lacta (mg/ml) | H5: triacyl (mg/ml) | I5: pro FO (DO) | J5: P.O hipo | K5: Peso (gr) | L5: glucogeno(mg/g) | N5: Presion osm. | O5: P. O. medio | P5: dietas | Q5: prom po hipo | R5: prom po
A6: 1 | B6: a | C6: 4 | D6: 1 | E6: 1 | F6: 254.05512 | G6: 0.29237875 | H6: 0.46583851 | J6: =+N6-O6 -> -392 | K6: 3.96 | N6: 766 | O6: 1158 | P6: 4 | Q6: =+AVERAGE(J6:J19) -> -388 | R6: =+AVERAGE(N6:N19) -> 790.92308
A7: 1 | B7: a | C7: 4 | D7: 1 | E7: 2 | F7: 382.14567 | G7: 0.13718245 | I7: 0.376 | J7: =+N7-O7 -> -379 | K7: 3.11 | N7: 779 | O7: 1158 | P7: 3 | Q7: =+AVERAGE(J20:J33) -> -359 | R7: =+AVERAGE(N20:N33) -> 832.3
A8: 1 | B8: a | C8: 4 | D8: 1 | E8: 3 | F8: 332.8937 | G8: 0.21616628 | H8: 0.52173913 | I8: 0.042 | J8: =+N8-O8 -> -350 | K8: 3.02 | N8: 808 | O8: 1158 | P8: 2 | Q8: =+AVERAGE(J34:J47) -> -351.25 | R8: =+AVERAGE(N34:N47) -> 824.58333
A9: 1 | B9: a | C9: 4 | D9: 1 | E9: 4 | F9: 491.63386 | G9: 0.037413395 | H9: 0.76397516 | I9: 0.662 | J9: =+N9-O9 -> -337 | K9: 3.13 | N9: 821 | O9: 1158 | P9: 1 | Q9: =+AVERAGE(J48:J61) -> -342.66667 | R9: =+AVERAGE(N48:N61) -> 801.41667
A10: 1 | B10: a | C10: 4 | D10: 1 | E10: 5 | F10: 335.90551 | G10: 0.07482679 | H10: 0.40993789 | I10: 0.772 | J10: =+N10-O10 -> -399 | K10: 3.43 | N10: 759 | O10: 1158 | P10: 4 | Q10: =+AVERAGE(J62:J75) -> -342.30769 | R10: =+AVERAGE(N62:N75) -> 802.15385
A11: 1 | B11: b | C11: 4 | D11: 2 | E11: 6 | K11: 1.7913 | P11: 3 | Q11: =+AVERAGE(J76:J89) -> -346.83333 | R11: =+AVERAGE(N76:N89) -> 800.66667
A12: 1 | B12: b | C12: 4 | D12: 2 | E12: 7 | F12: 265.875 | G12: 0.061601643 | H12: 0.3147541 | I12: 0.14 | J12: =+N12-O12 -> -417 | K12: 3.1352 | N12: 775 | O12: 1192 | P12: 2 | Q12: =+AVERAGE(J90:J103) -> -319.27273 | R12: =+AVERAGE(N90:N103) -> 830.09091
A13: 1 | B13: b | C13: 4 | D13: 2 | E13: 8 | J13: =+N13-O13 -> -320 | K13: 2.4501 | N13: 872 | O13: 1192 | P13: 1 | Q13: =+AVERAGE(J104:J111) -> -360 | R13: =+AVERAGE(N104:N111) -> 796
A14: 1 | B14: b | C14: 4 | D14: 2 | E14: 9 | F14: 257.625 | G14: 0.056673511 | H14: 0.45245902 | I14: 0.229 | J14: =+N14-O14 -> -452 | K14: 2.4941 | N14: 740 | O14: 1192
A15: 1 | B15: b | C15: 4 | D15: 2 | E15: 10 | F15: 252.375 | G15: 0.10841889 | H15: 0.49180328 | I15: 0.254 | J15: =+N15-O15 -> -341 | K15: 2.3539 | N15: 851 | O15: 1192
A16: 1 | B16: b | C16: 4 | D16: 2 | E16: 11 | F16: 280.125 | G16: 0.081314168 | I16: 0.105 | J16: =+N16-O16 -> -467 | K16: 1.8922 | N16: 725 | O16: 1192
A17: 1 | B17: b | C17: 4 | D17: 2 | E17: 12 | J17: =+N17-O17 -> -360 | K17: 1.3513 | N17: 832 | O17: 1192
A18: 1 | B18: b | C18: 4 | D18: 2 | E18: 13 | F18: 240.9375 | G18: 0.03449692 | H18: 0.51147541 | I18: 0.099 | J18: =+N18-O18 -> -421 | K18: 1.923 | N18: 771 | O18: 1192
A19: 1 | B19: b | C19: 4 | D19: 2 | E19: 14 | J19: =+N19-O19 -> -409 | K19: 1.0994 | N19: 783 | O19: 1192
A20: 1 | B20: a | C20: 3 | D20: 1 | E20: 1 | F20: 247.3249 | G20: 0.20684932 | H20: 1.9619048 | I20: 0.382 | J20: =+N20-O20 -> -337.5 | K20: 1.7179 | N20: 831 | O20: 1168.5
A21: 1 | B21: a | C21: 3 | D21: 1 | E21: 2 | F21: 188.66732 | G21: 0.26438356 | H21: 3.6952381 | I21: 0.47 | J21: =+N21-O21 -> -398.5 | K21: 2.1048 | N21: 770 | O21: 1168.5
A22: 1 | B22: a | C22: 3 | D22: 1 | E22: 3 | F22: 176.41051 | G22: 0.23424658 | H22: 1.9428571 | I22: 0.267 | J22: =+N22-O22 -> -266.5 | K22: 0.08859 | N22: 902 | O22: 1168.5
A23: 1 | B23: a | C23: 3 | D23: 1 | E23: 4 | F23: 147.9572 | G23: 0.2739726 | H23: 2.7238095 | I23: 0.469 | K23: 0.9832
A24: 1 | B24: a | C24: 3 | D24: 1 | E24: 5 | F24: 207.05253 | G24: 0.33150685 | H24: 1.8857143 | I24: 0.638 | J24: =+N24-O24 -> -354.5 | K24: 1.2555 | N24: 814 | O24: 1168.5
A25: 1 | B25: a | C25: 3 | D25: 2 | E25: 6 | K25: 2.669
A26: 1 | B26: a | C26: 3 | D26: 2 | E26: 7 | F26: 207.05253 | G26: 0.14109589 | H26: 4.4190476 | I26: 0.203 | J26: =+N26-O26 -> -413.5 | K26: 2.3358 | N26: 793 | O26: 1206.5
A27: 1 | B27: b | C27: 3 | D27: 2 | E27: 8 | F27: 191.625 | G27: 0.38767123 | H27: 3.4857143 | I27: 0.181 | J27: =+N27-O27 -> -446.5 | K27: 2.2204 | N27: 760 | O27: 1206.5
A28: 1 | B28: b | C28: 3 | D28: 2 | E28: 9 | J28: =+N28-O28 -> -372.5 | K28: 1.8981 | N28: 834 | O28: 1206.5
A29: 1 | B29: b | C29: 3 | D29: 2 | E29: 10 | F29: 146.0625 | G29: 0.078082192 | H29: 1.9047619 | I29: 0.323 | J29: =+N29-O29 -> -468.5 | K29: 1.3309 | N29: 738 | O29: 1206.5
A30: 1 | B30: b | C30: 3 | D30: 2 | E30: 11 | F30: 125.8125 | G30: 0.12328767 | H30: 3.2190476 | I30: 0.354 | K30: 1.5397
A31: 1 | B31: b | C31: 3 | D31: 2 | E31: 12 | F31: 134.4375 | G31: 0.036986301 | H31: 2.0380952 | I31: 0.121 | J31: =+N31-O31 -> -215.5 | K31: 1.1229 | N31: 991 | O31: 1206.5
A32: 1 | B32: b | C32: 3 | D32: 2 | E32: 13 | F32: 120.1875 | G32: 0.10273973 | H32: 1.847619 | I32: 0.388 | K32: 1.1741
A33: 1 | B33: b | C33: 3 | D33: 2 | E33: 14 | J33: =+N33-O33 -> -316.5 | K33: 0.7522 | N33: 890 | O33: 1206.5
A34: 1 | B34: a | C34: 2 | D34: 1 | E34: 1 | F34: 110.52365 | G34: 0.19311628 | H34: 1.9002933 | J34: =+N34-O34 -> -386.5 | K34: 1.4582 | N34: 774 | O34: 1160.5
A35: 1 | B35: a | C35: 2 | D35: 1 | E35: 2 | F35: 110.52365 | G35: 0.21544186 | H35: 2.3225806 | I35: 0.64766667 | J35: =+N35-O35 -> -297.5 | K35: 1.6748 | N35: 863 | O35: 1160.5
A36: 1 | B36: a | C36: 2 | D36: 1 | E36: 3 | F36: 183.19257 | G36: 0.069209302 | H36: 2.0938416 | I36: 0.20566667 | J36: =+N36-O36 -> -344.5 | K36: 1.6597 | N36: 816 | O36: 1160.5
A37: 1 | B37: a | C37: 2 | D37: 1 | E37: 4 | F37: 145.33784 | G37: 0.16744186 | H37: 2.0410557 | I37: 0.47766667 | J37: =+N37-O37 -> -230.5 | K37: 1.6606 | N37: 930 | O37: 1160.5
A38: 1 | B38: a | C38: 2 | D38: 1 | E38: 5 | F38: 131.50338 | G38: 0.064744186 | H38: 2.1466276 | I38: 0.37266667 | K38: 1.2493
A39: 1 | B39: a | C39: 2 | D39: 2 | E39: 6 | F39: 167.98986 | G39: 0.062511628 | H39: 1.9530792 | I39: 0.36866667 | J39: =+N39-O39 -> -252.5 | K39: 1.9087 | N39: 931 | O39: 1183.5
A40: 1 | B40: b | C40: 2 | D40: 2 | E40: 7 | F40: 151.41892 | G40: 0.020093023 | H40: 2.8328446 | I40: 0.081666667 | J40: =+N40-O40 -> -439.5 | K40: 1.9709 | N40: 744 | O40: 1183.5
A41: 1 | B41: b | C41: 2 | D41: 2 | E41: 8 | F41: 135.36145 | G41: 0.074790698 | H41: 2.568915 | I41: 0.13866667 | J41: =+N41-O41 -> -391.5 | K41: 1.5604 | N41: 792 | O41: 1183.5
...

Sheet prom
Q1: vuelta b
B2: PROTEINAS | D2: LACTATO | F2: TRIGLICERIDOS | H2: pro FO | J2: Glucogeno | L2: P.O. Hipo | O2: P.O | Q2: diatas | R2: Proteinas | S2: P.O. | T2: Glucogeno | U2: Lactato | V2: Trigliceridos | Z2: dietas | AA2: prom po hipo | AB2: prom po
A3: DIETAS | B3: A | C3: B | D3: A | E3: B | F3: A | G3: B | H3: A | I3: B | J3: A | K3: B | L3: A | M3: B | N3: PROM | O3: A | P3: B | Q3: 4 | R3: =datos!$AQ$31 -> 203.12608 | S3: 802.15385 | T3: =datos!$AP$141 -> 32.914044 | U3: =datos!$AQ$60 -> 0.039095921 | V3: =datos!$AO$87 -> 0.5303781 | Z3: 4 | AA3: -388 | AB3: 790.92308
A4: 4 | B4: =datos!$G$31 -> 309.35714 | C4: =datos!$AQ$31 -> 203.12608 | D4: =datos!$E$59 -> 0.11004728 | E4: =datos!$AQ$60 -> 0.039095921 | F4: =datos!$E$86 -> 0.49149781 | G4: =datos!$AO$87 -> 0.5303781 | H4: =datos!$E$113 -> 0.29766667 | I4: =datos!$AO$113 -> 0.40133333 | K4: =datos!$AP$141 -> 32.914044 | L4: -388 | M4: -342.30769 | N4: =+AVERAGE(L4:M4) -> -365.15385 | O4: 790.92308 | P4: 802.15385 | Q4: 3 | R4: =datos!$AZ$31 -> 161.44249 | S4: 800.66667 | T4: =datos!$AY$141 -> 25.670107 | U4: =datos!$AZ$60 -> 0.10562749 | V4: =datos!$AX$87 -> 1.9404691 | Z4: 3 | AA4: -359 | AB4: 832.3
A5: 3 | B5: =datos!$P$31 -> 172.05363 | C5: =datos!$AZ$31 -> 161.44249 | D5: =datos!$N$59 -> 0.19825654 | E5: =datos!$AZ$60 -> 0.10562749 | F5: =datos!$N$86 -> 2.647619 | G5: =datos!$AX$87 -> 1.9404691 | H5: =datos!$N$113 -> 0.34509091 | I5: =datos!$AY$113 -> 0.2645 | K5: =datos!$AY$141 -> 25.670107 | L5: -359 | M5: -346.83333 | N5: =+AVERAGE(L5:M5) -> -352.91667 | O5: 832.3 | P5: 800.66667 | Q5: 2 | R5: =datos!$BI$30 -> 157.39352 | S5: 830.09091 | T5: =datos!$BH$141 -> 86.556737 | U5: =datos!$BG$58 -> 0.074092327 | V5: =datos!$BG$86 -> 1.302761 | Z5: 2 | AA5: -351.25 | AB5: 824.58333
A6: 2 | B6: =datos!$Y$30 -> 166.66098 | C6: =datos!$BI$30 -> 157.39352 | D6: =datos!$W$58 -> 0.083806798 | E6: =datos!$BG$58 -> 0.074092327 | F6: =datos!$W$86 -> 2.0708324 | G6: =datos!$BG$86 -> 1.302761 | H6: =datos!$X$112 -> 0.25225 | I6: =datos!$BG$113 -> 0.20857692 | K6: =datos!$BH$141 -> 86.556737 | L6: -351.25 | M6: -319.27273 | N6: =+AVERAGE(L6:M6) -> -335.26136 | O6: 824.58333 | P6: 830.09091 | Q6: 1 | R6: =datos!$BR$25 -> 184.50605 | S6: 796 | T6: =datos!$BQ$135 -> 60.535519 | U6: =datos!$BP$53 -> 0.059454996 | V6: =datos!$BP$81 -> 1.8528657 | Z6: 1 | AA6: -342.66667 | AB6: 801.41667
A7: 1 | B7: =datos!$AH$30 -> 178.44032 | C7: =datos!$BR$25 -> 184.50605 | D7: =datos!$AF$58 -> 0.10519421 | E7: =datos!$BP$53 -> 0.059454996 | F7: =datos!$AF$86 -> 2.8941585 | G7: =datos!$BP$81 -> 1.8528657 | H7: =datos!$AF$112 -> 0.42216667 | I7: =datos!$BP$107 -> 0.16238095 | K7: =datos!$BQ$135 -> 60.535519 | L7: -342.66667 | M7: -360 | N7: =+AVERAGE(L7:M7) -> -351.33333 | O7: 801.41667 | P7: 796 | Z7: 4 | AA7: -342.30769 | AB7: 802.15385
Z8: 3 | AA8: -346.83333 | AB8: 800.66667
Z9: 2 | AA9: -319.27273 | AB9: 830.09091
Z10: 1 | AA10: -360 | AB10: 796
C25: Valid N | D25: Mean | E25: Minimum | F25: Maximum | G25: Std.Dev. | H25: ES | I25: %ES
B26: PESO | C26: 106 | D26: 1.9015924 | E26: 0.08859 | F26: 3.96 | G26: 0.68678874 | H26: =+G26/SQRT(C26) -> 0.06670682 | I26: =+H26/D26*100 -> 3.5079453
B27: PROTEINAS | C27: 96 | D27: 187.20916 | E27: 87.289157 | F27: 491.63386 | G27: 62.727117 | H27: =+G27/SQRT(C27) -> 6.4020596 | I27: =+H27/D27*100 -> 3.4197362
B28: P.O. HIPO | C28: 90 | D28: -351.16667 | E28: -468.5 | F28: -162 | G28: 65.663938 | H28: =+G28/SQRT(C28) -> 6.9215869 | I28: =+H28/D28*100 -> -1.9710262
B29: TRIACIL | C29: 93 | D29: 1.7512997 | E29: 0.30508475 | F29: 6.1912351 | G29: 1.1212928 | H29: =+G29/SQRT(C29) -> 0.11627265 | I29: =+H29/D29*100 -> 6.6392207
B30: LACTATE | C30: 87 | D30: 0.10190862 | E30: 0.0047524752 | F30: 0.39445545 | G30: 0.086466832 | H30: =+G30/SQRT(C30) -> 0.0092702175 | I30: =+H30/D30*100 -> 9.0965982
B31: FO | C31: 85 | D31: 0.29196561 | E31: 0.042 | F31: 0.772 | G31: 0.18258328 | H31: =+G31/SQRT(C31) -> 0.019803937 | I31: =+H31/D31*100 -> 6.782969
B32: GLYCOGEN | C32: 48 | D32: 51.735813 | E32: 2.5177322 | F32: 129.0296 | G32: 37.847973 | H32: =+G32/SQRT(C32) -> 5.4628844 | I32: =+H32/D32*100 -> 10.559193

Sheet sta
B1: Efecto vuelta y dieta | M1: Efecto dieta y dispositivo | X1: Efecto dieta y serie | AG1: Efecto dieta SOLAMENTE
A3: * | B3: PESO | L3: * | M3: PESO | W3: * | X3: PESO | AF3: * | AG3: PESO
B4: Summary of all Effects; design: (smalta.sta) | M4: Summary of all Effects; design: (smalta.sta) | X4: Summary of all Effects; design: (smalta.sta) | AG4: Summary of all Effects; design: (smalta.sta)
B5: 1-DIETA, 2-VUELTA | M5: 1-DIETA, 2-DISPOSI | X5: 1-DIETA, 2-SERIE | AG5: 1-DIETA
C6: df | D6: MS | E6: df | F6: MS | N6: df | O6: MS | P6: df | Q6: MS | Y6: df | Z6: MS | AA6: df | AB6: MS | AH6: df | AI6: MS | AJ6: df | AK6: MS
C7: Effect | D7: Effect | E7: Error | F7: Error | G7: F | H7: p-level | N7: Effect | O7: Effect | P7: Error | Q7: Error | R7: F | S7: p-level | Y7: Effect | Z7: Effect | AA7: Error | AB7: Error | AC7: F | AD7: p-level | AH7: Effect | AI7: Effect | AJ7: Error | AK7: Error | AL7: F | AM7: p-level
B8: 1 | C8: 3 | D8: 6.9110756 | E8: 98 | F8: 0.27471977 | G8: 25.156818 | H8: 3.747073e-12 | M8: 1 | N8: 3 | O8: 8.0225468 | P8: 98 | Q8: 0.24167471 | R8: 33.195641 | S8: 6.8267764e-15 | X8: 1 | Y8: 3 | Z8: 40879.379 | AA8: 88 | AB8: 2781.6445 | AC8: 14.696119 | AD8: 7.7288732e-08 | AG8: 1 | AH8: 3 | AI8: 6.8562574 | AJ8: 102 | AK8: 0.28389704 | AL8: 24.150507 | AM8: 6.8795573e-12
B9: 2 | C9: 1 | D9: 0.014934581 | E9: 98 | F9: 0.27471977 | G9: 0.054362964 | H9: 0.8161245 | M9: 2 | N9: 1 | O9: 1.0681086 | P9: 98 | Q9: 0.24167471 | R9: 4.4196124 | S9: 0.038091425 | X9: 2 | Y9: 1 | Z9: 3634.6487 | AA9: 88 | AB9: 2781.6445 | AC9: 1.3066547 | AD9: 0.25610152
B10: 12 | C10: 3 | D10: 0.65810764 | E10: 98 | F10: 0.27471977 | G10: 2.3955598 | H10: 0.072847009 | M10: 12 | N10: 3 | O10: 1.4216303 | P10: 98 | Q10: 0.24167471 | R10: 5.8824124 | S10: 0.00098053156 | X10: 12 | Y10: 3 | Z10: 1242.3726 | AA10: 88 | AB10: 2781.6445 | AC10: 0.44663239 | AD10: 0.72029322 | AG10: Duncan test; PESO (smalta.sta)
AG11: Probabilities for Post Hoc Tests
AG12: MAIN EFFECT: DIETA
AH13: {1} | AI13: {2} | AJ13: {3} | AK13: {4}
AH14: 1.815105 | AI14: 1.457550 | AJ14: 1.710110 | AK14: 2.605072
AG15: 1 {1} | AI15: 0.022356708 | AJ15: 0.47735918 | AK15: 0.00010937452
AG16: 2 {2} | AH16: 0.022356708 | AJ16: 0.089311302 | AK16: 4.6195735e-05
AG17: 3 {3} | AH17: 0.47735918 | AI17: 0.089311302 | AK17: 5.2185227e-05
AG18: 4 {4} | AH18: 0.00010937452 | AI18: 4.6195735e-05 | AJ18: 5.2185227e-05
B25: Duncan test; PESO (smalta.sta) | M25: Duncan test; PESO (smalta.sta)
B26: Probabilities for Post Hoc Tests | M26: Probabilities for Post Hoc Tests
B27: INTERACTION: 1 x 2 | M27: INTERACTION: 1 x 2
C28: {1} | D28: {2} | E28: {3} | F28: {4} | G28: {5} | H28: {6} | I28: {7} | J28: {8} | N28: {1} | O28: {2} | P28: {3} | Q28: {4} | R28: {5} | S28: {6} | T28: {7} | U28: {8}
C29: 1.925871 | D29: 1.621263 | E29: 1.548293 | F29: 1.366807 | G29: 1.513792 | H29: 1.906429 | I29: 2.510036 | J29: 2.700107 | N29: 2.064320 | O29: 1.741806 | P29: 1.349020 | Q29: 1.517844 | R29: 1.633579 | S29: 1.752628 | T29: 3.148700 | U29: 2.303056
B30: 1 1 {1} | D30: 0.16918924 | E30: 0.099240609 | F30: 0.017569395 | G30: 0.078571029 | H30: 0.92552161 | I30: 0.0059398413 | J30: 0.00050369668 | M30: 1 3 {1} | O30: 0.1495557 | P30: 0.0023474013 | Q30: 0.019668544 | R30: 0.061958998 | S30: 0.13986248 | T30: 5.334758e-05 | U30: 0.25702733
B31: 1 2 {2} | C31: 0.16918924 | E31: 0.72557485 | F31: 0.26979107 | G31: 0.62913632 | H31: 0.17193466 | I31: 0.00012097233 | J31: 3.0891537e-05 | M31: 1 4 {2} | N31: 0.1495557 | P31: 0.089467354 | Q31: 0.31820032 | R31: 0.60647881 | S31: 0.95897084 | T31: 2.8954213e-05 | U31: 0.014286007
B32: 2 1 {3} | C32: 0.099240609 | D32: 0.72557485 | F32: 0.41413066 | G32: 0.86818343 | H32: 0.10546768 | I32: 5.2128336e-05 | J32: 2.4534476e-05 | M32: 2 3 {3} | N32: 0.0023474013 | O32: 0.089467354 | Q32: 0.42212278 | R32: 0.20401669 | S32: 0.088527687 | T32: 1.7056316e-05 | U32: 6.7523593e-05
B33: 2 2 {4} | C33: 0.017569395 | D33: 0.26979107 | E33: 0.41413066 | G33: 0.47985762 | H33: 0.019945934 | I33: 2.0594465e-05 | J33: 1.7064833e-05 | M33: 2 4 {4} | N33: 0.019668544 | O33: 0.31820032 | P33: 0.42212278 | R33: 0.58178145 | S33: 0.31410834 | T33: 1.9889072e-05 | U33: 0.00080831681 | AG33: Means (smalta.sta) | AJ33: Means (smalta.sta)
B34: 3 1 {5} | C34: 0.078571029 | D34: 0.62913632 | E34: 0.86818343 | F34: 0.47985762 | H34: 0.086192489 | I34: 3.9413699e-05 | J34: 2.013745e-05 | M34: 3 3 {5} | N34: 0.061958998 | O34: 0.60647881 | P34: 0.20401669 | Q34: 0.58178145 | S34: 0.59647769 | T34: 2.4081437e-05 | U34: 0.0039619198 | AG34: 1 Dependent Variable | AJ34: 1 Dependent Variable
B35: 3 2 {6} | C35: 0.92552161 | D35: 0.17193466 | E35: 0.10546768 | F35: 0.019945934 | G35: 0.086192489 | I35: 0.006168826 | J35: 0.00045707848 | M35: 3 4 {6} | N35: 0.13986248 | O35: 0.95897084 | P35: 0.088527687 | Q35: 0.31410834 | R35: 0.59647769 | T35: 4.6235473e-05 | U35: 0.013460148
B36: 4 1 {7} | C36: 0.0059398413 | D36: 0.00012097233 | E36: 5.2128336e-05 | F36: 2.0594465e-05 | G36: 3.9413699e-05 | H36: 0.006168826 | J36: 0.36130434 | M36: 4 3 {7} | N36: 5.334758e-05 | O36: 2.8954213e-05 | P36: 1.7056316e-05 | Q36: 1.9889072e-05 | R36: 2.4081437e-05 | S36: 4.6235473e-05 | U36: 0.00021004677 | AH36: PESO | AI36: Valid N | AK36: PESO | AL36: Valid N | AM36: ES | AN36: dieta | AO36: MAXIMO | AP36: MINIMO | AQ36: PROMEDIO
B37: 4 2 {8} | C37: 0.00050369668 | D37: 3.0891537e-05 | E37: 2.4534476e-05 | F37: 1.7064833e-05 | G37: 2.013745e-05 | H37: 0.00045707848 | I37: 0.36130434 | M37: 4 4 {8} | N37: 0.25702733 | O37: 0.014286007 | P37: 6.7523593e-05 | Q37: 0.00080831681 | R37: 0.0039619198 | S37: 0.013460148 | T37: 0.00021004677 | AG37: G_1:1 | AH37: 1.8151046 | AI37: 22 | AJ37: G_1:1 | AK37: 1.8151046 | AL37: 22 | AM37: =+AK37/SQRT(AL37) -> 0.3869816 | AN37: F1 | AO37: =+AQ37+AM37 -> 2.2020862 | AP37: =+AQ37-AM37 -> 1.428123 | AQ37: 1.8151046
AG38: G_2:2 | AH38: 1.45755 | AI38: 28 | AJ38: G_2:2 | AK38: 1.45755 | AL38: 28 | AM38: =+AK38/SQRT(AL38) -> 0.27545107 | AN38: F2 | AO38: =+AQ38+AM38 -> 1.7330011 | AP38: =+AQ38-AM38 -> 1.182099 | AQ38: 1.45755
B39: Means (smalta.sta) | F39: Standard Deviations (smalta.sta) | M39: Means (smalta.sta) | Q39: Standard Deviations (smalta.sta) | AG39: G_3:3 | AH39: 1.7101103 | AI39: 28 | AJ39: G_3:3 | AK39: 1.7101103 | AL39: 28 | AM39: =+AK39/SQRT(AL39) -> 0.32318047 | AN39: F3 | AO39: =+AQ39+AM39 -> 2.0332908 | AP39: =+AQ39-AM39 -> 1.3869298 | AQ39: 1.7101103
B40: 1 Dependent Variable | F40: 1 Dependent Variable | M40: 1 Dependent Variable | Q40: 1 Dependent Variable | AG40: G_4:4 | AH40: 2.6050715 | AI40: 28 | AJ40: G_4:4 | AK40: 2.6050715 | AL40: 28 | AM40: =+AK40/SQRT(AL40) -> 0.49231225 | AN40: F4 | AO40: =+AQ40+AM40 -> 3.0973838 | AP40: =+AQ40-AM40 -> 2.1127593 | AQ40: 2.6050715
AG41: All Groups | AH41: 1.9015924 | AI41: 106 | AJ41: All Groups | AK41: 1.9015924 | AL41: 106
C42: PESO | D42: Valid N | G42: PESO | H42: Valid N | I42: ES | J42: % ES | N42: PESO | O42: Valid N | R42: PESO | S42: Valid N | T42: ES | U42: % ES
B43: G_1:1 G_1:1 | C43: 1.9258714 | D43: 14 | F43: G_1:1 G_1:1 | G43: 0.45914632 | H43: 14 | I43: =+G43/SQRT(H43) -> 0.12271202 | J43: =+I43*100/C43 -> 6.3717659 | M43: G_1:1 G_1:3 | N43: 2.0643201 | O43: 5 | Q43: G_1:1 G_1:3 | R43: 0.19354177 | S43: 5 | T43: =+R43/SQRT(S43) -> 0.086554509 | U43: =+T43*100/O43 -> 1.7310902 | AF43: * | AG43: PROTEINAS
B44: G_1:1 G_2:2 | C44: 1.6212626 | D44: 8 | F44: G_1:1 G_2:2 | G44: 0.29821116 | H44: 8 | I44: =+G44/SQRT(H44) -> 0.10543357 | J44: =+I44*100/C44 -> 6.5031765 | M44: G_1:1 G_2:4 | N44: 1.7418059 | O44: 17 | Q44: G_1:1 G_2:4 | R44: 0.4530291 | S44: 17 | T44: =+R44/SQRT(S44) -> 0.10987569 | U44: =+T44*100/O44 -> 0.64632762 | AG44: Summary of all Effects; design: (smalta.sta)
B45: G_2:2 G_1:1 | C45: 1.5482929 | D45: 14 | F45: G_2:2 G_1:1 | G45: 0.23629476 | H45: 14 | I45: =+G45/SQRT(H45) -> 0.063152431 | J45: =+I45*100/C45 -> 4.0788427 | M45: G_2:2 G_1:3 | N45: 1.34902 | O45: 10 | Q45: G_2:2 G_1:3 | R45: 0.28828523 | S45: 10 | T45: =+R45/SQRT(S45) -> 0.091163793 | U45: =+T45*100/O45 -> 0.91163793 | AG45: 1-DIETA
B46: G_2:2 G_2:2 | C46: 1.3668071 | D46: 14 | F46: G_2:2 G_2:2 | G46: 0.27783173 | H46: 14 | I46: =+G46/SQRT(H46) -> 0.074253654 | J46: =+I46*100/C46 -> 5.432636 | M46: G_2:2 G_2:4 | N46: 1.5178444 | O46: 18 | Q46: G_2:2 G_2:4 | R46: 0.24599053 | S46: 18 | T46: =+R46/SQRT(S46) -> 0.057980524 | U46: =+T46*100/O46 -> 0.32211402 | AH46: df | AI46: MS | AJ46: df | AK46: MS
B47: G_3:3 G_1:1 | C47: 1.5137922 | D47: 14 | F47: G_3:3 G_1:1 | G47: 0.6966908 | H47: 14 | I47: =+G47/SQRT(H47) -> 0.18619845 | J47: =+I47*100/C47 -> 12.300133 | M47: G_3:3 G_1:3 | N47: 1.633579 | O47: 10 | Q47: G_3:3 G_1:3 | R47: 0.84154963 | S47: 10 | T47: =+R47/SQRT(S47) -> 0.26612136 | U47: =+T47*100/O47 -> 2.6612136 | AH47: Effect | AI47: Effect | AJ47: Error | AK47: Error | AL47: F | AM47: p-level
...

Sheet corre
A2: * | B2: Regression Summary for Dependent Variable: PROT
B3: R= .48557708 R¦= .23578510 Adjusted R¦= .22765516
B4: F(1,94)=29.002 p<.00000 Std.Error of estimate: 55.127
D5: St. Err. | F5: St. Err.
C6: BETA | D6: of BETA | E6: B | F6: of B | G6: t(94) | H6: p-level
B7: Intercpt | E7: 103.07583 | F7: 16.60487 | G7: 6.2075661 | H7: 1.4443935e-08
B8: PESO | C8: 0.48557708 | D8: 0.090166212 | E8: 43.92939 | F8: 8.1571944 | G8: 5.3853553 | H8: 5.3146886e-07
A23: * | B23: Regression Summary for Dependent Variable: GLYCOGEN
B24: R= .43955070 R¦= .19320482 Adjusted R¦= .17566579
B25: F(1,46)=11.016 p<.00177 Std.Error of estimate: 34.363
D26: St. Err. | F26: St. Err.
C27: BETA | D27: of BETA | E27: B | F27: of B | G27: t(46) | H27: p-level
B28: Intercpt | E28: 99.971829 | F28: 15.356381 | G28: 6.5101167 | H28: 4.9608872e-08
B29: PESO | C29: -0.4395507 | D29: 0.13243499 | E29: -24.724743 | F29: 7.4494728 | G29: -3.3189923 | H29: 0.0017731531
A44: * | B44: Regression Summary for Dependent Variable: LACTATE
B45: R= .28846901 R¦= .08321437 Adjusted R¦= .07203406
B46: F(1,82)=7.4429 p<.00779 Std.Error of estimate: .08452
D47: St. Err. | F47: St. Err.
C48: BETA | D48: of BETA | E48: B | F48: of B | G48: t(82) | H48: p-level
B49: Intercpt | E49: 0.058240499 | F49: 0.018237274 | G49: 3.193487 | H49: 0.0019946711
B50: TRIACIL | C50: 0.28846901 | D50: 0.105737 | E50: 0.023028697 | F50: 0.0084410635 | G50: 2.7281748 | H50: 0.0077892533

Sheet STD DIETAS
N1: PROMEDIO | O1: g/día
N2: prote | O2: creci
M3: F2 | N3: 159.42969 | O3: =+(N3-K2)/30 -> 5.3143229
A4: PROTEINAS VS DIETAS | M4: F3 | N4: 166.11139 | O4: =+(N4-K3)/30 -> 5.5370463
A5: Summary of all Effects; design: (smalta.sta) | M5: F1 | N5: 180.02299 | O5: =+(N5-K4)/30 -> 6.0007665
A6: 1-DIETA | M6: F4 | N6: 249.31349 | O6: =+(N6-K5)/30 -> 8.3104497
B7: df | C7: MS | D7: df | E7: MS
B8: Effect | C8: Effect | D8: Error | E8: Error | F8: F | G8: p-level
A9: 1 | B9: 3 | C9: 40586.016 | D9: 92 | E9: 2739.5393 | F9: 14.814904 | G9: 6.0156381e-08
A11: Means (smalta.sta) | D11: Standard Deviations (smalta.sta)
A12: 1 Dependent Variable | D12: 1 Dependent Variable
G13: ES | K13: prote | L13: creci
B14: PROT | C14: Valid N | E14: PROT | F14: Valid N | H14: DIETA | I14: MINIMO | J14: MAXIMO | K14: PROMEDIO | L14: g/día
A15: G_1:1 | B15: 180.02299 | C15: 21 | D15: G_1:1 | E15: 33.09763 | F15: 21 | G15: =+E15/SQRT(F15) -> 7.2224949 | H15: 1 | I15: =+K15-G15 -> 172.8005 | J15: =+K15+G15 -> 187.24549 | K15: 180.02299 | L15: =+(K15-H15)/30 -> 5.9674332
A16: G_2:2 | B16: 159.42969 | C16: 27 | D16: G_2:2 | E16: 41.849556 | F16: 27 | G16: =+E16/SQRT(F16) -> 8.0539508 | H16: 2 | I16: =+K16-G16 -> 151.37574 | J16: =+K16+G16 -> 167.48364 | K16: 159.42969 | L16: =+(K16-H16)/30 -> 5.2476563
A17: G_3:3 | B17: 166.11139 | C17: 25 | D17: G_3:3 | E17: 35.396896 | F17: 25 | G17: =+E17/SQRT(F17) -> 7.0793793 | H17: 3 | I17: =+K17-G17 -> 159.03201 | J17: =+K17+G17 -> 173.19077 | K17: 166.11139 | L17: =+(K17-H17)/30 -> 5.4370463
A18: G_4:4 | B18: 249.31349 | C18: 23 | D18: G_4:4 | E18: 83.807671 | F18: 23 | G18: =+E18/SQRT(F18) -> 17.475107 | H18: 4 | I18: =+K18-G18 -> 231.83838 | J18: =+K18+G18 -> 266.7886 | K18: 249.31349 | L18: =+(K18-H18)/30 -> 8.1771164
A19: All Groups | B19: 187.20917 | C19: 96 | D19: All Groups | E19: 62.727116 | F19: 96
A41: Duncan test; PROT (smalta.sta)
A42: Probabilities for Post Hoc Tests
A43: MAIN EFFECT: DIETA
B44: {1} | C44: {2} | D44: {3} | E44: {4}
B45: 180.0230 | C45: 159.4297 | D45: 166.1114 | E45: 249.3135
A46: 1 {1} | C46: 0.20490146 | D46: 0.36182225 | E46: 0.0001257658
A47: 2 {2} | B47: 0.20490146 | D47: 0.6608882 | E47: 4.7904559e-05
A48: 3 {3} | B48: 0.36182225 | C48: 0.6608882 | E48: 5.310915e-05
A49: 4 {4} | B49: 0.0001257658 | C49: 4.7904559e-05 | D49: 5.310915e-05
